BEGIN:VCALENDAR
VERSION:2.0
PRODID:-//ChamberMaster//Event Calendar 2.0//EN
METHOD:PUBLISH
X-PUBLISHED-TTL:P3D
REFRESH-INTERVAL:P3D
CALSCALE:GREGORIAN
BEGIN:VEVENT
DTSTART:20200410T170000Z
DTEND:20200410T180000Z
X-MICROSOFT-CDO-ALLDAYEVENT:FALSE
SUMMARY:Zoom: Construction in the Age of COVID-19: How are Firms Keeping Projects Online?
DESCRIPTION:Construction in the Age of COVID-19: How are Firms Keeping Projects Online?\n\nhttps://zoom.us/webinar/register/WN_0EWeb3Z9SUC1BVsdpCEnbw
X-ALT-DESC;FMTTYPE=text/html:Construction in the Age of COVID-19: How are Firms Keeping Projects Online?<br />\nhttps://zoom.us/webinar/register/WN_0EWeb3Z9SUC1BVsdpCEnbw
LOCATION:
UID:e.9458.3079
SEQUENCE:3
DTSTAMP:20260421T214947Z
URL:http://fabava.memberzone.com/events/details/zoom-construction-in-the-age-of-covid-19-how-are-firms-keeping-projects-online-3079
END:VEVENT

END:VCALENDAR
