BEGIN:VCALENDAR
VERSION:2.0
PRODID:-//ChamberMaster//Event Calendar 2.0//EN
METHOD:PUBLISH
X-PUBLISHED-TTL:P3D
REFRESH-INTERVAL:P3D
CALSCALE:GREGORIAN
BEGIN:VEVENT
DTSTART:20220412T193000Z
DTEND:20220412T203000Z
X-MICROSOFT-CDO-ALLDAYEVENT:FALSE
SUMMARY:Young Professionals Meeting
DESCRIPTION:The young professionals group is designed for all members under 40 years old who are new or looking to grow in the building industry. Our goal is to educate each other and the association\, grow the next generation of members and help each other grow in our respective fields. \n\nWe meet bi-monthly at the FABA office from 3:30-4:30. \n\nPlease join us for networking\, planning and building up our association.
X-ALT-DESC;FMTTYPE=text/html:The young professionals group is designed for all members under 40 years old who are new or looking to grow in the building industry. Our goal is to educate each other and the association\, grow the next generation of members and help each other grow in our respective fields.&nbsp\;<br />\nWe meet bi-monthly at the FABA office from 3:30-4:30.&nbsp\;<br />\nPlease join us for networking\, planning and building up our association.&nbsp\;
LOCATION:The FABA office 3006 Lafayette Blvd. Fredericksburg\, VA 22408
UID:e.9458.3554
SEQUENCE:3
DTSTAMP:20260419T233538Z
URL:http://fabava.memberzone.com/events/details/young-professionals-meeting-04-12-2022-3554
END:VEVENT

END:VCALENDAR
