BEGIN:VCALENDAR
VERSION:2.0
PRODID:-//ChamberMaster//Event Calendar 2.0//EN
METHOD:PUBLISH
X-PUBLISHED-TTL:P3D
REFRESH-INTERVAL:P3D
CALSCALE:GREGORIAN
BEGIN:VEVENT
DTSTART:20200410T150000Z
DTEND:20200410T160000Z
X-MICROSOFT-CDO-ALLDAYEVENT:FALSE
SUMMARY:Webinar: WBC COVID-19 Employment Law Update for Contractors
DESCRIPTION:WBC COVID-19 Employment Law Update for Contractors    \n\n\n\nhttps://register.gotowebinar.com/register/8389130089861438477?source=WBC
X-ALT-DESC;FMTTYPE=text/html:WBC COVID-19 Employment Law Update for Contractors&nbsp\;&nbsp\;&nbsp\;&nbsp\;<br />\n<br />\nhttps://register.gotowebinar.com/register/8389130089861438477?source=WBC
LOCATION:
UID:e.9458.3078
SEQUENCE:3
DTSTAMP:20260421T214615Z
URL:http://fabava.memberzone.com/events/details/webinar-wbc-covid-19-employment-law-update-for-contractors-3078
END:VEVENT

END:VCALENDAR
