BEGIN:VCALENDAR
VERSION:2.0
PRODID:-//ChamberMaster//Event Calendar 2.0//EN
METHOD:PUBLISH
X-PUBLISHED-TTL:P3D
REFRESH-INTERVAL:P3D
CALSCALE:GREGORIAN
BEGIN:VEVENT
DTSTART:20200807T140000Z
DTEND:20200807T150000Z
X-MICROSOFT-CDO-ALLDAYEVENT:FALSE
SUMMARY:Webinar: Virginia Dept of Labor and Industry Emergency Standard Regulations: Requirements for Virginia Employers (HBAV/FABA members only)
DESCRIPTION:Virginia Department of Labor and Industry Emergency Standard Regulations: Requirements for Virginia Employers\n\nAugust 7\, 2020 | 10:00 am\n\nJoin the Home Builders Association of Virginia on Friday\, August 7th for a free HBAV member only webinar. David Burton\, Partner at Williams Mullen\, will cover the requirements to comply with the Virginia Department of Labor's Emergency Regulations.\n\n\n\nThe following topics will be covered:\n\n  Outline of DOLI Emergency Regulations\n\n  Virginia Employer Requirements to Comply\n\n  Resources for Compliance\n\n  Deadlines for Employer Compliance\n\n\nClick here to register\n\n\nResources Relating to DOLI Regulations\n\nWilliams Mullen Legal Briefing\n\nText of Regulation\n\nDOLI Outreach\, Education and Training\n\nContact FABA if you need assistance registering for this webinar.
X-ALT-DESC;FMTTYPE=text/html:<p style="box-sizing: border-box\; margin: 0px\; padding: 0px 0px 1em\; border: 0px\; outline: 0px\; font-size: 15px\; text-size-adjust: 100%\; vertical-align: baseline\; background-image: initial\; background-position: initial\; background-size: initial\; background-repeat: initial\; background-attachment: initial\; background-origin: initial\; background-clip: initial\; color: rgb(102\, 102\, 102)\; font-family: &quot\;Open Sans&quot\;\, Helvetica\, Arial\, Lucida\, sans-serif\;">Virginia Department of Labor and Industry Emergency Standard Regulations: Requirements for Virginia Employers<br style="box-sizing: border-box\;" />\nAugust 7\, 2020 | 10:00 am</p>\n\n<p style="box-sizing: border-box\; margin: 0px\; padding: 0px 0px 1em\; border: 0px\; outline: 0px\; font-size: 15px\; text-size-adjust: 100%\; vertical-align: baseline\; background-image: initial\; background-position: initial\; background-size: initial\; background-repeat: initial\; background-attachment: initial\; background-origin: initial\; background-clip: initial\; color: rgb(102\, 102\, 102)\; font-family: &quot\;Open Sans&quot\;\, Helvetica\, Arial\, Lucida\, sans-serif\;">Join the Home Builders Association of Virginia on Friday\, August 7th for a free HBAV member only webinar. David Burton\, Partner at Williams Mullen\, will cover the requirements to comply with the Virginia Department of Labor&rsquo\;s Emergency Regulations.<br style="box-sizing: border-box\;" />\n<br style="box-sizing: border-box\;" />\nThe following topics will be covered:<br style="box-sizing: border-box\;" />\n&ndash\; Outline of DOLI Emergency Regulations<br style="box-sizing: border-box\;" />\n&ndash\; Virginia Employer Requirements to Comply<br style="box-sizing: border-box\;" />\n&ndash\; Resources for Compliance<br style="box-sizing: border-box\;" />\n&ndash\; Deadlines for Employer Compliance</p>\n\n<div class="wp-block-buttons" style="box-sizing: border-box\; margin: 0px\; padding: 0px\; border: 0px\; outline: 0px\; font-size: 15px\; text-size-adjust: 100%\; vertical-align: baseline\; background-image: initial\; background-position: initial\; background-size: initial\; background-repeat: initial\; background-attachment: initial\; background-origin: initial\; background-clip: initial\; color: rgb(102\, 102\, 102)\; font-family: &quot\;Open Sans&quot\;\, Helvetica\, Arial\, Lucida\, sans-serif\;">\n<div class="wp-block-button" style="box-sizing: border-box\; margin: 0px 8px 8px 0px\; padding: 0px\; border: 0px\; outline: 0px\; text-size-adjust: 100%\; vertical-align: baseline\; background: transparent\; color: rgb(255\, 255\, 255)\; display: inline-block\;"><a class="wp-block-button__link" href="http://r20.rs6.net/tn.jsp?f=001mi0ynWDh7Hs7sGd89GxL4UtzE6WzeFEJiRjTyqrJr3JAO2-AqCEpGJb_NZpQoD_CSPkRkKNSInOoLqVfnOaolgeK3ajgu2h4uk35_LoP9mS-45DqbWYs6MAdqECIS9eUGXyy5gJtAt-Adh_UewkW1quOOPjUzPwT717s0UtLwelYSYGN-gg29T0PvzFAsy5soBR6BFg8YoZ4z5-yZKLd0Q==&amp\;c=_cFfJi9eR8lKBevTQOgjn5qBrCR4D4Zs-ITEmtXW76TQR_qCYCmNdw==&amp\;ch=TJ2i9PjHTLFvqHm8XnQS89KAH_N--T-xbSHwwSAvR_BEhxYtpKA0jw==" style="box-sizing: border-box\; margin: 0px\; padding: 12px 24px\; border: none\; outline: 0px\; font-size: 18px\; text-size-adjust: 100%\; vertical-align: baseline\; background: rgb(50\, 55\, 60)\; color: inherit\; text-decoration-line: none\; border-radius: 28px\; box-shadow: none\; cursor: pointer\; display: inline-block\; text-align: center\; overflow-wrap: break-word\;">Click here to register</a></div>\n</div>\n\n<p style="box-sizing: border-box\; margin: 0px\; padding: 0px 0px 1em\; border: 0px\; outline: 0px\; font-size: 15px\; text-size-adjust: 100%\; vertical-align: baseline\; background-image: initial\; background-position: initial\; background-size: initial\; background-repeat: initial\; background-attachment: initial\; background-origin: initial\; background-clip: initial\; color: rgb(102\, 102\, 102)\; font-family: &quot\;Open Sans&quot\;\, Helvetica\, Arial\, Lucida\, sans-serif\;">Resources Relating to DOLI Regulations</p>\n\n<p style="box-sizing: border-box\; margin: 0px\; padding: 0px 0px 1em\; border: 0px\; outline: 0px\; font-size: 15px\; text-size-adjust: 100%\; vertical-align: baseline\; background-image: initial\; background-position: initial\; background-size: initial\; background-repeat: initial\; background-attachment: initial\; background-origin: initial\; background-clip: initial\; color: rgb(102\, 102\, 102)\; font-family: &quot\;Open Sans&quot\;\, Helvetica\, Arial\, Lucida\, sans-serif\;"><a href="http://r20.rs6.net/tn.jsp?f=001mi0ynWDh7Hs7sGd89GxL4UtzE6WzeFEJiRjTyqrJr3JAO2-AqCEpGJb_NZpQoD_CFgn_9C5IU6XGAqqc1TR4Ul_PPZPwuFKZ-K6KE_RL_0SJ3U_OUJAS4ZhL8BtTBKIZKNqBaLpyWM2AShuEbW8atKFRf6hw-gQQnlzaAY2QDVxFyDeBPRxFFCtVAXoC4C83wiAOhVtNCbIbnTJWZccL815DEFTqJ4_QNCLo6Xj26lcskynPRAra40q2e5rZuOPA5F38AF5dyEqTOo5VcMHInIgaqM0kuHFG&amp\;c=_cFfJi9eR8lKBevTQOgjn5qBrCR4D4Zs-ITEmtXW76TQR_qCYCmNdw==&amp\;ch=TJ2i9PjHTLFvqHm8XnQS89KAH_N--T-xbSHwwSAvR_BEhxYtpKA0jw==" style="box-sizing: border-box\; margin: 0px\; padding: 0px\; border: 0px\; outline: 0px\; text-size-adjust: 100%\; vertical-align: baseline\; background: transparent\; color: rgb(38\, 96\, 107)\; text-decoration-line: none\;">Williams Mullen Legal Briefing</a><br style="box-sizing: border-box\;" />\n<a href="http://r20.rs6.net/tn.jsp?f=001mi0ynWDh7Hs7sGd89GxL4UtzE6WzeFEJiRjTyqrJr3JAO2-AqCEpGJb_NZpQoD_CsW_9o1WFom54e-qKrUUlmCZE6uzDAumnv_3DW0gFAeeWO9afC66oghhQ4Zuh1v2CWisBc0NgKMVBCyEZQXm0ovI0laDZBGI5JMTzKXQ9UUnqu8_2YlCwlGQnR2JgCp6XxuSTa_7zSyqG1UqgiG-_8ESHAiyLOYhgUZ0rA2pirsqir890dcEQdg==&amp\;c=_cFfJi9eR8lKBevTQOgjn5qBrCR4D4Zs-ITEmtXW76TQR_qCYCmNdw==&amp\;ch=TJ2i9PjHTLFvqHm8XnQS89KAH_N--T-xbSHwwSAvR_BEhxYtpKA0jw==" style="box-sizing: border-box\; margin: 0px\; padding: 0px\; border: 0px\; outline: 0px\; text-size-adjust: 100%\; vertical-align: baseline\; background: transparent\; color: rgb(38\, 96\, 107)\; text-decoration-line: none\;">Text of Regulation</a><br style="box-sizing: border-box\;" />\n<a href="http://r20.rs6.net/tn.jsp?f=001mi0ynWDh7Hs7sGd89GxL4UtzE6WzeFEJiRjTyqrJr3JAO2-AqCEpGJb_NZpQoD_Cq8OPRXkOSRP8qd2kCLE8GQwBDsvlUkDoyciQd7bnSFgX5rD1RrDojOUjOgxelsvE-EPeXlf3Lr5L_GKXv0Q7Av00E0DkBZorNjuK2UHHpeNCF1eo11XIpExpPCKgQPOMmiwqADXLboY1x7D48TsY6y3BnKyDGUtD7eyvGx4BEXCiFXiT-rubwhAxaHsqm_San4FHknQlZ4nDwswg0d_R2Wq5GND2VVH8eJ4tzXgFV7QcaJ4OuqOUCg==&amp\;c=_cFfJi9eR8lKBevTQOgjn5qBrCR4D4Zs-ITEmtXW76TQR_qCYCmNdw==&amp\;ch=TJ2i9PjHTLFvqHm8XnQS89KAH_N--T-xbSHwwSAvR_BEhxYtpKA0jw==" style="box-sizing: border-box\; margin: 0px\; padding: 0px\; border: 0px\; outline: 0px\; text-size-adjust: 100%\; vertical-align: baseline\; background: transparent\; color: rgb(38\, 96\, 107)\; text-decoration-line: none\;">DOLI Outreach\, Education and Training</a></p>\n\n<p style="box-sizing: border-box\; margin: 0px\; padding: 0px\; border: 0px\; outline: 0px\; font-size: 15px\; text-size-adjust: 100%\; vertical-align: baseline\; background-image: initial\; background-position: initial\; background-size: initial\; background-repeat: initial\; background-attachment: initial\; background-origin: initial\; background-clip: initial\; color: rgb(102\, 102\, 102)\; font-family: &quot\;Open Sans&quot\;\, Helvetica\, Arial\, Lucida\, sans-serif\;">Contact FABA if you need assistance registering for this webinar.</p>\n
LOCATION:
UID:e.9458.3133
SEQUENCE:3
DTSTAMP:20260421T143739Z
URL:http://fabava.memberzone.com/events/details/webinar-virginia-dept-of-labor-and-industry-emergency-standard-regulations-requirements-for-virginia-employers-hbav-faba-members-only-3133
END:VEVENT

END:VCALENDAR
