BEGIN:VCALENDAR
VERSION:2.0
PRODID:-//ChamberMaster//Event Calendar 2.0//EN
METHOD:PUBLISH
X-PUBLISHED-TTL:P3D
REFRESH-INTERVAL:P3D
CALSCALE:GREGORIAN
BEGIN:VEVENT
DTSTART:20200513T160000Z
DTEND:20200513T170000Z
X-MICROSOFT-CDO-ALLDAYEVENT:FALSE
SUMMARY:Webinar: Transitioning to the new normal – Strategic HR and Benefit Considerations for Returning to Work (Webinar by HBAV)
DESCRIPTION:HBAV Insurance Agencies partner team of HR Professionals with One Digital Health and Benefits will update HBAV members on:\n\n\n	Post COVID-19 Recovery Plan- Thinking Strategically about HR\, Benefits and Employee Engagement\n	Building your recovery HR strategy from the ground up\n	Strategic Leadership Planning for both the short term and long term new environment.\n	Families First Coronavirus Response Act- Emergency Sick Leave and Expanded FMLA\n	How to handle employee benefits for furloughed and laid off employees\n\n\n\nClick here to Register
X-ALT-DESC;FMTTYPE=text/html:<p style="box-sizing: border-box\; margin: 0px\; padding: 0px\; border: 0px\; outline: 0px\; font-size: 15px\; text-size-adjust: 100%\; vertical-align: baseline\; background-image: initial\; background-position: initial\; background-size: initial\; background-repeat: initial\; background-attachment: initial\; background-origin: initial\; background-clip: initial\; color: rgb(102\, 102\, 102)\; font-family: &quot\;Open Sans&quot\;\, Helvetica\, Arial\, Lucida\, sans-serif\;">HBAV Insurance Agencies partner team of HR Professionals with One Digital Health and Benefits will update HBAV members on:</p>\n\n<ul style="box-sizing: border-box\; margin: 0px\; padding-right: 0px\; padding-bottom: 23px\; padding-left: 1em\; border: 0px\; outline: 0px\; font-size: 15px\; text-size-adjust: 100%\; vertical-align: baseline\; background-image: initial\; background-position: initial\; background-size: initial\; background-repeat: initial\; background-attachment: initial\; background-origin: initial\; background-clip: initial\; list-style-position: initial\; list-style-image: initial\; line-height: 26px\; color: rgb(102\, 102\, 102)\; font-family: &quot\;Open Sans&quot\;\, Helvetica\, Arial\, Lucida\, sans-serif\;">\n	<li style="box-sizing: border-box\; margin: 0px\; padding: 0px\; border: 0px\; outline: 0px\; text-size-adjust: 100%\; vertical-align: baseline\; background: transparent\;">Post COVID-19 Recovery Plan- Thinking Strategically about HR\, Benefits and Employee Engagement</li>\n	<li style="box-sizing: border-box\; margin: 0px\; padding: 0px\; border: 0px\; outline: 0px\; text-size-adjust: 100%\; vertical-align: baseline\; background: transparent\;">Building your recovery HR strategy from the ground up</li>\n	<li style="box-sizing: border-box\; margin: 0px\; padding: 0px\; border: 0px\; outline: 0px\; text-size-adjust: 100%\; vertical-align: baseline\; background: transparent\;">Strategic Leadership Planning for both the short term and long term new environment.</li>\n	<li style="box-sizing: border-box\; margin: 0px\; padding: 0px\; border: 0px\; outline: 0px\; text-size-adjust: 100%\; vertical-align: baseline\; background: transparent\;">Families First Coronavirus Response Act- Emergency Sick Leave and Expanded FMLA</li>\n	<li style="box-sizing: border-box\; margin: 0px\; padding: 0px\; border: 0px\; outline: 0px\; text-size-adjust: 100%\; vertical-align: baseline\; background: transparent\;">How to handle employee benefits for furloughed and laid off employees</li>\n</ul>\n\n<div class="wp-block-buttons" style="box-sizing: border-box\; margin: 0px\; padding: 0px\; border: 0px\; outline: 0px\; font-size: 15px\; text-size-adjust: 100%\; vertical-align: baseline\; background-image: initial\; background-position: initial\; background-size: initial\; background-repeat: initial\; background-attachment: initial\; background-origin: initial\; background-clip: initial\; color: rgb(102\, 102\, 102)\; font-family: &quot\;Open Sans&quot\;\, Helvetica\, Arial\, Lucida\, sans-serif\;">\n<div class="wp-block-button" style="box-sizing: border-box\; margin: 0px 8px 8px 0px\; padding: 0px\; border: 0px\; outline: 0px\; text-size-adjust: 100%\; vertical-align: baseline\; background: transparent\; color: rgb(255\, 255\, 255)\; display: inline-block\;"><a class="wp-block-button__link" href="http://r20.rs6.net/tn.jsp?f=001XcHX9rH18hirujsrPmGDR52Ucm6Yu9LwiOD5qtVL7uc4hJoVJD6CIMu7l77CylkTO5kqWiKWvTY4EYW4xtOV_jWQVsULyPWW9HLNU-qfVigTBUk_DJzcWACHAhmo1v77yFTeoDjRy-NQpNNO17ODovkVFxRh2lI4oGrvk-DxksyoomJtl4I2wLZ2IDFqNOzNN_oYq5ub2Wq31Epe0dRpXA==&amp\;c=IaEHDo7CslTTJ8IWb2xB6xYZVn87fwuIetrBTh1ByxNWIo5gLgWOUg==&amp\;ch=odyPpuQcv7UnLlfvtd78eFPDKXw25OaU0HmQLXvZudT7fuqE595cKw==" style="box-sizing: border-box\; margin: 0px\; padding: 12px 24px\; border: none\; outline: 0px\; font-size: 18px\; text-size-adjust: 100%\; vertical-align: baseline\; background: rgb(50\, 55\, 60)\; color: inherit\; text-decoration-line: none\; border-radius: 28px\; box-shadow: none\; cursor: pointer\; display: inline-block\; text-align: center\; overflow-wrap: break-word\;">Click here to Register</a></div>\n</div>\n
LOCATION:
UID:e.9458.3099
SEQUENCE:3
DTSTAMP:20260421T214615Z
URL:http://fabava.memberzone.com/events/details/webinar-transitioning-to-the-new-normal-strategic-hr-and-benefit-considerations-for-returning-to-work-webinar-by-hbav-3099
END:VEVENT

END:VCALENDAR
