BEGIN:VCALENDAR
VERSION:2.0
PRODID:-//ChamberMaster//Event Calendar 2.0//EN
METHOD:PUBLISH
X-PUBLISHED-TTL:P3D
REFRESH-INTERVAL:P3D
CALSCALE:GREGORIAN
BEGIN:VEVENT
DTSTART:20200414T160000Z
DTEND:20200414T170000Z
X-MICROSOFT-CDO-ALLDAYEVENT:FALSE
SUMMARY:Webinar: Shift your Ad Strategies Now for our New Normal
DESCRIPTION:No More Hugs or Handshakes -- Shift Your Ad Strategies Now For Our New Normal\nToday's home shoppers are in a different place than they were a month ago. Did you know that 57% of consumers said they would not buy a product if the product's ad included people hugging? Have you shifted your approach in today's climate to make sure you're connecting with home buyers? It's time to make sure that every advertising dollar is effective and delivering a strong ROI. During this webinar\, our advertising experts will cover the strategies\, tactics and messages you need to be considering right now. \n\n \nhttps://register.gotowebinar.com/register/4958840728353946892
X-ALT-DESC;FMTTYPE=text/html:<div class="header" data-active-view="true" data-view="registration/header/header" style="box-sizing: border-box\; overflow-wrap: break-word\; font-family: lato-regular\, &quot\;Helvetica Neue&quot\;\, Helvetica\, Arial\, sans-serif\; font-size: 14px\;">\n<h1 class="word-wrap-break" data-bind="style:{color:getBrandingInfo().selectedHeaderColor}\, text:getWebinarInfo().subject" style="box-sizing: border-box\; overflow-wrap: break-word\; margin: 40px 0px\; font-family: lato-light\, &quot\;Helvetica Neue&quot\;\, Helvetica\, Arial\, sans-serif\; letter-spacing: -1px\; line-height: 1\; color: rgb(17\, 76\, 127)\; text-shadow: none\; font-size: 36px\; text-align: center\;">No More Hugs or Handshakes -- Shift Your Ad Strategies Now For Our New Normal</h1>\n<span style="font-family: lato-regular\, HelveticaNeueW01-55Roma\, &quot\;Helvetica Neue&quot\;\, Helvetica\, Arial\, sans-serif\; font-size: 14px\; white-space: pre-wrap\;">Today&rsquo\;s home shoppers are in a different place than they were a month ago. Did you know that 57% of consumers said they would not buy a product if the product&#39\;s ad included people hugging? Have you shifted your approach in today&#39\;s climate to make sure you&#39\;re connecting with home buyers? It&#39\;s time to make sure that every advertising dollar is effective and delivering a strong ROI. During this webinar\, our advertising experts will cover the strategies\, tactics and messages you need to be considering right now. </span><br />\n&nbsp\;</div>\n<span style="color: rgb(0\, 0\, 238)\; font-family: Calibri\, sans-serif\; font-size: 14.6667px\; text-decoration-line: underline\;">https://register.gotowebinar.com/register/4958840728353946892</span>
LOCATION:
UID:e.9458.3082
SEQUENCE:3
DTSTAMP:20260421T214458Z
URL:http://fabava.memberzone.com/events/details/webinar-shift-your-ad-strategies-now-for-our-new-normal-3082
END:VEVENT

END:VCALENDAR
