BEGIN:VCALENDAR
VERSION:2.0
PRODID:-//ChamberMaster//Event Calendar 2.0//EN
METHOD:PUBLISH
X-PUBLISHED-TTL:P3D
REFRESH-INTERVAL:P3D
CALSCALE:GREGORIAN
BEGIN:VEVENT
DTSTART:20200623T160000Z
DTEND:20200623T170000Z
X-MICROSOFT-CDO-ALLDAYEVENT:FALSE
SUMMARY:Webinar - Returning to Work and COVID-19: HR Policies and Recommendations (HBAV)
DESCRIPTION:Join HBAV on Tuesday\, June 23rd for a webinar featuring David Burton\, Partner at Williams Mullen\, for a free member-only webinar.\n\n\n\nThe following topics will be covered\;\n\nReturn to work policies\n\nHow to handle COVID-19 in the workplace\n\nWhat procedures to take when an employee has come into contact with someone with COVID-19\n\nContract tracing\n\nWhat to do if one of your employees tests positive for COVID-19\, and\n\nVDOLI Emergency Regulations regarding COVID-19\n\n\nTuesday\, June 23\, 2020 | 12:00 pm (noon)
X-ALT-DESC;FMTTYPE=text/html:<!-- wp:paragraph -->\n<p>Join HBAV on Tuesday\, June 23rd for a webinar featuring David Burton\, Partner at Williams Mullen\, for a free member-only webinar.<br />\n<br />\nThe following topics will be covered\;<br />\nReturn to work policies<br />\nHow to handle COVID-19 in the workplace<br />\nWhat procedures to take when an employee has come into contact with someone with COVID-19<br />\nContract tracing<br />\nWhat to do if one of your employees tests positive for COVID-19\, and<br />\nVDOLI Emergency Regulations regarding COVID-19</p>\n<!-- /wp:paragraph --><!-- wp:paragraph -->\n\n<p>Tuesday\, June 23\, 2020 | 12:00 pm (noon)</p>\n<!-- /wp:paragraph -->
LOCATION:CLICK TO REGISTER
UID:e.9458.3111
SEQUENCE:3
DTSTAMP:20260421T195407Z
URL:http://fabava.memberzone.com/events/details/webinar-returning-to-work-and-covid-19-hr-policies-and-recommendations-hbav-3111
END:VEVENT

END:VCALENDAR
