BEGIN:VCALENDAR
VERSION:2.0
PRODID:-//ChamberMaster//Event Calendar 2.0//EN
METHOD:PUBLISH
X-PUBLISHED-TTL:P3D
REFRESH-INTERVAL:P3D
CALSCALE:GREGORIAN
BEGIN:VEVENT
DTSTART:20200625T180000Z
DTEND:20200625T200000Z
X-MICROSOFT-CDO-ALLDAYEVENT:FALSE
SUMMARY:Webinar: Remodeling Economic Outlook: Housing Changes After COVID-19 (NAHB)
DESCRIPTION:Join the top remodeling analysts in the nation for a comprehensive review of economic and housing conditions related to the home improvement industry. The authors of flagship industry research products (NAHB Remodeling Market Index\, the Harvard University Leading Indicator of Remodeling Activity\, and the NKBA/JBREC Kitchen and Bath Market Index) come together to provide insights on the outlook for remodeling\, market challenges\, and preference changes for housing as the economy reopens following COVID-19 mitigation efforts.  Demand\, design\, product evolution and supply-side challenges will also be explored.\n\nParticipants in this webinar will:\n\n\n	  Recognize the shift in remodeling trends due to the COVID-19 pandemic.\n	  Identify remodeling challenges for the remainder of 2020.\n	  Identify product demand and design preferences for reopening and work-at-home environments.\n\n\nModerator: Vince Butler\, Butler Brothers\, Inc.\n\nSpeakers:\n\n\n	  Todd Tomalak\, John Burns Real Estate Consulting\n	  Abbe Will\, Harvard University Joint Center for Housing Studies\n	  Rob Dietz\, NAHB\n\n\nNAHB Continuing Education: 1.0 hours of continuing education credits for the following 12 designations: CAPS\, CGA\, CGB\, CGP\, CGR\, CMP\, CSP\, GMB\, GMR\, Master CGP\, Master CSP\, MIRM.\n\nLive Webinars: Individuals who register for a live webinar are provided access to the webinar replay  for 12 months from the date of webinar.\n\nRegistration Info:  Registration is open until 3 p.m. ET (12 p.m. PT) on Wednesday\, June 24. You may need your NAHB Pin number to create a log in\, if you do not have this information\, please contact FABA.\n\nFREE\n\n\nCLICK HERE TO REGISTER
X-ALT-DESC;FMTTYPE=text/html:<p style="box-sizing: border-box\; margin: 0px\; padding: 0px 0px 1em\; border: 0px\; outline: 0px\; font-size: 15px\; text-size-adjust: 100%\; vertical-align: baseline\; background-image: initial\; background-position: initial\; background-size: initial\; background-repeat: initial\; background-attachment: initial\; background-origin: initial\; background-clip: initial\; color: rgb(102\, 102\, 102)\; font-family: &quot\;Open Sans&quot\;\, Helvetica\, Arial\, Lucida\, sans-serif\;">Join the top remodeling analysts in the nation for a comprehensive review of economic and housing conditions related to the home improvement industry. The authors of flagship industry research products (NAHB Remodeling Market Index\, the Harvard University Leading Indicator of Remodeling Activity\, and the NKBA/JBREC Kitchen and Bath Market Index) come together to provide insights on the outlook for remodeling\, market challenges\, and preference changes for housing as the economy reopens following COVID-19 mitigation efforts.&nbsp\; Demand\, design\, product evolution and supply-side challenges will also be explored.</p>\n\n<p style="box-sizing: border-box\; margin: 0px\; padding: 0px 0px 1em\; border: 0px\; outline: 0px\; font-size: 15px\; text-size-adjust: 100%\; vertical-align: baseline\; background-image: initial\; background-position: initial\; background-size: initial\; background-repeat: initial\; background-attachment: initial\; background-origin: initial\; background-clip: initial\; color: rgb(102\, 102\, 102)\; font-family: &quot\;Open Sans&quot\;\, Helvetica\, Arial\, Lucida\, sans-serif\;"><span style="box-sizing: border-box\; margin: 0px\; padding: 0px\; border: 0px\; outline: 0px\; text-size-adjust: 100%\; vertical-align: baseline\; background: transparent\; font-weight: 700\;">Participants in this webinar will:</span></p>\n\n<ul style="box-sizing: border-box\; margin: 0px\; padding-right: 0px\; padding-bottom: 23px\; padding-left: 1em\; border: 0px\; outline: 0px\; font-size: 15px\; text-size-adjust: 100%\; vertical-align: baseline\; background-image: initial\; background-position: initial\; background-size: initial\; background-repeat: initial\; background-attachment: initial\; background-origin: initial\; background-clip: initial\; list-style-position: initial\; list-style-image: initial\; line-height: 26px\; color: rgb(102\, 102\, 102)\; font-family: &quot\;Open Sans&quot\;\, Helvetica\, Arial\, Lucida\, sans-serif\;">\n	<li style="box-sizing: border-box\; margin: 0px\; padding: 0px\; border: 0px\; outline: 0px\; text-size-adjust: 100%\; vertical-align: baseline\; background: transparent\;">&ndash\; Recognize the shift in remodeling trends due to the COVID-19 pandemic.</li>\n	<li style="box-sizing: border-box\; margin: 0px\; padding: 0px\; border: 0px\; outline: 0px\; text-size-adjust: 100%\; vertical-align: baseline\; background: transparent\;">&ndash\; Identify remodeling challenges for the remainder of 2020.</li>\n	<li style="box-sizing: border-box\; margin: 0px\; padding: 0px\; border: 0px\; outline: 0px\; text-size-adjust: 100%\; vertical-align: baseline\; background: transparent\;">&ndash\; Identify product demand and design preferences for reopening and work-at-home environments.</li>\n</ul>\n\n<p style="box-sizing: border-box\; margin: 0px\; padding: 0px 0px 1em\; border: 0px\; outline: 0px\; font-size: 15px\; text-size-adjust: 100%\; vertical-align: baseline\; background-image: initial\; background-position: initial\; background-size: initial\; background-repeat: initial\; background-attachment: initial\; background-origin: initial\; background-clip: initial\; color: rgb(102\, 102\, 102)\; font-family: &quot\;Open Sans&quot\;\, Helvetica\, Arial\, Lucida\, sans-serif\;"><span style="box-sizing: border-box\; margin: 0px\; padding: 0px\; border: 0px\; outline: 0px\; text-size-adjust: 100%\; vertical-align: baseline\; background: transparent\; font-weight: 700\;">Moderator:&nbsp\;</span>Vince Butler<span style="box-sizing: border-box\; margin: 0px\; padding: 0px\; border: 0px\; outline: 0px\; text-size-adjust: 100%\; vertical-align: baseline\; background: transparent\; font-weight: 700\;">\,&nbsp\;</span>Butler Brothers\, Inc.</p>\n\n<p style="box-sizing: border-box\; margin: 0px\; padding: 0px 0px 1em\; border: 0px\; outline: 0px\; font-size: 15px\; text-size-adjust: 100%\; vertical-align: baseline\; background-image: initial\; background-position: initial\; background-size: initial\; background-repeat: initial\; background-attachment: initial\; background-origin: initial\; background-clip: initial\; color: rgb(102\, 102\, 102)\; font-family: &quot\;Open Sans&quot\;\, Helvetica\, Arial\, Lucida\, sans-serif\;"><span style="box-sizing: border-box\; margin: 0px\; padding: 0px\; border: 0px\; outline: 0px\; text-size-adjust: 100%\; vertical-align: baseline\; background: transparent\; font-weight: 700\;">Speakers:</span></p>\n\n<ul style="box-sizing: border-box\; margin: 0px\; padding-right: 0px\; padding-bottom: 23px\; padding-left: 1em\; border: 0px\; outline: 0px\; font-size: 15px\; text-size-adjust: 100%\; vertical-align: baseline\; background-image: initial\; background-position: initial\; background-size: initial\; background-repeat: initial\; background-attachment: initial\; background-origin: initial\; background-clip: initial\; list-style-position: initial\; list-style-image: initial\; line-height: 26px\; color: rgb(102\, 102\, 102)\; font-family: &quot\;Open Sans&quot\;\, Helvetica\, Arial\, Lucida\, sans-serif\;">\n	<li style="box-sizing: border-box\; margin: 0px\; padding: 0px\; border: 0px\; outline: 0px\; text-size-adjust: 100%\; vertical-align: baseline\; background: transparent\;"><span style="box-sizing: border-box\; margin: 0px\; padding: 0px\; border: 0px\; outline: 0px\; text-size-adjust: 100%\; vertical-align: baseline\; background: transparent\; font-weight: 700\;">&ndash\;&nbsp\;</span>Todd Tomalak\, John Burns Real Estate Consulting</li>\n	<li style="box-sizing: border-box\; margin: 0px\; padding: 0px\; border: 0px\; outline: 0px\; text-size-adjust: 100%\; vertical-align: baseline\; background: transparent\;">&ndash\; Abbe Will\, Harvard University Joint Center for Housing Studies</li>\n	<li style="box-sizing: border-box\; margin: 0px\; padding: 0px\; border: 0px\; outline: 0px\; text-size-adjust: 100%\; vertical-align: baseline\; background: transparent\;">&ndash\; Rob Dietz\, NAHB</li>\n</ul>\n\n<p style="box-sizing: border-box\; margin: 0px\; padding: 0px 0px 1em\; border: 0px\; outline: 0px\; font-size: 15px\; text-size-adjust: 100%\; vertical-align: baseline\; background-image: initial\; background-position: initial\; background-size: initial\; background-repeat: initial\; background-attachment: initial\; background-origin: initial\; background-clip: initial\; color: rgb(102\, 102\, 102)\; font-family: &quot\;Open Sans&quot\;\, Helvetica\, Arial\, Lucida\, sans-serif\;"><span style="box-sizing: border-box\; margin: 0px\; padding: 0px\; border: 0px\; outline: 0px\; text-size-adjust: 100%\; vertical-align: baseline\; background: transparent\; font-weight: 700\;">NAHB Continuing Education:</span>&nbsp\;1.0 hours of continuing education credits for the following 12 designations: CAPS\, CGA\, CGB\, CGP\, CGR\, CMP\, CSP\, GMB\, GMR\, Master CGP\, Master CSP\, MIRM.</p>\n\n<p style="box-sizing: border-box\; margin: 0px\; padding: 0px 0px 1em\; border: 0px\; outline: 0px\; font-size: 15px\; text-size-adjust: 100%\; vertical-align: baseline\; background-image: initial\; background-position: initial\; background-size: initial\; background-repeat: initial\; background-attachment: initial\; background-origin: initial\; background-clip: initial\; color: rgb(102\, 102\, 102)\; font-family: &quot\;Open Sans&quot\;\, Helvetica\, Arial\, Lucida\, sans-serif\;"><span style="box-sizing: border-box\; margin: 0px\; padding: 0px\; border: 0px\; outline: 0px\; text-size-adjust: 100%\; vertical-align: baseline\; background: transparent\; font-weight: 700\;">Live Webinars:</span>&nbsp\;Individuals who register for a live webinar are provided access to the&nbsp\;<a href="https://www.nahb.org/en/learn/e-learning-opportunities/webinar-replays.aspx" style="box-sizing: border-box\; margin: 0px\; padding: 0px\; border: 0px\; outline: 0px\; text-size-adjust: 100%\; vertical-align: baseline\; background: transparent\; color: rgb(38\, 96\, 107)\; text-decoration-line: none\;">webinar replay</a>&nbsp\; for 12 months from the date of webinar.</p>\n\n<p style="box-sizing: border-box\; margin: 0px\; padding: 0px 0px 1em\; border: 0px\; outline: 0px\; font-size: 15px\; text-size-adjust: 100%\; vertical-align: baseline\; background-image: initial\; background-position: initial\; background-size: initial\; background-repeat: initial\; background-attachment: initial\; background-origin: initial\; background-clip: initial\; color: rgb(102\, 102\, 102)\; font-family: &quot\;Open Sans&quot\;\, Helvetica\, Arial\, Lucida\, sans-serif\;"><span style="box-sizing: border-box\; margin: 0px\; padding: 0px\; border: 0px\; outline: 0px\; text-size-adjust: 100%\; vertical-align: baseline\; background: transparent\; font-weight: 700\;">Registration Info:</span>&nbsp\;&nbsp\;Registration is open until 3 p.m. ET (12 p.m. PT) on Wednesday\, June 24. You may need your NAHB Pin number to create a log in\, if you do not have this information\, please contact FABA.</p>\n\n<p style="box-sizing: border-box\; margin: 0px\; padding: 0px\; border: 0px\; outline: 0px\; font-size: 15px\; text-size-adjust: 100%\; vertical-align: baseline\; background-image: initial\; background-position: initial\; background-size: initial\; background-repeat: initial\; background-attachment: initial\; background-origin: initial\; background-clip: initial\; color: rgb(102\, 102\, 102)\; font-family: &quot\;Open Sans&quot\;\, Helvetica\, Arial\, Lucida\, sans-serif\;">FREE</p>\n\n<div class="wp-block-buttons" style="box-sizing: border-box\; margin: 0px\; padding: 0px\; border: 0px\; outline: 0px\; font-size: 15px\; text-size-adjust: 100%\; vertical-align: baseline\; background-image: initial\; background-position: initial\; background-size: initial\; background-repeat: initial\; background-attachment: initial\; background-origin: initial\; background-clip: initial\; color: rgb(102\, 102\, 102)\; font-family: &quot\;Open Sans&quot\;\, Helvetica\, Arial\, Lucida\, sans-serif\;">\n<div class="wp-block-button" style="box-sizing: border-box\; margin: 0px 8px 8px 0px\; padding: 0px\; border: 0px\; outline: 0px\; text-size-adjust: 100%\; vertical-align: baseline\; background: transparent\; color: rgb(255\, 255\, 255)\; display: inline-block\;"><a class="wp-block-button__link" href="https://storefront.nahb.org/en/Catalogs/NAHB/NAHB-Events/36952?utm_source=nahbonow&amp\;utm_medium=social&amp\;utm_term=register-now&amp\;utm_content=20200612-nahbnow&amp\;utm_campaign=covid-remodelers20&amp\;_ga=2.62910186.794423925.1592235560-1780207995.1588858460" style="box-sizing: border-box\; margin: 0px\; padding: 12px 24px\; border: none\; outline: 0px\; font-size: 18px\; text-size-adjust: 100%\; vertical-align: baseline\; background: rgb(50\, 55\, 60)\; color: inherit\; text-decoration-line: none\; border-radius: 28px\; box-shadow: none\; cursor: pointer\; display: inline-block\; text-align: center\; overflow-wrap: break-word\;">CLICK HERE TO REGISTER</a></div>\n</div>\n
LOCATION:
UID:e.9458.3109
SEQUENCE:3
DTSTAMP:20260421T175807Z
URL:http://fabava.memberzone.com/events/details/webinar-remodeling-economic-outlook-housing-changes-after-covid-19-nahb-3109
END:VEVENT

END:VCALENDAR
