BEGIN:VCALENDAR
VERSION:2.0
PRODID:-//ChamberMaster//Event Calendar 2.0//EN
METHOD:PUBLISH
X-PUBLISHED-TTL:P3D
REFRESH-INTERVAL:P3D
CALSCALE:GREGORIAN
BEGIN:VEVENT
DTSTART:20200428T150000Z
DTEND:20200428T160000Z
X-MICROSOFT-CDO-ALLDAYEVENT:FALSE
SUMMARY:Webinar: NAHB with guest HUD Secretary Ben Carson
DESCRIPTION:Dr. Ben Carson\, Secretary of Housing and Urban Development\, will participate in a webinar with NAHB members on Tuesday\, April 28\, at 11 a.m. ET.\n\nSecretary Carson will talk about HUD's efforts to address the needs of housing market stakeholders   builders\, developers\, remodelers\, homeowners\, renters\, and home buyers.\n\nCommissioner Montgomery will provide details and answer questions about HUD and FHA operations and policies developed or expanded in response to the current economic environment.\n\nThe two housing policy officials will address single-family and multifamily mortgage forbearance\, rental assistance\, and policies designed to support the housing market. They will discuss initiatives at FHA and Ginnie Mae\, as well as grant programs\, public housing and HUD's broad range of efforts to strengthen the housing industry.\n\nThe webinar with Secretary Carson and Commissioner Montgomery will take place at 11 a.m. ET on Tuesday\, April 28. Click here to register (member log-in required*) for this exceptional webinar.\n\nSpecial thanks to NAHB CEO Jerry Howard for arranging this special event.\n\nI encourage all NAHB members to take advantage of the extraordinary opportunity to connect with the leadership at the Department of Housing and Urban Development.\n\n*CONTACT FABA IF YOU NEED HELP WITH YOUR NAHB MEMBER LOG IN INFORMATION
X-ALT-DESC;FMTTYPE=text/html:<p style="box-sizing: border-box\; margin: 0px\; padding: 0px 0px 1em\; border: 0px\; outline: 0px\; font-size: 15px\; text-size-adjust: 100%\; vertical-align: baseline\; background-image: initial\; background-position: initial\; background-size: initial\; background-repeat: initial\; background-attachment: initial\; background-origin: initial\; background-clip: initial\; color: rgb(102\, 102\, 102)\; font-family: &quot\;Open Sans&quot\;\, Helvetica\, Arial\, Lucida\, sans-serif\;">Dr. Ben Carson\, Secretary of Housing and Urban Development\, will participate in a webinar with NAHB members on Tuesday\, April 28\, at 11 a.m. ET.</p>\n\n<p style="box-sizing: border-box\; margin: 0px\; padding: 0px 0px 1em\; border: 0px\; outline: 0px\; font-size: 15px\; text-size-adjust: 100%\; vertical-align: baseline\; background-image: initial\; background-position: initial\; background-size: initial\; background-repeat: initial\; background-attachment: initial\; background-origin: initial\; background-clip: initial\; color: rgb(102\, 102\, 102)\; font-family: &quot\;Open Sans&quot\;\, Helvetica\, Arial\, Lucida\, sans-serif\;">Secretary Carson will talk about HUD&rsquo\;s efforts to address the needs of housing market stakeholders &mdash\; builders\, developers\, remodelers\, homeowners\, renters\, and home buyers.</p>\n\n<p style="box-sizing: border-box\; margin: 0px\; padding: 0px 0px 1em\; border: 0px\; outline: 0px\; font-size: 15px\; text-size-adjust: 100%\; vertical-align: baseline\; background-image: initial\; background-position: initial\; background-size: initial\; background-repeat: initial\; background-attachment: initial\; background-origin: initial\; background-clip: initial\; color: rgb(102\, 102\, 102)\; font-family: &quot\;Open Sans&quot\;\, Helvetica\, Arial\, Lucida\, sans-serif\;">Commissioner Montgomery will provide details and answer questions about HUD and FHA operations and policies developed or expanded in response to the current economic environment.</p>\n\n<p style="box-sizing: border-box\; margin: 0px\; padding: 0px 0px 1em\; border: 0px\; outline: 0px\; font-size: 15px\; text-size-adjust: 100%\; vertical-align: baseline\; background-image: initial\; background-position: initial\; background-size: initial\; background-repeat: initial\; background-attachment: initial\; background-origin: initial\; background-clip: initial\; color: rgb(102\, 102\, 102)\; font-family: &quot\;Open Sans&quot\;\, Helvetica\, Arial\, Lucida\, sans-serif\;">The two housing policy officials will address single-family and multifamily mortgage forbearance\, rental assistance\, and policies designed to support the housing market. They will discuss initiatives at FHA and Ginnie Mae\, as well as grant programs\, public housing and HUD&rsquo\;s broad range of efforts to strengthen the housing industry.</p>\n\n<p style="box-sizing: border-box\; margin: 0px\; padding: 0px 0px 1em\; border: 0px\; outline: 0px\; font-size: 15px\; text-size-adjust: 100%\; vertical-align: baseline\; background-image: initial\; background-position: initial\; background-size: initial\; background-repeat: initial\; background-attachment: initial\; background-origin: initial\; background-clip: initial\; color: rgb(102\, 102\, 102)\; font-family: &quot\;Open Sans&quot\;\, Helvetica\, Arial\, Lucida\, sans-serif\;">The webinar with Secretary Carson and Commissioner Montgomery will take place at 11 a.m. ET on Tuesday\, April 28.&nbsp\;<span style="box-sizing: border-box\; margin: 0px\; padding: 0px\; border: 0px\; outline: 0px\; text-size-adjust: 100%\; vertical-align: baseline\; background: transparent\; font-weight: 700\;"><a href="https://urldefense.proofpoint.com/v2/url?u=http-3A__www.mmsend26.com_link.cfm-3Fr-3DFgk6j0D7apqpcKuve5C5zA-7E-7E-26pe-3DSEl4yV-5FkjQMvQwdy-5FdGoQQ1X-5F-2DeATOvgdbm22AB8W9XYSlXoYnvfh9DWvsEpod3XEbBYH-5FdXVfWdYG1yZBheMg-7E-7E-26t-3Dv7QqroZZoIDfVcYiLdZqIg-7E-7E&amp\;d=DwMFAw&amp\;c=hCLxfJq9j_r9eaDl3ZiMkA&amp\;r=VzOk5ffR8mXaXsWeMTQWFQ&amp\;m=eH1AZ2pPDofTLQ_bl1ZHt51VOTsY-ONCNf4X_MBj0XI&amp\;s=72dW0iibq2ALSmywtQ3XkrEBYy8HMR9CIpj92Gnbmrs&amp\;e=" rel="noreferrer noopener" style="box-sizing: border-box\; margin: 0px\; padding: 0px\; border: 0px\; outline: 0px\; text-size-adjust: 100%\; vertical-align: baseline\; background: transparent\; color: rgb(38\, 96\, 107)\; text-decoration-line: none\;" target="_blank">Click here to register</a></span>&nbsp\;(member log-in required*)&nbsp\;for this exceptional webinar.</p>\n\n<p style="box-sizing: border-box\; margin: 0px\; padding: 0px 0px 1em\; border: 0px\; outline: 0px\; font-size: 15px\; text-size-adjust: 100%\; vertical-align: baseline\; background-image: initial\; background-position: initial\; background-size: initial\; background-repeat: initial\; background-attachment: initial\; background-origin: initial\; background-clip: initial\; color: rgb(102\, 102\, 102)\; font-family: &quot\;Open Sans&quot\;\, Helvetica\, Arial\, Lucida\, sans-serif\;">Special thanks to NAHB CEO Jerry Howard for arranging this special event.</p>\n\n<p style="box-sizing: border-box\; margin: 0px\; padding: 0px 0px 1em\; border: 0px\; outline: 0px\; font-size: 15px\; text-size-adjust: 100%\; vertical-align: baseline\; background-image: initial\; background-position: initial\; background-size: initial\; background-repeat: initial\; background-attachment: initial\; background-origin: initial\; background-clip: initial\; color: rgb(102\, 102\, 102)\; font-family: &quot\;Open Sans&quot\;\, Helvetica\, Arial\, Lucida\, sans-serif\;">I encourage all NAHB members to take advantage of the extraordinary opportunity to connect with the leadership at the Department of Housing and Urban Development.</p>\n\n<p class="has-text-color has-vivid-red-color" style="box-sizing: border-box\; margin: 0px\; padding: 0px\; border: 0px\; outline: 0px\; font-size: 15px\; text-size-adjust: 100%\; vertical-align: baseline\; background-image: initial\; background-position: initial\; background-size: initial\; background-repeat: initial\; background-attachment: initial\; background-origin: initial\; background-clip: initial\; color: rgb(207\, 46\, 46)\; font-family: &quot\;Open Sans&quot\;\, Helvetica\, Arial\, Lucida\, sans-serif\;"><span style="color: rgb(207\, 46\, 46)\; font-family: &quot\;Open Sans&quot\;\, Helvetica\, Arial\, Lucida\, sans-serif\; font-size: 15px\;">*</span><span style="box-sizing: border-box\; margin: 0px\; padding: 0px\; border: 0px\; outline: 0px\; font-size: 15px\; text-size-adjust: 100%\; vertical-align: baseline\; background-image: initial\; background-position: initial\; background-size: initial\; background-repeat: initial\; background-attachment: initial\; background-origin: initial\; background-clip: initial\; font-weight: 700\; color: rgb(207\, 46\, 46)\; font-family: &quot\;Open Sans&quot\;\, Helvetica\, Arial\, Lucida\, sans-serif\;">CONTACT FABA IF YOU NEED HELP WITH YOUR NAHB MEMBER LOG IN INFORMATION</span></p>\n
LOCATION:
UID:e.9458.3092
SEQUENCE:3
DTSTAMP:20260421T214613Z
URL:http://fabava.memberzone.com/events/details/webinar-nahb-with-guest-hud-secretary-ben-carson-3092
END:VEVENT

END:VCALENDAR
