BEGIN:VCALENDAR
VERSION:2.0
PRODID:-//ChamberMaster//Event Calendar 2.0//EN
METHOD:PUBLISH
X-PUBLISHED-TTL:P3D
REFRESH-INTERVAL:P3D
CALSCALE:GREGORIAN
BEGIN:VEVENT
DTSTART:20200924T190000Z
DTEND:20200924T200000Z
X-MICROSOFT-CDO-ALLDAYEVENT:FALSE
SUMMARY:Webinar: Leveraging Housing Strength to Grow Your Membership (NAHB)
DESCRIPTION:Webinar: Leveraging Housing Strength to Grow Your Membership\n\nSept. 24\, 2020\n\n3 - 4 PM ET\n\n\n\nREGISTER NOW\n\n \n\n\n\n\n\n\nThis year presents new challenges as HBAs try to understand the impact of the pandemic on the housing industry and larger national economy. Many will look to adjust recruitment and retention efforts during such unprecedented times to best prepare for membership growth.\n\n \n\nAttend the webinar\, Leveraging Housing Strength to Grow Your Membership\, on Sept. 24 at 3 p.m. ET for an industry outlook presentation from Chief Economist Dr. Robert Dietz with an emphasis on regional trends. Also hear from Director of Membership Growth and Development\, Isabel Shocket\, as she reviews the Fall Membership Drives and recruitment best practices so you can use the strength of the housing industry to your advantage to grow your membership.\n\n \n\nREGISTER NOW\n\n\n\nIf you have any questions\, please contact Isabel Shocket at Ishocket@nahb.org.
X-ALT-DESC;FMTTYPE=text/html:<div style="color: rgb(61\, 57\, 52)\; font-family: tahoma\, sans-serif\;"><span style="font-size: 24px\;"><span style="font-family: Tahoma\, sans-serif\;"><span style="page: WordSection1\;"><span style="line-height: normal\;"><span style="color: rgb(76\, 72\, 61)\;"><strong>Webinar:</strong>&nbsp\;<strong>Leveraging Housing Strength to Grow Your Membership</strong></span></span></span></span></span><br />\n<span style="color: rgb(0\, 0\, 0)\;"><span style="font-size: 16px\;">Sept. 24\, 2020<br />\n3 - 4 PM ET</span></span><br />\n<br />\n<span style="font-size: 18px\;"><strong><a href="http://send.nahb.org/link.cfm?r=lYDvkb6_kd-H-NXtvbn8Lg~~&amp\;pe=9yDjPM5g79m6HiyiO_gqLSb_MxrdYigYwcwu96S5YmSa5MBF0ABSLj36DZs9v47oPZvfnZVc3WDQRyR1KSD3Wg~~&amp\;t=INSERT_TRACKING_ENCID" style="color: rgb(122\, 193\, 234) !important\;" target="_blank"><span style="color: rgb(41\, 128\, 185)\;">REGISTER NOW</span></a></strong></span><br />\n&nbsp\;</div>\n\n<div style="color: rgb(61\, 57\, 52)\; font-family: tahoma\, sans-serif\;">\n<hr /></div>\n\n<div style="color: rgb(61\, 57\, 52)\; font-family: tahoma\, sans-serif\;"><br />\n<span style="color: rgb(0\, 0\, 0)\;"><span style="font-size: 14px\;"><span style="font-family: Tahoma\, sans-serif\;"><span style="line-height: 17.5px\;">This year presents new challenges as HBAs try to understand the impact of the pandemic on the housing industry and larger national economy. Many will look to adjust recruitment and retention efforts during such unprecedented times to best prepare for membership growth.</span></span></span></span></div>\n\n<div style="color: rgb(61\, 57\, 52)\; font-family: tahoma\, sans-serif\;">&nbsp\;</div>\n\n<div style="color: rgb(61\, 57\, 52)\; font-family: tahoma\, sans-serif\;"><span style="font-size: 14px\;"><span style="font-family: Tahoma\, sans-serif\;"><span style="line-height: 17.5px\;"><strong><a href="http://send.nahb.org/link.cfm?r=lYDvkb6_kd-H-NXtvbn8Lg~~&amp\;pe=F0Znrxyr4C9Qh6uAhujF5bybe2IHcMmKhSK60r2Puef1L6bV0Y8d4x_hyyzzzPcSYSiH5Shf_qZHSE8kbVV1rw~~&amp\;t=INSERT_TRACKING_ENCID" style="color: rgb(122\, 193\, 234) !important\;"><span style="color: rgb(41\, 128\, 185)\;">Attend the&nbsp\;webinar</span></a></strong><span style="color: rgb(0\, 0\, 0)\;">\,&nbsp\;</span></span><span style="color: rgb(0\, 0\, 0)\;"><span style="page: WordSection1\;"><span style="line-height: normal\;">Leveraging Housing Strength to Grow Your Membership\, on Sept. 24 at 3 p.m. ET&nbsp\;</span></span><span style="line-height: 17.5px\;">for an industry outlook presentation from Chief Economist Dr. Robert Dietz with an emphasis on regional trends. Also hear from Director of Membership Growth and Development\, Isabel Shocket\, as she reviews the Fall Membership Drives and recruitment best practices so you can use the strength of the housing industry to your advantage to grow your membership.</span></span></span></span></div>\n\n<div style="color: rgb(61\, 57\, 52)\; font-family: tahoma\, sans-serif\;">&nbsp\;</div>\n\n<div style="color: rgb(61\, 57\, 52)\; font-family: tahoma\, sans-serif\;"><span style="font-size: 18px\;"><strong><a href="http://send.nahb.org/link.cfm?r=lYDvkb6_kd-H-NXtvbn8Lg~~&amp\;pe=14Kl9LNsdtamYHPg6qJywvnI5yqdOI9rF7rhNI4i7cmfzfdSgDUp3CGM23HM-hgW2HtZg2nR122scyG8SJFvdA~~&amp\;t=INSERT_TRACKING_ENCID" style="color: rgb(122\, 193\, 234) !important\;" target="_blank"><span style="color: rgb(41\, 128\, 185)\;">REGISTER NOW</span></a></strong></span><br />\n<br />\n<span style="font-size: 14px\;"><span style="color: rgb(0\, 0\, 0)\;">If you have any questions\, please contact Isabel Shocket at&nbsp\;</span><strong><a href="mailto:IShocket@nahb.org" style="color: rgb(122\, 193\, 234) !important\;"><span style="color: rgb(41\, 128\, 185)\;">Ishocket@nahb.org</span></a></strong>.&nbsp\;</span></div>\n
LOCATION:
UID:e.9458.3156
SEQUENCE:3
DTSTAMP:20260421T143520Z
URL:http://fabava.memberzone.com/events/details/webinar-leveraging-housing-strength-to-grow-your-membership-nahb-3156
END:VEVENT

END:VCALENDAR
