BEGIN:VCALENDAR
VERSION:2.0
PRODID:-//ChamberMaster//Event Calendar 2.0//EN
METHOD:PUBLISH
X-PUBLISHED-TTL:P3D
REFRESH-INTERVAL:P3D
CALSCALE:GREGORIAN
BEGIN:VEVENT
DTSTART:20200416T180000Z
DTEND:20200416T190000Z
X-MICROSOFT-CDO-ALLDAYEVENT:FALSE
SUMMARY:Webinar: Keep Your Traffic Flowing: A Marketing Playbook for COVID-19
DESCRIPTION:Keep Your Traffic Flowing: A Marketing Playbook for COVID-19 - Thursday\, April 16\, 2 pm - 3 pm\n\nWith prospective buyer traffic down almost universally\, you should be scaling back your advertising investments\, but cutting across the board is reckless and could lead to long term challenges. This webinar will share marketing insights learned in previous shocks to the market\, and how those principles\, along with the latest digital and virtual marketing tools\, can be applied to our current challenges. You'll get a step-by-step playbook to follow tell you which efforts to tone down\, and how to reverse the process once we reach the other side. CLICK HERE TO REGISTER\n\n \n\nFor recordings of other NAHB webinars you may have missed\, CLICK HERE
X-ALT-DESC;FMTTYPE=text/html:<div style="margin: 0px\; padding: 0px\; border: 0px\; font-variant-numeric: inherit\; font-variant-east-asian: inherit\; font-stretch: inherit\; font-size: 16px\; line-height: inherit\; font-family: Arial\; vertical-align: baseline\; color: rgb(50\, 49\, 48)\;"><span style="margin: 0px\; padding: 0px\; border: 0px\; font-style: inherit\; font-variant: inherit\; font-weight: inherit\; font-stretch: inherit\; font-size: inherit\; line-height: inherit\; font-family: Candara\, Optima\, sans-serif\; vertical-align: baseline\; color: inherit\;"><b>Keep Your Traffic Flowing: A Marketing Playbook for COVID-19 - Thursday\, April 16\, 2 pm - 3 pm</b></span></div>\n\n<div style="margin: 0px\; padding: 0px\; border: 0px\; font-variant-numeric: inherit\; font-variant-east-asian: inherit\; font-stretch: inherit\; font-size: 16px\; line-height: inherit\; font-family: Arial\; vertical-align: baseline\; color: rgb(50\, 49\, 48)\;"><span style="margin: 0px\; padding: 0px\; border: 0px\; font-style: inherit\; font-variant: inherit\; font-weight: inherit\; font-stretch: inherit\; font-size: inherit\; line-height: inherit\; font-family: Candara\, Optima\, sans-serif\; vertical-align: baseline\; color: inherit\;">With prospective buyer traffic down almost universally\, you should be scaling back your advertising investments\, but cutting across the board is reckless and could lead to long term challenges. This webinar will share marketing insights learned in previous shocks to the market\, and how those principles\, along with the latest digital and virtual marketing tools\, can be applied to our current challenges. You&rsquo\;ll get a step-by-step playbook to follow tell you which efforts to tone down\, and how to reverse the process once we reach the other side.&nbsp\;</span><a data-auth="NotApplicable" href="https://zoom.us/webinar/register/WN_crhKcnV-RWi-HU-vuvO6kg" rel="noopener noreferrer" style="margin: 0px\; padding: 0px\; border: 0px\; font: inherit\; vertical-align: baseline\;" target="_blank" title="https://zoom.us/webinar/register/WN_crhKcnV-RWi-HU-vuvO6kg"><span style="margin: 0px\; padding: 0px\; border: 0px\; font-style: inherit\; font-variant: inherit\; font-weight: inherit\; font-stretch: inherit\; font-size: inherit\; line-height: inherit\; font-family: Candara\, Optima\, sans-serif\; vertical-align: baseline\; color: inherit\;">CLICK HERE TO REGISTER</span></a></div>\n\n<div style="margin: 0px\; padding: 0px\; border: 0px\; font-variant-numeric: inherit\; font-variant-east-asian: inherit\; font-stretch: inherit\; font-size: 16px\; line-height: inherit\; font-family: Arial\; vertical-align: baseline\; color: rgb(50\, 49\, 48)\;">&nbsp\;</div>\n\n<div style="margin: 0px\; padding: 0px\; border: 0px\; font-variant-numeric: inherit\; font-variant-east-asian: inherit\; font-stretch: inherit\; font-size: 16px\; line-height: inherit\; font-family: Arial\; vertical-align: baseline\; color: rgb(50\, 49\, 48)\;"><span style="margin: 0px\; padding: 0px\; border: 0px\; font-style: inherit\; font-variant: inherit\; font-weight: inherit\; font-stretch: inherit\; font-size: inherit\; line-height: inherit\; font-family: Candara\, Optima\, sans-serif\; vertical-align: baseline\; color: inherit\;">For recordings of other NAHB webinars you may have missed\,&nbsp\;</span><span style="margin: 0px\; padding: 0px\; border: 0px\; font-style: inherit\; font-variant: inherit\; font-weight: inherit\; font-stretch: inherit\; font-size: inherit\; line-height: inherit\; font-family: Candara\, Optima\, sans-serif\; vertical-align: baseline\; color: inherit\;"><a data-auth="NotApplicable" href="https://www.nahb.org/Advocacy/Industry-Issues/Emergency-Preparedness-and-Response/Coronavirus-Preparedness/Webinars-and-Town-Halls" rel="noopener noreferrer" style="margin: 0px\; padding: 0px\; border: 0px\; font: inherit\; vertical-align: baseline\;" target="_blank" title="https://www.nahb.org/Advocacy/Industry-Issues/Emergency-Preparedness-and-Response/Coronavirus-Preparedness/Webinars-and-Town-Halls"><span style="margin: 0px\; padding: 0px\; border: 0px\; font: inherit\; vertical-align: baseline\; color: inherit\;">CLICK HERE</span></a></span></div>\n
LOCATION:
UID:e.9458.3077
SEQUENCE:3
DTSTAMP:20260421T214623Z
URL:http://fabava.memberzone.com/events/details/webinar-keep-your-traffic-flowing-a-marketing-playbook-for-covid-19-3077
END:VEVENT

END:VCALENDAR
