BEGIN:VCALENDAR
VERSION:2.0
PRODID:-//ChamberMaster//Event Calendar 2.0//EN
METHOD:PUBLISH
X-PUBLISHED-TTL:P3D
REFRESH-INTERVAL:P3D
CALSCALE:GREGORIAN
BEGIN:VEVENT
DTSTART:20200507T180000Z
DTEND:20200507T190000Z
X-MICROSOFT-CDO-ALLDAYEVENT:FALSE
SUMMARY:Webinar: How will the homes we build change after this crisis? (Webinar by BDX)
DESCRIPTION:As people are home more than ever  they are looking around and considering things they would change about their space. Bigger pantries? Better boundaries between exterior and interior spaces? Enhanced outdoor living spaces? New homes are uniquely poised to meet these needs and during this webinar we'll discuss some of the changes we expect to see coming our way.\n\n \n\nClick here to register
X-ALT-DESC;FMTTYPE=text/html:<p style="box-sizing: border-box\; margin: 0px\; padding: 0px 0px 1em\; border: 0px\; outline: 0px\; font-size: 15px\; text-size-adjust: 100%\; vertical-align: baseline\; background-image: initial\; background-position: initial\; background-size: initial\; background-repeat: initial\; background-attachment: initial\; background-origin: initial\; background-clip: initial\; color: rgb(102\, 102\, 102)\; font-family: &quot\;Open Sans&quot\;\, Helvetica\, Arial\, Lucida\, sans-serif\;">As people are home more than ever&hellip\; they are looking around and considering things they would change about their space. Bigger pantries? Better boundaries between exterior and interior spaces? Enhanced outdoor living spaces? New homes are uniquely poised to meet these needs and during this webinar we&rsquo\;ll discuss some of the changes we expect to see coming our way.</p>\n\n<p style="box-sizing: border-box\; margin: 0px\; padding: 0px\; border: 0px\; outline: 0px\; font-size: 15px\; text-size-adjust: 100%\; vertical-align: baseline\; background-image: initial\; background-position: initial\; background-size: initial\; background-repeat: initial\; background-attachment: initial\; background-origin: initial\; background-clip: initial\; color: rgb(102\, 102\, 102)\; font-family: &quot\;Open Sans&quot\;\, Helvetica\, Arial\, Lucida\, sans-serif\;">&nbsp\;</p>\n\n<div class="wp-block-button" style="box-sizing: border-box\; margin: 0px\; padding: 0px\; border: 0px\; outline: 0px\; font-size: 15px\; text-size-adjust: 100%\; vertical-align: baseline\; background-image: initial\; background-position: initial\; background-size: initial\; background-repeat: initial\; background-attachment: initial\; background-origin: initial\; background-clip: initial\; color: rgb(255\, 255\, 255)\; font-family: &quot\;Open Sans&quot\;\, Helvetica\, Arial\, Lucida\, sans-serif\;"><a class="wp-block-button__link" href="http://link.thebdx.com/c/6/?T=MjgyMDkwODg%3AMDItYjIwMTIyLTJhZDBmMDk4ZGU0MzRlNjc4MjgwMjZiNDUxZGE5Y2I3%3AZXZlbnRzQGZhYmF2YS5jb20%3AbGVhZC0yMGEzN2U3ZDZjN2ZlYTExYTgxMTAwMGQzYTM3ODk5Mi0yMzY5ZGJlZmQ3NzA0M2E0YmY1OGViNGFhMjIzYTc4Ng%3AZmFsc2U%3AMw%3A%3AaHR0cHM6Ly9hdHRlbmRlZS5nb3Rvd2ViaW5hci5jb20vcmVnaXN0ZXIvNTI0NDYyMjQ5MjU5ODQ3NTUzNT9zb3VyY2U9ZW1haWwmX2NsZGVlPVpYWmxiblJ6UUdaaFltRjJZUzVqYjIwJTNkJnJlY2lwaWVudGlkPWxlYWQtMjBhMzdlN2Q2YzdmZWExMWE4MTEwMDBkM2EzNzg5OTItMjM2OWRiZWZkNzcwNDNhNGJmNThlYjRhYTIyM2E3ODYmdXRtX3NvdXJjZT1DbGlja0RpbWVuc2lvbnMmdXRtX21lZGl1bT1lbWFpbCZ1dG1fY2FtcGFpZ249JTVCTmV3c2xldHRlciU3QyUyMERpZ2l0YWwlMjBEaWdlc3QmZXNpZD04Mjc3ZjQ0Yy1kNjhiLWVhMTEtYTgxMi0wMDBkM2EzNzhmNDc&amp\;K=L8t7yjFfoTLIXZ1RuRr8VA" style="box-sizing: border-box\; margin: 0px\; padding: 12px 24px\; border: none\; outline: 0px\; font-size: 18px\; text-size-adjust: 100%\; vertical-align: baseline\; background: rgb(50\, 55\, 60)\; color: inherit\; text-decoration-line: none\; border-radius: 28px\; box-shadow: none\; cursor: pointer\; display: inline-block\; text-align: center\; overflow-wrap: break-word\;">Click here to register</a></div>\n
LOCATION:
UID:e.9458.3094
SEQUENCE:3
DTSTAMP:20260421T195237Z
URL:http://fabava.memberzone.com/events/details/webinar-how-will-the-homes-we-build-change-after-this-crisis-webinar-by-bdx-3094
END:VEVENT

END:VCALENDAR
