BEGIN:VCALENDAR
VERSION:2.0
PRODID:-//ChamberMaster//Event Calendar 2.0//EN
METHOD:PUBLISH
X-PUBLISHED-TTL:P3D
REFRESH-INTERVAL:P3D
CALSCALE:GREGORIAN
BEGIN:VEVENT
DTSTART:20200818T180000Z
DTEND:20200818T190000Z
X-MICROSOFT-CDO-ALLDAYEVENT:FALSE
SUMMARY:Webinar: House Plan Designs that can Save You Thousands
DESCRIPTION:In NAHB's webinar House Plan Designs that Can Save You Thousands\, on Wednesday\, Aug. 19\, 2-3 p.m. ET\, participants will learn how to get the most out of every square foot in a new home and slash costs while increasing curb appeal.\n\nThrough the power of smart\, economical house plans\, discover how design can unlock functionality and provide home buyers with contemporary\, money-saving features at a price that is well within most budgets.\n\nSpeaker Michael Walker\, owner\, Walker Home Design\, will help participants:\n\n\n	Discover how to reduce waste and construction time while increasing profits.\n	Learn design tips so you can provide your clients with a more aesthetically pleasing product.\n	Review a case study where implementing value engineering provided substantial savings for both the builder and client.\n\n\nRegister today.\n\nRegistration is open until 3 p.m. ET on Tuesday\, Aug. 18. For questions about registration\, please contact Deborah Krat at EdWebinars@nahb.org.\n\nParticipants can earn one hour of continuing education credits for the following designations: CAPS\, CGA\, CGB\, CGP\, CGR\, CMP\, CSP\, GMB\, GMR\, Master CGP\, Master CSP\, and MIRM.\n\nPlease contact FABA if you need help with your registration or NAHB member login/PIN.
X-ALT-DESC;FMTTYPE=text/html:<p style="box-sizing: border-box\; margin: 0px\; padding: 0px 0px 1em\; border: 0px\; outline: 0px\; font-size: 15px\; text-size-adjust: 100%\; vertical-align: baseline\; background-image: initial\; background-position: initial\; background-size: initial\; background-repeat: initial\; background-attachment: initial\; background-origin: initial\; background-clip: initial\; color: rgb(102\, 102\, 102)\; font-family: &quot\;Open Sans&quot\;\, Helvetica\, Arial\, Lucida\, sans-serif\;">In NAHB&rsquo\;s webinar&nbsp\;<a href="https://storefront.nahb.org/Catalogs/NAHB/NAHB-Events/36805" rel="noreferrer noopener" style="box-sizing: border-box\; margin: 0px\; padding: 0px\; border: 0px\; outline: 0px\; text-size-adjust: 100%\; vertical-align: baseline\; background: transparent\; color: rgb(38\, 96\, 107)\; text-decoration-line: none\;" target="_blank">House Plan Designs that Can Save You Thousands</a>\, on Wednesday\, Aug. 19\, 2-3 p.m. ET\, participants will learn how to get the most out of every square foot in a new home and slash costs while increasing curb appeal.</p>\n\n<p style="box-sizing: border-box\; margin: 0px\; padding: 0px 0px 1em\; border: 0px\; outline: 0px\; font-size: 15px\; text-size-adjust: 100%\; vertical-align: baseline\; background-image: initial\; background-position: initial\; background-size: initial\; background-repeat: initial\; background-attachment: initial\; background-origin: initial\; background-clip: initial\; color: rgb(102\, 102\, 102)\; font-family: &quot\;Open Sans&quot\;\, Helvetica\, Arial\, Lucida\, sans-serif\;">Through the power of smart\, economical house plans\, discover how design can unlock functionality and provide home buyers with contemporary\, money-saving features at a price that is well within most budgets.</p>\n\n<p style="box-sizing: border-box\; margin: 0px\; padding: 0px 0px 1em\; border: 0px\; outline: 0px\; font-size: 15px\; text-size-adjust: 100%\; vertical-align: baseline\; background-image: initial\; background-position: initial\; background-size: initial\; background-repeat: initial\; background-attachment: initial\; background-origin: initial\; background-clip: initial\; color: rgb(102\, 102\, 102)\; font-family: &quot\;Open Sans&quot\;\, Helvetica\, Arial\, Lucida\, sans-serif\;">Speaker Michael Walker\, owner\, Walker Home Design\, will help participants:</p>\n\n<ul style="box-sizing: border-box\; margin: 0px\; padding-right: 0px\; padding-bottom: 23px\; padding-left: 1em\; border: 0px\; outline: 0px\; font-size: 15px\; text-size-adjust: 100%\; vertical-align: baseline\; background-image: initial\; background-position: initial\; background-size: initial\; background-repeat: initial\; background-attachment: initial\; background-origin: initial\; background-clip: initial\; list-style-position: initial\; list-style-image: initial\; line-height: 26px\; color: rgb(102\, 102\, 102)\; font-family: &quot\;Open Sans&quot\;\, Helvetica\, Arial\, Lucida\, sans-serif\;">\n	<li style="box-sizing: border-box\; margin: 0px\; padding: 0px\; border: 0px\; outline: 0px\; text-size-adjust: 100%\; vertical-align: baseline\; background: transparent\;">Discover how to reduce waste and construction time while increasing profits.</li>\n	<li style="box-sizing: border-box\; margin: 0px\; padding: 0px\; border: 0px\; outline: 0px\; text-size-adjust: 100%\; vertical-align: baseline\; background: transparent\;">Learn design tips so you can provide your clients with a more aesthetically pleasing product.</li>\n	<li style="box-sizing: border-box\; margin: 0px\; padding: 0px\; border: 0px\; outline: 0px\; text-size-adjust: 100%\; vertical-align: baseline\; background: transparent\;">Review a case study where implementing value engineering provided substantial savings for both the builder and client.</li>\n</ul>\n\n<p style="box-sizing: border-box\; margin: 0px\; padding: 0px 0px 1em\; border: 0px\; outline: 0px\; font-size: 15px\; text-size-adjust: 100%\; vertical-align: baseline\; background-image: initial\; background-position: initial\; background-size: initial\; background-repeat: initial\; background-attachment: initial\; background-origin: initial\; background-clip: initial\; color: rgb(102\, 102\, 102)\; font-family: &quot\;Open Sans&quot\;\, Helvetica\, Arial\, Lucida\, sans-serif\;"><span style="box-sizing: border-box\; margin: 0px\; padding: 0px\; border: 0px\; outline: 0px\; text-size-adjust: 100%\; vertical-align: baseline\; background: transparent\; font-weight: 700\;"><a href="https://storefront.nahb.org/Catalogs/NAHB/NAHB-Events/36805" rel="noreferrer noopener" style="box-sizing: border-box\; margin: 0px\; padding: 0px\; border: 0px\; outline: 0px\; text-size-adjust: 100%\; vertical-align: baseline\; background: transparent\; color: rgb(38\, 96\, 107)\; text-decoration-line: none\;" target="_blank">Register today.</a></span></p>\n\n<p style="box-sizing: border-box\; margin: 0px\; padding: 0px 0px 1em\; border: 0px\; outline: 0px\; font-size: 15px\; text-size-adjust: 100%\; vertical-align: baseline\; background-image: initial\; background-position: initial\; background-size: initial\; background-repeat: initial\; background-attachment: initial\; background-origin: initial\; background-clip: initial\; color: rgb(102\, 102\, 102)\; font-family: &quot\;Open Sans&quot\;\, Helvetica\, Arial\, Lucida\, sans-serif\;">Registration is open until 3 p.m. ET on Tuesday\, Aug. 18. For questions about registration\, please contact Deborah Krat at&nbsp\;<a href="mailto:EdWebinars@nahb.org" style="box-sizing: border-box\; margin: 0px\; padding: 0px\; border: 0px\; outline: 0px\; text-size-adjust: 100%\; vertical-align: baseline\; background: transparent\; color: rgb(38\, 96\, 107)\; text-decoration-line: none\;">EdWebinars@nahb.org</a>.</p>\n\n<p style="box-sizing: border-box\; margin: 0px\; padding: 0px 0px 1em\; border: 0px\; outline: 0px\; font-size: 15px\; text-size-adjust: 100%\; vertical-align: baseline\; background-image: initial\; background-position: initial\; background-size: initial\; background-repeat: initial\; background-attachment: initial\; background-origin: initial\; background-clip: initial\; color: rgb(102\, 102\, 102)\; font-family: &quot\;Open Sans&quot\;\, Helvetica\, Arial\, Lucida\, sans-serif\;">Participants can earn one hour of continuing education credits for the following designations: CAPS\, CGA\, CGB\, CGP\, CGR\, CMP\, CSP\, GMB\, GMR\, Master CGP\, Master CSP\, and MIRM.</p>\n\n<p style="box-sizing: border-box\; margin: 0px\; padding: 0px 0px 1em\; border: 0px\; outline: 0px\; font-size: 15px\; text-size-adjust: 100%\; vertical-align: baseline\; background-image: initial\; background-position: initial\; background-size: initial\; background-repeat: initial\; background-attachment: initial\; background-origin: initial\; background-clip: initial\; color: rgb(102\, 102\, 102)\; font-family: &quot\;Open Sans&quot\;\, Helvetica\, Arial\, Lucida\, sans-serif\;">Please contact FABA if you need help with your registration or NAHB member login/PIN.</p>\n
LOCATION:
UID:e.9458.3135
SEQUENCE:3
DTSTAMP:20260421T143037Z
URL:http://fabava.memberzone.com/events/details/webinar-house-plan-designs-that-can-save-you-thousands-3135
END:VEVENT

END:VCALENDAR
