BEGIN:VCALENDAR
VERSION:2.0
PRODID:-//ChamberMaster//Event Calendar 2.0//EN
METHOD:PUBLISH
X-PUBLISHED-TTL:P3D
REFRESH-INTERVAL:P3D
CALSCALE:GREGORIAN
BEGIN:VEVENT
DTSTART:20200630T144500Z
DTEND:20200630T160000Z
X-MICROSOFT-CDO-ALLDAYEVENT:FALSE
SUMMARY:Webinar: Economic Outlook with Robert Dietz
DESCRIPTION:Join us for an national economic update presented by Robert Dietz\, SVP and Chief Economist of  NAHB.  \n\n \nTopic: Dr Dietz - Economist NAHB - update\n\nTime: Jun 30\, 2020 10:45 AM\n\n \n\nJoin Zoom Meeting\n\nhttps://us02web.zoom.us/j/82454160562\n\n \n\nMeeting ID: 824 5416 0562\n\nOne tap mobile\n\n+13017158592\n\nFind your local number: https://us02web.zoom.us/u/kPgnkhhA7
X-ALT-DESC;FMTTYPE=text/html:Join us for an national economic update presented by Robert Dietz\, SVP and Chief Economist of&nbsp\; NAHB.&nbsp\;&nbsp\;<br />\n&nbsp\;\n<p class="x_MsoNormal" style="margin: 0in 0in 0.0001pt\; font-size: 11pt\; font-family: Calibri\, sans-serif\; color: rgb(32\, 31\, 30)\;">Topic: Dr Dietz - Economist NAHB - update</p>\n\n<p class="x_MsoNormal" style="margin: 0in 0in 0.0001pt\; font-size: 11pt\; font-family: Calibri\, sans-serif\; color: rgb(32\, 31\, 30)\;">Time: Jun 30\, 2020 10:45 AM</p>\n\n<p class="x_MsoNormal" style="margin: 0in 0in 0.0001pt\; font-size: 11pt\; font-family: Calibri\, sans-serif\; color: rgb(32\, 31\, 30)\;">&nbsp\;</p>\n\n<p class="x_MsoNormal" style="margin: 0in 0in 0.0001pt\; font-size: 11pt\; font-family: Calibri\, sans-serif\; color: rgb(32\, 31\, 30)\;">Join Zoom Meeting</p>\n\n<p class="x_MsoNormal" style="margin: 0in 0in 0.0001pt\; font-size: 11pt\; font-family: Calibri\, sans-serif\; color: rgb(32\, 31\, 30)\;">https://us02web.zoom.us/j/82454160562</p>\n\n<p class="x_MsoNormal" style="margin: 0in 0in 0.0001pt\; font-size: 11pt\; font-family: Calibri\, sans-serif\; color: rgb(32\, 31\, 30)\;">&nbsp\;</p>\n\n<p class="x_MsoNormal" style="margin: 0in 0in 0.0001pt\; font-size: 11pt\; font-family: Calibri\, sans-serif\; color: rgb(32\, 31\, 30)\;">Meeting ID: 824 5416 0562</p>\n\n<p class="x_MsoNormal" style="margin: 0in 0in 0.0001pt\; font-size: 11pt\; font-family: Calibri\, sans-serif\; color: rgb(32\, 31\, 30)\;">One tap mobile</p>\n\n<p class="x_MsoNormal" style="margin: 0in 0in 0.0001pt\; font-size: 11pt\; font-family: Calibri\, sans-serif\; color: rgb(32\, 31\, 30)\;">+13017158592</p>\n\n<p class="x_MsoNormal" style="margin: 0in 0in 0.0001pt\; font-size: 11pt\; font-family: Calibri\, sans-serif\; color: rgb(32\, 31\, 30)\;">Find your local number: https://us02web.zoom.us/u/kPgnkhhA7</p>\n
LOCATION:Zoom
UID:e.9458.3103
SEQUENCE:3
DTSTAMP:20260421T175605Z
URL:http://fabava.memberzone.com/events/details/webinar-economic-outlook-with-robert-dietz-3103
END:VEVENT

END:VCALENDAR
