BEGIN:VCALENDAR
VERSION:2.0
PRODID:-//ChamberMaster//Event Calendar 2.0//EN
METHOD:PUBLISH
X-PUBLISHED-TTL:P3D
REFRESH-INTERVAL:P3D
CALSCALE:GREGORIAN
BEGIN:VEVENT
DTSTART:20200528T130000Z
DTEND:20200528T140000Z
X-MICROSOFT-CDO-ALLDAYEVENT:FALSE
SUMMARY:Webinar: Champagne Baths on a Beer Budget! (Webinar by NVBIA)
DESCRIPTION:As the difference between what clients want and what they can afford widens\, professionals can be caught in the crunch. This session will highlight the qualities that define luxury and suggest cost effective solutions without compromising style or quality. Learn when to spend and when to scrimp\, and insure you see plenty of "wow" factor.\n\nZoom Conference\n\nhttps://bit.ly/2VTM39Z\n\nIf you prefer to dial in via phone only\, use: +1 646 876 9923\n\nMeeting ID: 225 634 2122\n\nPassword: 287565\n\nREGISTRATION ON CEU EVENTS IS REQUIRED FOR YOUR ACCREDITATION AND CERTIFICATE OF COMPLETION.\n\nRegister Now
X-ALT-DESC;FMTTYPE=text/html:<p style="box-sizing: border-box\; margin: 0px\; padding: 0px 0px 1em\; border: 0px\; outline: 0px\; font-size: 15px\; text-size-adjust: 100%\; vertical-align: baseline\; background-image: initial\; background-position: initial\; background-size: initial\; background-repeat: initial\; background-attachment: initial\; background-origin: initial\; background-clip: initial\; color: rgb(102\, 102\, 102)\; font-family: &quot\;Open Sans&quot\;\, Helvetica\, Arial\, Lucida\, sans-serif\;">As the difference between what clients want and what they can afford widens\, professionals can be caught in the crunch.&nbsp\;This session will highlight the qualities that define luxury and suggest cost effective solutions without compromising style or quality.&nbsp\;Learn when to spend and when to scrimp\, and insure you see plenty of &ldquo\;wow&rdquo\; factor.</p>\n\n<p style="box-sizing: border-box\; margin: 0px\; padding: 0px 0px 1em\; border: 0px\; outline: 0px\; font-size: 15px\; text-size-adjust: 100%\; vertical-align: baseline\; background-image: initial\; background-position: initial\; background-size: initial\; background-repeat: initial\; background-attachment: initial\; background-origin: initial\; background-clip: initial\; color: rgb(102\, 102\, 102)\; font-family: &quot\;Open Sans&quot\;\, Helvetica\, Arial\, Lucida\, sans-serif\;"><span style="box-sizing: border-box\; margin: 0px\; padding: 0px\; border: 0px\; outline: 0px\; text-size-adjust: 100%\; vertical-align: baseline\; background: transparent\; font-weight: 700\;">Zoom Conference</span></p>\n\n<p style="box-sizing: border-box\; margin: 0px\; padding: 0px 0px 1em\; border: 0px\; outline: 0px\; font-size: 15px\; text-size-adjust: 100%\; vertical-align: baseline\; background-image: initial\; background-position: initial\; background-size: initial\; background-repeat: initial\; background-attachment: initial\; background-origin: initial\; background-clip: initial\; color: rgb(102\, 102\, 102)\; font-family: &quot\;Open Sans&quot\;\, Helvetica\, Arial\, Lucida\, sans-serif\;"><a href="https://bit.ly/2VTM39Z" style="box-sizing: border-box\; margin: 0px\; padding: 0px\; border: 0px\; outline: 0px\; text-size-adjust: 100%\; vertical-align: baseline\; background: transparent\; color: rgb(38\, 96\, 107)\; text-decoration-line: none\;">https://bit.ly/2VTM39Z</a></p>\n\n<p style="box-sizing: border-box\; margin: 0px\; padding: 0px 0px 1em\; border: 0px\; outline: 0px\; font-size: 15px\; text-size-adjust: 100%\; vertical-align: baseline\; background-image: initial\; background-position: initial\; background-size: initial\; background-repeat: initial\; background-attachment: initial\; background-origin: initial\; background-clip: initial\; color: rgb(102\, 102\, 102)\; font-family: &quot\;Open Sans&quot\;\, Helvetica\, Arial\, Lucida\, sans-serif\;">If you prefer to dial in via phone only\, use: +1 646 876 9923</p>\n\n<p style="box-sizing: border-box\; margin: 0px\; padding: 0px 0px 1em\; border: 0px\; outline: 0px\; font-size: 15px\; text-size-adjust: 100%\; vertical-align: baseline\; background-image: initial\; background-position: initial\; background-size: initial\; background-repeat: initial\; background-attachment: initial\; background-origin: initial\; background-clip: initial\; color: rgb(102\, 102\, 102)\; font-family: &quot\;Open Sans&quot\;\, Helvetica\, Arial\, Lucida\, sans-serif\;"><span style="box-sizing: border-box\; margin: 0px\; padding: 0px\; border: 0px\; outline: 0px\; text-size-adjust: 100%\; vertical-align: baseline\; background: transparent\; font-weight: 700\;">Meeting ID:</span>&nbsp\;225 634 2122</p>\n\n<p style="box-sizing: border-box\; margin: 0px\; padding: 0px 0px 1em\; border: 0px\; outline: 0px\; font-size: 15px\; text-size-adjust: 100%\; vertical-align: baseline\; background-image: initial\; background-position: initial\; background-size: initial\; background-repeat: initial\; background-attachment: initial\; background-origin: initial\; background-clip: initial\; color: rgb(102\, 102\, 102)\; font-family: &quot\;Open Sans&quot\;\, Helvetica\, Arial\, Lucida\, sans-serif\;"><span style="box-sizing: border-box\; margin: 0px\; padding: 0px\; border: 0px\; outline: 0px\; text-size-adjust: 100%\; vertical-align: baseline\; background: transparent\; font-weight: 700\;">Password:</span>&nbsp\;287565</p>\n\n<p style="box-sizing: border-box\; margin: 0px\; padding: 0px\; border: 0px\; outline: 0px\; font-size: 15px\; text-size-adjust: 100%\; vertical-align: baseline\; background-image: initial\; background-position: initial\; background-size: initial\; background-repeat: initial\; background-attachment: initial\; background-origin: initial\; background-clip: initial\; color: rgb(102\, 102\, 102)\; font-family: &quot\;Open Sans&quot\;\, Helvetica\, Arial\, Lucida\, sans-serif\;">REGISTRATION ON CEU EVENTS IS REQUIRED FOR YOUR ACCREDITATION AND CERTIFICATE OF COMPLETION.</p>\n\n<div class="wp-block-button" style="box-sizing: border-box\; margin: 0px\; padding: 0px\; border: 0px\; outline: 0px\; font-size: 15px\; text-size-adjust: 100%\; vertical-align: baseline\; background-image: initial\; background-position: initial\; background-size: initial\; background-repeat: initial\; background-attachment: initial\; background-origin: initial\; background-clip: initial\; color: rgb(255\, 255\, 255)\; font-family: &quot\;Open Sans&quot\;\, Helvetica\, Arial\, Lucida\, sans-serif\;"><a class="wp-block-button__link" href="http://r20.rs6.net/tn.jsp?f=001HkyzpzO0i1d3vMvJanN5U0JoCCwanz8hOXZlrNpdAdMbbmEX7V4qmwA7dW5ioAUunXHC5TG8NMJpWqCJyjYMB9Hwseb_l1LGcd6PDBc-Cosqmriod4YF2C5tt2oh3pB4QtwPupZ1O5-Ac0bYXi6QEbnZPHisHjmQ5PpQmkJhkTA=&amp\;c=Vi-LdzGY60bBUTsmcOykJOLkvZZi1aOFgbYbd16Cd-MwDQVt0Cn_hw==&amp\;ch=OgPKq08NIJI3ayRTXRTEluRNThJmY_oWebwlhqTmnG-98G0zJZxKXw==" style="box-sizing: border-box\; margin: 0px\; padding: 12px 24px\; border: none\; outline: 0px\; font-size: 18px\; text-size-adjust: 100%\; vertical-align: baseline\; background: rgb(50\, 55\, 60)\; color: inherit\; text-decoration-line: none\; border-radius: 28px\; box-shadow: none\; cursor: pointer\; display: inline-block\; text-align: center\; overflow-wrap: break-word\;">Register Now</a></div>\n
LOCATION:
UID:e.9458.3095
SEQUENCE:3
DTSTAMP:20260421T195414Z
URL:http://fabava.memberzone.com/events/details/webinar-champagne-baths-on-a-beer-budget-webinar-by-nvbia-3095
END:VEVENT

END:VCALENDAR
