BEGIN:VCALENDAR
VERSION:2.0
PRODID:-//ChamberMaster//Event Calendar 2.0//EN
METHOD:PUBLISH
X-PUBLISHED-TTL:P3D
REFRESH-INTERVAL:P3D
CALSCALE:GREGORIAN
BEGIN:VEVENT
DTSTART:20200414T150000Z
DTEND:20200414T160000Z
X-MICROSOFT-CDO-ALLDAYEVENT:FALSE
SUMMARY:Webinar: Cash Management During COVID-19
DESCRIPTION:Cash Management During COVID-19 Webinar (NAHB) - Tuesday\, April 14\, 11 am - 12 pm\nIt is more important now than ever to maintain a handle on your cash flows and finances. This webinar will explore best practices for managing your budget\, costs\, cash\, cycle times and more during a downturn. Specific topics to be addressed will also include: fixed vs. variable costs\, cash flow projection and cash management\, and fixed price vs. cost plus contracts. CLICK HERE TO REGISTER\n\n\n\nYou must have your NAHB log in information to access these webinars. Contact FABA at (540) 898-2730 and we will help you set up your login.
X-ALT-DESC;FMTTYPE=text/html:<span style="margin: 0px\; padding: 0px\; border: 0px\; font-variant-numeric: inherit\; font-variant-east-asian: inherit\; font-stretch: inherit\; font-size: 16px\; line-height: inherit\; font-family: Candara\, Optima\, sans-serif\; vertical-align: baseline\; color: rgb(50\, 49\, 48)\;"><b>Cash Management During COVID-19 Webinar (NAHB) - Tuesday\, April 14\, 11 am - 12 pm</b></span>\n<div style="margin: 0px\; padding: 0px\; border: 0px\; font-variant-numeric: inherit\; font-variant-east-asian: inherit\; font-stretch: inherit\; font-size: 16px\; line-height: inherit\; font-family: Arial\; vertical-align: baseline\; color: rgb(50\, 49\, 48)\;"><span style="margin: 0px\; padding: 0px\; border: 0px\; font-style: inherit\; font-variant: inherit\; font-weight: inherit\; font-stretch: inherit\; font-size: inherit\; line-height: inherit\; font-family: Candara\, Optima\, sans-serif\; vertical-align: baseline\; color: inherit\;">It is more important now than ever to maintain a handle on your cash flows and finances. This webinar will explore best practices for managing your budget\, costs\, cash\, cycle times and more during a downturn. Specific topics to be addressed will also include: fixed vs. variable costs\, cash flow projection and cash management\, and fixed price vs. cost plus contracts.&nbsp\;</span><a data-auth="NotApplicable" href="https://www.nahb.org/Other/Forms/Open/Member-Webinar-Cash-Management-During-COVID-19-4-14-2020" rel="noopener noreferrer" style="margin: 0px\; padding: 0px\; border: 0px\; font: inherit\; vertical-align: baseline\;" target="_blank" title="https://www.nahb.org/Other/Forms/Open/Member-Webinar-Cash-Management-During-COVID-19-4-14-2020"><span style="margin: 0px\; padding: 0px\; border: 0px\; font-style: inherit\; font-variant: inherit\; font-weight: inherit\; font-stretch: inherit\; font-size: inherit\; line-height: inherit\; font-family: Candara\, Optima\, sans-serif\; vertical-align: baseline\; color: inherit\;">CLICK HERE TO REGISTER</span></a><br />\n<br />\n<span style="color: rgb(50\, 49\, 48)\; font-family: Candara\, Optima\, sans-serif\; font-size: 16px\;">You must have your NAHB log in information to access these webinars. Contact FABA at (540) 898-2730 and we will help you set up your login.</span></div>\n
LOCATION:
UID:e.9458.3076
SEQUENCE:3
DTSTAMP:20260421T214421Z
URL:http://fabava.memberzone.com/events/details/webinar-cash-management-during-covid-19-3076
END:VEVENT

END:VCALENDAR
