BEGIN:VCALENDAR
VERSION:2.0
PRODID:-//ChamberMaster//Event Calendar 2.0//EN
METHOD:PUBLISH
X-PUBLISHED-TTL:P3D
REFRESH-INTERVAL:P3D
CALSCALE:GREGORIAN
BEGIN:VEVENT
DTSTART:20200416T150000Z
DTEND:20200416T160000Z
X-MICROSOFT-CDO-ALLDAYEVENT:FALSE
SUMMARY:Webinar: Business Tools to Survive a Pandemic (SBA)
DESCRIPTION:"Business Tools to Survive a Pandemic." webinar with the U.S. Small Business Administration's (SBA) (Free)\n\nThursday\, April 16 at 11:00 am   12:00 pm\n\nhttps://register.gotowebinar.com/register/5343743465338768907
X-ALT-DESC;FMTTYPE=text/html:<p style="box-sizing: border-box\; margin: 0px\; padding: 0px 0px 1em\; border: 0px\; outline: 0px\; font-size: 15px\; text-size-adjust: 100%\; vertical-align: baseline\; background-image: initial\; background-position: initial\; background-size: initial\; background-repeat: initial\; background-attachment: initial\; background-origin: initial\; background-clip: initial\; color: rgb(102\, 102\, 102)\; font-family: &quot\;Open Sans&quot\;\, Helvetica\, Arial\, Lucida\, sans-serif\;"><span style="box-sizing: border-box\; margin: 0px\; padding: 0px\; border: 0px\; outline: 0px\; text-size-adjust: 100%\; vertical-align: baseline\; background: transparent\; font-weight: 700\;">&ldquo\;Business Tools to Survive a Pandemic.&rdquo\; webinar with the&nbsp\;U.S. Small Business Administration&rsquo\;s (SBA) (Free)</span></p>\n\n<p style="box-sizing: border-box\; margin: 0px\; padding: 0px 0px 1em\; border: 0px\; outline: 0px\; font-size: 15px\; text-size-adjust: 100%\; vertical-align: baseline\; background-image: initial\; background-position: initial\; background-size: initial\; background-repeat: initial\; background-attachment: initial\; background-origin: initial\; background-clip: initial\; color: rgb(102\, 102\, 102)\; font-family: &quot\;Open Sans&quot\;\, Helvetica\, Arial\, Lucida\, sans-serif\;">Thursday\, April 16 at 11:00 am &ndash\; 12:00 pm</p>\n\n<p style="box-sizing: border-box\; margin: 0px\; padding: 0px\; border: 0px\; outline: 0px\; font-size: 15px\; text-size-adjust: 100%\; vertical-align: baseline\; background-image: initial\; background-position: initial\; background-size: initial\; background-repeat: initial\; background-attachment: initial\; background-origin: initial\; background-clip: initial\; color: rgb(102\, 102\, 102)\; font-family: &quot\;Open Sans&quot\;\, Helvetica\, Arial\, Lucida\, sans-serif\;"><a href="https://register.gotowebinar.com/register/5343743465338768907" rel="noreferrer noopener" style="box-sizing: border-box\; margin: 0px\; padding: 0px\; border: 0px\; outline: 0px\; text-size-adjust: 100%\; vertical-align: baseline\; background: transparent\; color: rgb(38\, 96\, 107)\; text-decoration-line: none\;" target="_blank">https://register.gotowebinar.com/register/5343743465338768907</a></p>\n
LOCATION:
UID:e.9458.3083
SEQUENCE:3
DTSTAMP:20260421T232348Z
URL:http://fabava.memberzone.com/events/details/webinar-business-tools-to-survive-a-pandemic-sba-3083
END:VEVENT

END:VCALENDAR
