BEGIN:VCALENDAR
VERSION:2.0
PRODID:-//ChamberMaster//Event Calendar 2.0//EN
METHOD:PUBLISH
X-PUBLISHED-TTL:P3D
REFRESH-INTERVAL:P3D
CALSCALE:GREGORIAN
BEGIN:VEVENT
DTSTART:20200511T210000Z
DTEND:20200511T214000Z
X-MICROSOFT-CDO-ALLDAYEVENT:FALSE
SUMMARY:Webinar: #BuildersAreEssential Webinar Series (Pt 6): The Future Is Now
DESCRIPTION:The Future Is Now. We turn our attention to the role of innovation\, data\, and technology in matching people with their homes. This session will bring the very latest real-time consumer search and buyer behavior to light. Learn how home builders are compressing six years of innovation in moving customers from contact to contract in VR-and-AI-enabled\, people friendly\, friction-free processes\, fit for post-COVID recovery.\n\nTim Costello\, Chairman & Chief Executive Officer\, Builder Homesite Inc.\, BDX\, New Home Source\, will serve as our special guest speaker.\n\nClick here to Register
X-ALT-DESC;FMTTYPE=text/html:<p style="box-sizing: border-box\; margin: 0px\; padding: 0px 0px 1em\; border: 0px\; outline: 0px\; font-size: 15px\; text-size-adjust: 100%\; vertical-align: baseline\; background-image: initial\; background-position: initial\; background-size: initial\; background-repeat: initial\; background-attachment: initial\; background-origin: initial\; background-clip: initial\; color: rgb(102\, 102\, 102)\; font-family: &quot\;Open Sans&quot\;\, Helvetica\, Arial\, Lucida\, sans-serif\;">The Future Is Now. We turn our attention to the role of innovation\, data\, and technology in matching people with their homes. This session will bring the very latest real-time consumer search and buyer behavior to light. Learn how home builders are compressing six years of innovation in moving customers from contact to contract in VR-and-AI-enabled\, people friendly\, friction-free processes\, fit for post-COVID recovery.</p>\n\n<p style="box-sizing: border-box\; margin: 0px\; padding: 0px\; border: 0px\; outline: 0px\; font-size: 15px\; text-size-adjust: 100%\; vertical-align: baseline\; background-image: initial\; background-position: initial\; background-size: initial\; background-repeat: initial\; background-attachment: initial\; background-origin: initial\; background-clip: initial\; color: rgb(102\, 102\, 102)\; font-family: &quot\;Open Sans&quot\;\, Helvetica\, Arial\, Lucida\, sans-serif\;">Tim Costello\, Chairman &amp\; Chief Executive Officer\, Builder Homesite Inc.\, BDX\, New Home Source\, will serve as our special guest speaker.</p>\n\n<div class="wp-block-button" style="box-sizing: border-box\; margin: 0px\; padding: 0px\; border: 0px\; outline: 0px\; font-size: 15px\; text-size-adjust: 100%\; vertical-align: baseline\; background-image: initial\; background-position: initial\; background-size: initial\; background-repeat: initial\; background-attachment: initial\; background-origin: initial\; background-clip: initial\; color: rgb(255\, 255\, 255)\; font-family: &quot\;Open Sans&quot\;\, Helvetica\, Arial\, Lucida\, sans-serif\;"><a class="wp-block-button__link" href="https://register.gotowebinar.com/register/5323467371998310411?source=BuilderRail" style="box-sizing: border-box\; margin: 0px\; padding: 12px 24px\; border: none\; outline: 0px\; font-size: 18px\; text-size-adjust: 100%\; vertical-align: baseline\; background: rgb(50\, 55\, 60)\; color: inherit\; text-decoration-line: none\; border-radius: 28px\; box-shadow: none\; cursor: pointer\; display: inline-block\; text-align: center\; overflow-wrap: break-word\;">Click here to Register</a></div>\n
LOCATION:
UID:e.9458.3100
SEQUENCE:3
DTSTAMP:20260421T213242Z
URL:http://fabava.memberzone.com/events/details/webinar-buildersareessential-webinar-series-pt-6-the-future-is-now-3100
END:VEVENT

END:VCALENDAR
