BEGIN:VCALENDAR
VERSION:2.0
PRODID:-//ChamberMaster//Event Calendar 2.0//EN
METHOD:PUBLISH
X-PUBLISHED-TTL:P3D
REFRESH-INTERVAL:P3D
CALSCALE:GREGORIAN
BEGIN:VEVENT
DTSTART:20200413T210000Z
DTEND:20200413T214000Z
X-MICROSOFT-CDO-ALLDAYEVENT:FALSE
SUMMARY:Webinar: #BuildersAreEssential Webinar Series (Part 2)
DESCRIPTION:#BuildersAreEssential Webinar Series (Part 2) - Monday\, April 13\, 5 pm - 5:40 pm\nCash Crash-Course\n\nLive webinar to learn what builders and their partners need to know now about cash tactics in a moment every dollar is crucial. in a moment where every dollar is crucial. \n\n  CLICK HERE to Register\n\n\n\n#BuildersAreEssential Webinar Series (Part 1): Why Essential Matters Now (Recording)\n\nWhat "essential" means in the face of recent policies\, and how construction companies and building supply chains are navigating the impact of an unprecedented public-health emergency and economic challenges. CLICK HERE to watch this webinar from Monday\, April 6\, 2020.
X-ALT-DESC;FMTTYPE=text/html:<span style="margin: 0px\; padding: 0px\; border: 0px\; font-variant-numeric: inherit\; font-variant-east-asian: inherit\; font-stretch: inherit\; font-size: 16px\; line-height: inherit\; font-family: Candara\, Optima\, sans-serif\; vertical-align: baseline\; color: rgb(50\, 49\, 48)\;"><b>#BuildersAreEssential Webinar Series (Part 2) - Monday\, April 13\, 5 pm - 5:40 pm</b></span>\n<div style="margin: 0px\; padding: 0px\; border: 0px\; font-variant-numeric: inherit\; font-variant-east-asian: inherit\; font-stretch: inherit\; font-size: 16px\; line-height: inherit\; font-family: Arial\; vertical-align: baseline\; color: rgb(50\, 49\, 48)\;"><span style="margin: 0px\; padding: 0px\; border: 0px\; font-style: inherit\; font-variant: inherit\; font-weight: inherit\; font-stretch: inherit\; font-size: inherit\; line-height: inherit\; font-family: Candara\, Optima\, sans-serif\; vertical-align: baseline\; color: inherit\;"><b>Cash Crash-Course</b></span></div>\n\n<div style="margin: 0px\; padding: 0px\; border: 0px\; font-variant-numeric: inherit\; font-variant-east-asian: inherit\; font-stretch: inherit\; font-size: 16px\; line-height: inherit\; font-family: Arial\; vertical-align: baseline\; color: rgb(50\, 49\, 48)\;"><span style="margin: 0px\; padding: 0px\; border: 0px\; font-style: inherit\; font-variant: inherit\; font-weight: inherit\; font-stretch: inherit\; font-size: inherit\; line-height: inherit\; font-family: Candara\, Optima\, sans-serif\; vertical-align: baseline\; color: inherit\;">Live webinar to learn what builders and their partners need to know now about cash tactics in a moment every dollar is crucial.&nbsp\;</span><span style="margin: 0px\; padding: 0px\; border: 0px\; font-style: inherit\; font-variant: inherit\; font-weight: inherit\; font-stretch: inherit\; font-size: inherit\; line-height: inherit\; font-family: Candara\, Optima\, sans-serif\; vertical-align: baseline\; color: inherit\;">in a moment where every dollar is crucial.&nbsp\;</span>\n\n<div style="margin: 0px\; padding: 0px\; border: 0px\; font-variant-numeric: inherit\; font-variant-east-asian: inherit\; font-stretch: inherit\; font-size: 16px\; line-height: inherit\; font-family: Arial\; vertical-align: baseline\; color: rgb(50\, 49\, 48)\;"><span style="margin: 0px\; padding: 0px\; border: 0px\; font-style: inherit\; font-variant: inherit\; font-weight: inherit\; font-stretch: inherit\; font-size: inherit\; line-height: inherit\; font-family: Candara\, Optima\, sans-serif\; vertical-align: baseline\; color: inherit\;">&nbsp\;</span><span style="margin: 0px\; padding: 0px\; border: 0px\; font-style: inherit\; font-variant: inherit\; font-weight: inherit\; font-stretch: inherit\; font-size: inherit\; line-height: inherit\; font-family: Candara\, Optima\, sans-serif\; vertical-align: baseline\; color: inherit\;">&nbsp\;</span><a data-auth="NotApplicable" href="https://register.gotowebinar.com/register/4862932528043631118?source=Pulse?utm_source=newsletter&amp\;utm_content=Article&amp\;utm_medium=email&amp\;utm_campaign=BP_040920&amp\;" rel="noopener noreferrer" style="margin: 0px\; padding: 0px\; border: 0px\; font: inherit\; vertical-align: baseline\;" target="_blank" title="https://register.gotowebinar.com/register/4862932528043631118?source=Pulse?utm_source=newsletter&amp\;utm_content=Article&amp\;utm_medium=email&amp\;utm_campaign=BP_040920&amp\;"><span style="margin: 0px\; padding: 0px\; border: 0px\; font-style: inherit\; font-variant: inherit\; font-weight: inherit\; font-stretch: inherit\; font-size: inherit\; line-height: inherit\; font-family: Candara\, Optima\, sans-serif\; vertical-align: baseline\; color: inherit\;">CLICK HERE to Register</span></a><br />\n<br />\n<span style="margin: 0px\; padding: 0px\; border: 0px\; font-style: inherit\; font-variant: inherit\; font-weight: inherit\; font-stretch: inherit\; font-size: inherit\; line-height: inherit\; font-family: Candara\, Optima\, sans-serif\; vertical-align: baseline\; color: inherit\;"><span style="margin: 0px\; padding: 0px\; border: 0px\; font: inherit\; vertical-align: baseline\; color: inherit\;"><b>#BuildersAreEssential Webinar Series (Part 1): Why Essential Matters Now (Recording)</b></span></span>\n\n<div style="margin: 0px\; padding: 0px\; border: 0px\; font: inherit\; vertical-align: baseline\; color: inherit\;"><span style="margin: 0px\; padding: 0px\; border: 0px\; font-style: inherit\; font-variant: inherit\; font-weight: inherit\; font-stretch: inherit\; font-size: inherit\; line-height: inherit\; font-family: Candara\, Optima\, sans-serif\; vertical-align: baseline\; color: inherit\;"><span style="margin: 0px\; padding: 0px\; border: 0px\; font: inherit\; vertical-align: baseline\; color: inherit\;">What &ldquo\;essential&rdquo\; means in the face of recent policies\, and how construction companies and building supply chains are navigating the impact of an unprecedented public-health emergency and economic challenges.&nbsp\;</span><a data-auth="NotApplicable" href="https://reg.hanleywood.com/rf/HWCOVID19/001/s/source/a/6992/" rel="noopener noreferrer" style="margin: 0px\; padding: 0px\; border: 0px\; font: inherit\; vertical-align: baseline\;" target="_blank" title="https://reg.hanleywood.com/rf/HWCOVID19/001/s/source/a/6992/"><span style="margin: 0px\; padding: 0px\; border: 0px\; font: inherit\; vertical-align: baseline\; color: inherit\;">CLICK HERE</span></a><span style="margin: 0px\; padding: 0px\; border: 0px\; font: inherit\; vertical-align: baseline\; color: inherit\;">&nbsp\;to watch this webinar from Monday\, April 6\, 2020.</span></span></div>\n</div>\n\n<blockquote style="font-family: Arial\; font-style: normal\; color: rgb(50\, 49\, 48)\; font-size: 16px\; margin: 0px 0px 0px 40px\; border: none\; padding: 0px\;">&nbsp\;</blockquote>\n</div>\n
LOCATION:
UID:e.9458.3072
SEQUENCE:3
DTSTAMP:20260421T214328Z
URL:http://fabava.memberzone.com/events/details/webinar-buildersareessential-webinar-series-part-2-3072
END:VEVENT

END:VCALENDAR
