BEGIN:VCALENDAR
VERSION:2.0
PRODID:-//ChamberMaster//Event Calendar 2.0//EN
METHOD:PUBLISH
X-PUBLISHED-TTL:P3D
REFRESH-INTERVAL:P3D
CALSCALE:GREGORIAN
BEGIN:VEVENT
DTSTART:20200427T210000Z
DTEND:20200427T214000Z
X-MICROSOFT-CDO-ALLDAYEVENT:FALSE
SUMMARY:Webinar: #BuildersAreEssential Series (Pt 4): Site Safety\, Mid-COVID-19
DESCRIPTION:Join us live for episode 4: Site Safety\, Mid-COVID-19. As economies local\, regional\, and national push to reopen\, reset\, and reboot the urgent new normal\, here's insight and resources on technology\, tactics\, process remapping\, practices\, scheduling\, logistics to protect builder health and safety.\n\n \n\nCLICK HERE TO REGISTER
X-ALT-DESC;FMTTYPE=text/html:<p style="box-sizing: border-box\; margin: 0px\; padding: 0px 0px 1em\; border: 0px\; outline: 0px\; font-size: 15px\; text-size-adjust: 100%\; vertical-align: baseline\; background-image: initial\; background-position: initial\; background-size: initial\; background-repeat: initial\; background-attachment: initial\; background-origin: initial\; background-clip: initial\; color: rgb(102\, 102\, 102)\; font-family: &quot\;Open Sans&quot\;\, Helvetica\, Arial\, Lucida\, sans-serif\;">Join us live for episode 4: Site Safety\, Mid-COVID-19. As economies&mdash\;local\, regional\, and national&mdash\;push to reopen\, reset\, and reboot the urgent new normal\, here&rsquo\;s insight and resources on technology\, tactics\, process remapping\, practices\, scheduling\, logistics to protect builder health and safety.</p>\n\n<p style="box-sizing: border-box\; margin: 0px\; padding: 0px\; border: 0px\; outline: 0px\; font-size: 15px\; text-size-adjust: 100%\; vertical-align: baseline\; background-image: initial\; background-position: initial\; background-size: initial\; background-repeat: initial\; background-attachment: initial\; background-origin: initial\; background-clip: initial\; color: rgb(102\, 102\, 102)\; font-family: &quot\;Open Sans&quot\;\, Helvetica\, Arial\, Lucida\, sans-serif\;">&nbsp\;</p>\n\n<div class="wp-block-button" style="box-sizing: border-box\; margin: 0px\; padding: 0px\; border: 0px\; outline: 0px\; font-size: 15px\; text-size-adjust: 100%\; vertical-align: baseline\; background-image: initial\; background-position: initial\; background-size: initial\; background-repeat: initial\; background-attachment: initial\; background-origin: initial\; background-clip: initial\; color: rgb(255\, 255\, 255)\; font-family: &quot\;Open Sans&quot\;\, Helvetica\, Arial\, Lucida\, sans-serif\;"><a class="wp-block-button__link" href="https://register.gotowebinar.com/register/3136102237927048719?source=Pulse&amp\;utm_source=newsletter&amp\;utm_content=Article&amp\;utm_medium=email&amp\;utm_campaign=BP_042420&amp\;" style="box-sizing: border-box\; margin: 0px\; padding: 12px 24px\; border: none\; outline: 0px\; font-size: 18px\; text-size-adjust: 100%\; vertical-align: baseline\; background: rgb(50\, 55\, 60)\; color: inherit\; text-decoration-line: none\; border-radius: 28px\; box-shadow: none\; cursor: pointer\; display: inline-block\; text-align: center\; overflow-wrap: break-word\;">CLICK HERE TO REGISTER</a></div>\n
LOCATION:
UID:e.9458.3091
SEQUENCE:3
DTSTAMP:20260421T214541Z
URL:http://fabava.memberzone.com/events/details/webinar-buildersareessential-series-pt-4-site-safety-mid-covid-19-3091
END:VEVENT

END:VCALENDAR
