BEGIN:VCALENDAR
VERSION:2.0
PRODID:-//ChamberMaster//Event Calendar 2.0//EN
METHOD:PUBLISH
X-PUBLISHED-TTL:P3D
REFRESH-INTERVAL:P3D
CALSCALE:GREGORIAN
BEGIN:VEVENT
DTSTART:20200623T140000Z
DTEND:20200623T150000Z
X-MICROSOFT-CDO-ALLDAYEVENT:FALSE
SUMMARY:Webinar: 3D Scanning (NVBIA)
DESCRIPTION:Charles P. Johnson & Associates invites you to partake in their upcoming 3D Scanning Webinar on June 23rd from 10:00AM to 11:00AM.\n\n3D scanning has many uses in the construction industry from providing topographic maps\, creating BIM models\, volume calculation\, asset management and much more!\n\nDoes your company need 3D Scanning? Let CPJ's very own Chris Guagliardo show you the benefits of scanning and decide if scanning is a good fit for you and your company.\n\nMust register in advance.\n\n\nClick here to Register
X-ALT-DESC;FMTTYPE=text/html:<p style="box-sizing: border-box\; margin: 0px\; padding: 0px 0px 1em\; border: 0px\; outline: 0px\; font-size: 15px\; text-size-adjust: 100%\; vertical-align: baseline\; background-image: initial\; background-position: initial\; background-size: initial\; background-repeat: initial\; background-attachment: initial\; background-origin: initial\; background-clip: initial\; color: rgb(102\, 102\, 102)\; font-family: &quot\;Open Sans&quot\;\, Helvetica\, Arial\, Lucida\, sans-serif\;">Charles P. Johnson &amp\; Associates invites you to partake in their upcoming 3D Scanning Webinar on June 23rd from 10:00AM to 11:00AM.</p>\n\n<p style="box-sizing: border-box\; margin: 0px\; padding: 0px 0px 1em\; border: 0px\; outline: 0px\; font-size: 15px\; text-size-adjust: 100%\; vertical-align: baseline\; background-image: initial\; background-position: initial\; background-size: initial\; background-repeat: initial\; background-attachment: initial\; background-origin: initial\; background-clip: initial\; color: rgb(102\, 102\, 102)\; font-family: &quot\;Open Sans&quot\;\, Helvetica\, Arial\, Lucida\, sans-serif\;">3D scanning has many uses in the construction industry from providing topographic maps\, creating BIM models\, volume calculation\, asset management and much more!</p>\n\n<p style="box-sizing: border-box\; margin: 0px\; padding: 0px 0px 1em\; border: 0px\; outline: 0px\; font-size: 15px\; text-size-adjust: 100%\; vertical-align: baseline\; background-image: initial\; background-position: initial\; background-size: initial\; background-repeat: initial\; background-attachment: initial\; background-origin: initial\; background-clip: initial\; color: rgb(102\, 102\, 102)\; font-family: &quot\;Open Sans&quot\;\, Helvetica\, Arial\, Lucida\, sans-serif\;">Does your company need 3D Scanning? Let CPJ&rsquo\;s very own Chris Guagliardo show you the benefits of scanning and decide if scanning is a good fit for you and your company.</p>\n\n<p style="box-sizing: border-box\; margin: 0px\; padding: 0px\; border: 0px\; outline: 0px\; font-size: 15px\; text-size-adjust: 100%\; vertical-align: baseline\; background-image: initial\; background-position: initial\; background-size: initial\; background-repeat: initial\; background-attachment: initial\; background-origin: initial\; background-clip: initial\; color: rgb(102\, 102\, 102)\; font-family: &quot\;Open Sans&quot\;\, Helvetica\, Arial\, Lucida\, sans-serif\;">Must register in advance.</p>\n\n<div class="wp-block-buttons" style="box-sizing: border-box\; margin: 0px\; padding: 0px\; border: 0px\; outline: 0px\; font-size: 15px\; text-size-adjust: 100%\; vertical-align: baseline\; background-image: initial\; background-position: initial\; background-size: initial\; background-repeat: initial\; background-attachment: initial\; background-origin: initial\; background-clip: initial\; color: rgb(102\, 102\, 102)\; font-family: &quot\;Open Sans&quot\;\, Helvetica\, Arial\, Lucida\, sans-serif\;">\n<div class="wp-block-button" style="box-sizing: border-box\; margin: 0px 8px 8px 0px\; padding: 0px\; border: 0px\; outline: 0px\; text-size-adjust: 100%\; vertical-align: baseline\; background: transparent\; color: rgb(255\, 255\, 255)\; display: inline-block\;"><a class="wp-block-button__link" href="http://r20.rs6.net/tn.jsp?f=001ZCuqQ0UGEe3gETNxAWZ8dFsWjfEFpxgFboWeYVLFtdXQ322UH8cJFy0qPuwvX1czwP_99Tmst5fCzMYMhUj-47LdHc-FqXuc1ncXbJGulQwnUCCIDEke4_WZFcUeKifFU0qKAL73g6UO-rp8Qb-w9XB2hiWqtalECDCJ0LpeX6GjEopL_Q957DjKPwy1CySYQjAtCg0L05pHelQt2cWPtA==&amp\;c=Q69QafmFNlam48qEazzt4BAQ_oHP4zK9Gykq206GgBEZmhx3n5TkBg==&amp\;ch=ofPn3FkmFWV2LfJEK8hH2HzpYAN-gB__suLoWqa2iLVmRWDRn5O3lw==" style="box-sizing: border-box\; margin: 0px\; padding: 12px 24px\; border: none\; outline: 0px\; font-size: 18px\; text-size-adjust: 100%\; vertical-align: baseline\; background: rgb(50\, 55\, 60)\; color: inherit\; text-decoration-line: none\; border-radius: 28px\; box-shadow: none\; cursor: pointer\; display: inline-block\; text-align: center\; overflow-wrap: break-word\;">Click here to Register</a></div>\n</div>\n
LOCATION:
UID:e.9458.3108
SEQUENCE:3
DTSTAMP:20260421T175726Z
URL:http://fabava.memberzone.com/events/details/webinar-3d-scanning-nvbia-3108
END:VEVENT

END:VCALENDAR
