BEGIN:VCALENDAR
VERSION:2.0
PRODID:-//ChamberMaster//Event Calendar 2.0//EN
METHOD:PUBLISH
X-PUBLISHED-TTL:P3D
REFRESH-INTERVAL:P3D
CALSCALE:GREGORIAN
BEGIN:VEVENT
DTSTART:20200618T180000Z
DTEND:20200618T190000Z
X-MICROSOFT-CDO-ALLDAYEVENT:FALSE
SUMMARY:Webinar: 10 Ingredients For A Great Website — A Recipe For Success
DESCRIPTION:As home shopping went virtual overnight\, your website has become your sales center\, your model home\, your design center. Now more than ever\, your website is the hub of your marketing programs and needs to attract\, engage\, and convert visitors. During this webinar\, you'll learn how to create a recipe for website success.\n\n\n	What CTAs will turn up the heat on conversion. \n	What content will make your engagement metrics sizzle?\n	How can you serve up an excellent experience no matter what device your shoppers are using?\n	And so much more   a full plate of helpful tips. \n\n\n\nRegister Here
X-ALT-DESC;FMTTYPE=text/html:<p style="box-sizing: border-box\; margin: 0px\; padding: 0px\; border: 0px\; outline: 0px\; font-size: 15px\; text-size-adjust: 100%\; vertical-align: baseline\; background-image: initial\; background-position: initial\; background-size: initial\; background-repeat: initial\; background-attachment: initial\; background-origin: initial\; background-clip: initial\; color: rgb(102\, 102\, 102)\; font-family: &quot\;Open Sans&quot\;\, Helvetica\, Arial\, Lucida\, sans-serif\;">As home shopping went virtual overnight\, your website has become your sales center\, your model home\, your design center. Now more than ever\, your website is the hub of your marketing programs and needs to attract\, engage\, and convert visitors. During this webinar\, you&rsquo\;ll learn how to create a recipe for website success.</p>\n\n<ul style="box-sizing: border-box\; margin: 0px\; padding-right: 0px\; padding-bottom: 23px\; padding-left: 1em\; border: 0px\; outline: 0px\; font-size: 15px\; text-size-adjust: 100%\; vertical-align: baseline\; background-image: initial\; background-position: initial\; background-size: initial\; background-repeat: initial\; background-attachment: initial\; background-origin: initial\; background-clip: initial\; list-style-position: initial\; list-style-image: initial\; line-height: 26px\; color: rgb(102\, 102\, 102)\; font-family: &quot\;Open Sans&quot\;\, Helvetica\, Arial\, Lucida\, sans-serif\;">\n	<li style="box-sizing: border-box\; margin: 0px\; padding: 0px\; border: 0px\; outline: 0px\; text-size-adjust: 100%\; vertical-align: baseline\; background: transparent\;">What CTAs will turn up the heat on conversion.&nbsp\;</li>\n	<li style="box-sizing: border-box\; margin: 0px\; padding: 0px\; border: 0px\; outline: 0px\; text-size-adjust: 100%\; vertical-align: baseline\; background: transparent\;">What content will make your engagement metrics sizzle?</li>\n	<li style="box-sizing: border-box\; margin: 0px\; padding: 0px\; border: 0px\; outline: 0px\; text-size-adjust: 100%\; vertical-align: baseline\; background: transparent\;">How can you serve up an excellent experience no matter what device your shoppers are using?</li>\n	<li style="box-sizing: border-box\; margin: 0px\; padding: 0px\; border: 0px\; outline: 0px\; text-size-adjust: 100%\; vertical-align: baseline\; background: transparent\;">And so much more &ndash\; a full plate of helpful tips.&nbsp\;</li>\n</ul>\n\n<div class="wp-block-buttons" style="box-sizing: border-box\; margin: 0px\; padding: 0px\; border: 0px\; outline: 0px\; font-size: 15px\; text-size-adjust: 100%\; vertical-align: baseline\; background-image: initial\; background-position: initial\; background-size: initial\; background-repeat: initial\; background-attachment: initial\; background-origin: initial\; background-clip: initial\; color: rgb(102\, 102\, 102)\; font-family: &quot\;Open Sans&quot\;\, Helvetica\, Arial\, Lucida\, sans-serif\;">\n<div class="wp-block-button" style="box-sizing: border-box\; margin: 0px 8px 8px 0px\; padding: 0px\; border: 0px\; outline: 0px\; text-size-adjust: 100%\; vertical-align: baseline\; background: transparent\; color: rgb(255\, 255\, 255)\; display: inline-block\;"><a class="wp-block-button__link" href="http://link.thebdx.com/c/6/?T=MjgyMDkwODg%3AMDItYjIwMTY3LTAxYTAwNWIxOTU1ZjRjODY4YWJhZjlkZDNkZmU2NTBh%3AZXZlbnRzQGZhYmF2YS5jb20%3AbGVhZC0yMGEzN2U3ZDZjN2ZlYTExYTgxMTAwMGQzYTM3ODk5Mi1hNGQyZTkxOGY0ZGI0MTMxYjdmMGYyZTJkNWVkMjE1MQ%3AZmFsc2U%3AMw%3A%3AaHR0cHM6Ly9hdHRlbmRlZS5nb3Rvd2ViaW5hci5jb20vcmVnaXN0ZXIvNjMxOTQ5NDA2NTcyNzc4OTU4Mz9zb3VyY2U9ZW1haWwmX2NsZGVlPVpYWmxiblJ6UUdaaFltRjJZUzVqYjIwJTNkJnJlY2lwaWVudGlkPWxlYWQtMjBhMzdlN2Q2YzdmZWExMWE4MTEwMDBkM2EzNzg5OTItYTRkMmU5MThmNGRiNDEzMWI3ZjBmMmUyZDVlZDIxNTEmZXNpZD1kYzUzYjk4MC0xY2FmLWVhMTEtYTgxMi0wMDBkM2EzNzhmNDc&amp\;K=riXfU4Olj-EKUcB-MqGjeQ" style="box-sizing: border-box\; margin: 0px\; padding: 12px 24px\; border: none\; outline: 0px\; font-size: 18px\; text-size-adjust: 100%\; vertical-align: baseline\; background: rgb(50\, 55\, 60)\; color: inherit\; text-decoration-line: none\; border-radius: 28px\; box-shadow: none\; cursor: pointer\; display: inline-block\; text-align: center\; overflow-wrap: break-word\;">Register Here</a></div>\n</div>\n
LOCATION:
UID:e.9458.3110
SEQUENCE:3
DTSTAMP:20260421T195415Z
URL:http://fabava.memberzone.com/events/details/webinar-10-ingredients-for-a-great-website-a-recipe-for-success-3110
END:VEVENT

END:VCALENDAR
