BEGIN:VCALENDAR
VERSION:2.0
PRODID:-//ChamberMaster//Event Calendar 2.0//EN
METHOD:PUBLISH
X-PUBLISHED-TTL:P3D
REFRESH-INTERVAL:P3D
CALSCALE:GREGORIAN
BEGIN:VEVENT
DTSTART:20190306T133000Z
DTEND:20190306T153000Z
X-MICROSOFT-CDO-ALLDAYEVENT:FALSE
SUMMARY:The Economy and the Housing Market featuring Elliot Eisenberg the Bowtie Economist
DESCRIPTION:When will the next recession hit? What trends are driving consumer behavior? How is a lack of inventory impacting our market?\n\n\n\nCome learn about these topics and more in a fun-filled session that will bring the home building and real estate industry together with a humorous take on the 2019 economic outlook. \n\n\n\nElliot will speak on the condition of the overall economy with an emphasis on the four components of GDP growth\, labor market conditions\, wage growth\, household wealth\, inflation and interest rates.\n\n\n\nHe will also present an update on the loacl housing market including residential construction activity\, existing sales activity\, home prices\, home sizes\, credit availability\, household formation\, demographics\, Millennials\, the timing of the next recession\, and much more. \n\n\n\nHe will also briefly compare economic conditions in Virginia to conditions in the other states and compare the Fredericksburg economy to that of other cities in Virginia.
X-ALT-DESC;FMTTYPE=text/html:<span style="font-size:14px\;"><span style="font-family:arial\;">When will the next recession hit? What trends are driving consumer behavior? How is a lack of inventory impacting our market?<br />\n<br />\nCome learn about these topics and more in a fun-filled session that will bring the home building and real estate industry together with a humorous take on the 2019 economic outlook.&nbsp\;<br />\n<br />\n<span style="color: rgb(33\, 33\, 33)\; background-color: rgb(255\, 255\, 255)\;">Elliot&nbsp\;</span><span style="color: rgb(33\, 33\, 33)\; background-color: rgb(255\, 255\, 255)\;">will speak on the condition of the overall economy with an emphasis on the four components of GDP growth\, labor market conditions\, wage growth\, household wealth\, inflation and interest rates.<br />\n<br />\nHe will also&nbsp\;present an update on the loacl housing market including residential construction activity\, existing sales activity\, home prices\, home sizes\, credit availability\, household formation\, demographics\, Millennials\, the timing of the next recession\, and much more.&nbsp\;<br />\n<br />\nHe&nbsp\;</span><span style="color: rgb(33\, 33\, 33)\; background-color: rgb(255\, 255\, 255)\;">will also briefly compare economic conditions in Virginia to conditions in the other states and</span><span style="color: rgb(33\, 33\, 33)\; background-color: rgb(255\, 255\, 255)\;">&nbsp\;compare the Fredericksburg economy to that of other cities in Virginia.&nbsp\;&nbsp\;</span></span></span>
LOCATION:Riverside Center 95 Riverside Parkway Fredericksburg\, VA 22406
UID:e.9458.2701
SEQUENCE:3
DTSTAMP:20260423T000935Z
URL:http://fabava.memberzone.com/events/details/the-economy-and-the-housing-market-featuring-elliot-eisenberg-the-bowtie-economist-2701
END:VEVENT

END:VCALENDAR
