BEGIN:VCALENDAR
VERSION:2.0
PRODID:-//ChamberMaster//Event Calendar 2.0//EN
METHOD:PUBLISH
X-PUBLISHED-TTL:P3D
REFRESH-INTERVAL:P3D
CALSCALE:GREGORIAN
BEGIN:VEVENT
DTSTART;VALUE=DATE:20181121
DTEND;VALUE=DATE:20181124
TRANSP:TRANSPARENT
X-MICROSOFT-CDO-ALLDAYEVENT:TRUE
SUMMARY:Thanksgiving Break - FABA CLOSED
DESCRIPTION:FABA will be closed November 22nd\, 23rd\, & 24th in observance of Thanksgiving Day. \n\n\n\nHave a Happy Thanksgiving!
X-ALT-DESC;FMTTYPE=text/html:FABA will be closed November 22nd\, 23rd\, &amp\; 24th in observance of Thanksgiving Day.&nbsp\;<br />\n<br />\nHave a Happy Thanksgiving!&nbsp\;
LOCATION:
UID:e.9458.2602
SEQUENCE:3
DTSTAMP:20260423T112127Z
URL:http://fabava.memberzone.com/events/details/thanksgiving-break-faba-closed-2602
END:VEVENT

END:VCALENDAR
