BEGIN:VCALENDAR
VERSION:2.0
PRODID:-//ChamberMaster//Event Calendar 2.0//EN
METHOD:PUBLISH
X-PUBLISHED-TTL:P3D
REFRESH-INTERVAL:P3D
CALSCALE:GREGORIAN
BEGIN:VEVENT
DTSTART:20210621T130000Z
DTEND:20210621T140000Z
X-MICROSOFT-CDO-ALLDAYEVENT:FALSE
SUMMARY:Stafford County Bi-monthly Meeting
DESCRIPTION:Take this opportunity to meet with planning and building officials to ask questions and get updates about issues that could impact the building industry\n\n \nFABA & Stafford County Bi-Monthly Meeting (Zoom)\n\nTime: Jun 14\, 2021 09:00 AM Eastern Time (US and Canada)\n\n        Every 2 months on the Second Mon\, until Jun 14\, 2021\, 1 occurrence(s)\n\n        Jun 14\, 2021 09:00 AM\n\nPlease download and import the following iCalendar (.ics) files to your calendar system.\n\nMonthly: https://us02web.zoom.us/meeting/tZYlduCvqTosGtVcTAZL1vrjzlwhSar8f4Wd/ics?icsToken=98tyKuGqpjojHdOUthmGRpwQGoj4Xe3wtn5djbdrnyvEOQwCdBH8LO5VOoF-AoDW\n\n \n\nJoin Zoom Meeting\n\nhttps://us02web.zoom.us/j/82819771601?pwd=KzlWTnozaEZZam1aSmh6WUpzQVBOZz09\n\n \n\nMeeting ID: 828 1977 1601\n\nPasscode: 392973\n\nOne tap mobile\n\n+13126266799\,\,82819771601#\,\,\,\,*392973# US (Chicago)\n\n+16465588656\,\,82819771601#\,\,\,\,*392973# US (New York)\n\n \n\nDial by your location\n\n        +1 312 626 6799 US (Chicago)\n\n        +1 646 558 8656 US (New York)\n\n        +1 301 715 8592 US (Washington DC)\n\n        +1 346 248 7799 US (Houston)\n\n        +1 669 900 9128 US (San Jose)\n\n        +1 253 215 8782 US (Tacoma)\n\nMeeting ID: 828 1977 1601\n\nPasscode: 392973\n\nFind your local number: https://us02web.zoom.us/u/kedOr6bCVD
X-ALT-DESC;FMTTYPE=text/html:Take this opportunity to meet with planning and building officials to ask questions and get updates about issues that could impact the building industry<br />\n&nbsp\;\n<div style="margin: 0px\; padding: 0px\; border: 0px\; font: inherit\; vertical-align: baseline\; color: inherit\;">FABA &amp\; Stafford County Bi-Monthly Meeting (Zoom)</div>\n\n<div style="margin: 0px\; padding: 0px\; border: 0px\; font: inherit\; vertical-align: baseline\; color: inherit\;">Time: Jun 14\, 2021 09:00 AM Eastern Time (US and Canada)</div>\n\n<div style="margin: 0px\; padding: 0px\; border: 0px\; font: inherit\; vertical-align: baseline\; color: inherit\;">&nbsp\; &nbsp\; &nbsp\; &nbsp\; Every 2 months on the Second Mon\, until Jun 14\, 2021\, 1 occurrence(s)</div>\n\n<div style="margin: 0px\; padding: 0px\; border: 0px\; font: inherit\; vertical-align: baseline\; color: inherit\;">&nbsp\; &nbsp\; &nbsp\; &nbsp\; Jun 14\, 2021 09:00 AM</div>\n\n<div style="margin: 0px\; padding: 0px\; border: 0px\; font: inherit\; vertical-align: baseline\; color: inherit\;">Please download and import the following iCalendar (.ics) files to your calendar system.</div>\n\n<div style="margin: 0px\; padding: 0px\; border: 0px\; font: inherit\; vertical-align: baseline\; color: inherit\;">Monthly: https://us02web.zoom.us/meeting/tZYlduCvqTosGtVcTAZL1vrjzlwhSar8f4Wd/ics?icsToken=98tyKuGqpjojHdOUthmGRpwQGoj4Xe3wtn5djbdrnyvEOQwCdBH8LO5VOoF-AoDW</div>\n\n<div style="margin: 0px\; padding: 0px\; border: 0px\; font: inherit\; vertical-align: baseline\; color: inherit\;">&nbsp\;</div>\n\n<div style="margin: 0px\; padding: 0px\; border: 0px\; font: inherit\; vertical-align: baseline\; color: inherit\;">Join Zoom Meeting</div>\n\n<div style="margin: 0px\; padding: 0px\; border: 0px\; font: inherit\; vertical-align: baseline\; color: inherit\;">https://us02web.zoom.us/j/82819771601?pwd=KzlWTnozaEZZam1aSmh6WUpzQVBOZz09</div>\n\n<div style="margin: 0px\; padding: 0px\; border: 0px\; font: inherit\; vertical-align: baseline\; color: inherit\;">&nbsp\;</div>\n\n<div style="margin: 0px\; padding: 0px\; border: 0px\; font: inherit\; vertical-align: baseline\; color: inherit\;">Meeting ID: 828 1977 1601</div>\n\n<div style="margin: 0px\; padding: 0px\; border: 0px\; font: inherit\; vertical-align: baseline\; color: inherit\;">Passcode: 392973</div>\n\n<div style="margin: 0px\; padding: 0px\; border: 0px\; font: inherit\; vertical-align: baseline\; color: inherit\;">One tap mobile</div>\n\n<div style="margin: 0px\; padding: 0px\; border: 0px\; font: inherit\; vertical-align: baseline\; color: inherit\;">+13126266799\,\,82819771601#\,\,\,\,*392973# US (Chicago)</div>\n\n<div style="margin: 0px\; padding: 0px\; border: 0px\; font: inherit\; vertical-align: baseline\; color: inherit\;">+16465588656\,\,82819771601#\,\,\,\,*392973# US (New York)</div>\n\n<div style="margin: 0px\; padding: 0px\; border: 0px\; font: inherit\; vertical-align: baseline\; color: inherit\;">&nbsp\;</div>\n\n<div style="margin: 0px\; padding: 0px\; border: 0px\; font: inherit\; vertical-align: baseline\; color: inherit\;">Dial by your location</div>\n\n<div style="margin: 0px\; padding: 0px\; border: 0px\; font: inherit\; vertical-align: baseline\; color: inherit\;">&nbsp\; &nbsp\; &nbsp\; &nbsp\; +1 312 626 6799 US (Chicago)</div>\n\n<div style="margin: 0px\; padding: 0px\; border: 0px\; font: inherit\; vertical-align: baseline\; color: inherit\;">&nbsp\; &nbsp\; &nbsp\; &nbsp\; +1 646 558 8656 US (New York)</div>\n\n<div style="margin: 0px\; padding: 0px\; border: 0px\; font: inherit\; vertical-align: baseline\; color: inherit\;">&nbsp\; &nbsp\; &nbsp\; &nbsp\; +1 301 715 8592 US (Washington DC)</div>\n\n<div style="margin: 0px\; padding: 0px\; border: 0px\; font: inherit\; vertical-align: baseline\; color: inherit\;">&nbsp\; &nbsp\; &nbsp\; &nbsp\; +1 346 248 7799 US (Houston)</div>\n\n<div style="margin: 0px\; padding: 0px\; border: 0px\; font: inherit\; vertical-align: baseline\; color: inherit\;">&nbsp\; &nbsp\; &nbsp\; &nbsp\; +1 669 900 9128 US (San Jose)</div>\n\n<div style="margin: 0px\; padding: 0px\; border: 0px\; font: inherit\; vertical-align: baseline\; color: inherit\;">&nbsp\; &nbsp\; &nbsp\; &nbsp\; +1 253 215 8782 US (Tacoma)</div>\n\n<div style="margin: 0px\; padding: 0px\; border: 0px\; font: inherit\; vertical-align: baseline\; color: inherit\;">Meeting ID: 828 1977 1601</div>\n\n<div style="margin: 0px\; padding: 0px\; border: 0px\; font: inherit\; vertical-align: baseline\; color: inherit\;">Passcode: 392973</div>\n\n<div style="margin: 0px\; padding: 0px\; border: 0px\; font: inherit\; vertical-align: baseline\; color: inherit\;">Find your local number: https://us02web.zoom.us/u/kedOr6bCVD</div>\n\n<div style="margin: 0px\; padding: 0px\; border: 0px\; font: inherit\; vertical-align: baseline\; color: inherit\;">&nbsp\;</div>\n
LOCATION:FABA & Stafford County Bi-Monthly Meeting (Zoom) Time: Jun 14\, 2021 09:00 AM Eastern Time (US and Canada) Every 2 months on the Second Mon\, until Jun 14\, 2021\, 1 occurrence(s) Jun 14\, 2021 09:00 AM Please download and import the following iCalendar (.ics) files to your calendar system. Monthly: https://us02web.zoom.us/meeting/tZYlduCvqTosGtVcTAZL1vrjzlwhSar8f4Wd/ics?icsToken=98tyKuGqpjojHdOUthmGRpwQGoj4Xe3wtn5djbdrnyvEOQwCdBH8LO5VOoF-AoDW Join Zoom Meeting https://us02web.zoom.us/j/82819771601?pwd=KzlWTnozaEZZam1aSmh6WUpzQVBOZz09 Meeting ID: 828 1977 1601 Passcode: 392973 One tap mobile +13126266799\,\,82819771601#\,\,\,\,*392973# US (Chicago) +16465588656\,\,82819771601#\,\,\,\,*392973# US (New York) Dial by your location +1 312 626 6799 US (Chicago) +1 646 558 8656 US (New York) +1 301 715 8592 US (Washington DC) +1 346 248 7799 US (Houston) +1 669 900 9128 US (San Jose) +1 253 215 8782 US (Tacoma) Meeting ID: 828 1977 1601 Passcode: 392973 Find your local number: https://us02web.zoom.us/u/kedOr6bCVD
UID:e.9458.3231
SEQUENCE:3
DTSTAMP:20260420T211640Z
URL:http://fabava.memberzone.com/events/details/stafford-county-bi-monthly-meeting-06-14-2021-3231
END:VEVENT

END:VCALENDAR
