BEGIN:VCALENDAR
VERSION:2.0
PRODID:-//ChamberMaster//Event Calendar 2.0//EN
METHOD:PUBLISH
X-PUBLISHED-TTL:P3D
REFRESH-INTERVAL:P3D
CALSCALE:GREGORIAN
BEGIN:VEVENT
DTSTART:20220411T130000Z
DTEND:20220411T140000Z
X-MICROSOFT-CDO-ALLDAYEVENT:FALSE
SUMMARY:Stafford County Bi-monthly Meeting
DESCRIPTION:Take this opportunity to meet with planning and building officials to ask questions and get updates about issues that impact the building industry
X-ALT-DESC;FMTTYPE=text/html:Take this opportunity to meet with planning and building officials to ask questions and get updates about issues that impact the building industry
LOCATION:FABA & Stafford County Bi-Monthly Meeting. These meetings will be held virtually via Zoom. Please note: This is a recurring calendar date. FABA is inviting you to a scheduled Zoom meeting. Topic: FABA & Stafford County Bi-Monthly Meeting (Zoom) This meeting re-occurs every 2 months (bi monthly) on the Second Mon\, until the end of 2022. The zoom information will remain the same. Join Zoom Meeting https://us02web.zoom.us/j/82819771601?pwd=KzlWTnozaEZZam1aSmh6WUpzQVBOZz09
UID:e.9458.3444
SEQUENCE:3
DTSTAMP:20260419T233619Z
URL:http://fabava.memberzone.com/events/details/stafford-county-bi-monthly-meeting-04-11-2022-3444
END:VEVENT

END:VCALENDAR
