BEGIN:VCALENDAR
VERSION:2.0
PRODID:-//ChamberMaster//Event Calendar 2.0//EN
METHOD:PUBLISH
X-PUBLISHED-TTL:P3D
REFRESH-INTERVAL:P3D
CALSCALE:GREGORIAN
BEGIN:VEVENT
DTSTART:20200313T130000Z
DTEND:20200313T140000Z
X-MICROSOFT-CDO-ALLDAYEVENT:FALSE
SUMMARY:Spring Golf Committee Meeting
DESCRIPTION:Golf Tournament Committee\n\nWould you like to be involved in helping with the planning of our Spring Golf Tournament on May 4th at Fawn Lake?  Then this is the committee for you.  Join us to help work out the details for our always sold out tournament.  \n\nContact Laura Gilchrist for more information at Laura.Gilchrist@nswcfcu.org
X-ALT-DESC;FMTTYPE=text/html:Golf Tournament Committee<br />\nWould you like to be involved in helping with the planning of our Spring Golf Tournament on May 4th at Fawn Lake?&nbsp\; Then this is the committee for you.&nbsp\; Join us to help work out the details for our always sold out tournament.&nbsp\;&nbsp\;<br />\nContact Laura Gilchrist for more information at&nbsp\;Laura.Gilchrist@nswcfcu.org
LOCATION:FABA Conference Room
UID:e.9458.3066
SEQUENCE:3
DTSTAMP:20260422T012921Z
URL:http://fabava.memberzone.com/events/details/spring-golf-committee-meeting-3066
END:VEVENT

END:VCALENDAR
