BEGIN:VCALENDAR
VERSION:2.0
PRODID:-//ChamberMaster//Event Calendar 2.0//EN
METHOD:PUBLISH
X-PUBLISHED-TTL:P3D
REFRESH-INTERVAL:P3D
CALSCALE:GREGORIAN
BEGIN:VEVENT
DTSTART:20211206T200000Z
DTEND:20211206T210000Z
X-MICROSOFT-CDO-ALLDAYEVENT:FALSE
SUMMARY:Spotsylvania County Bi-Monthly Meeting
DESCRIPTION:Take this opportunity to meet with planning and building officials to ask questions and get updates about issues that could impact the building industry
X-ALT-DESC;FMTTYPE=text/html:Take this opportunity to meet with planning and building officials to ask questions and get updates about issues that could impact the building industry
LOCATION:Spotsylvania Building Department 9019 Old Battlefield Blvd.\, Spotsylvania\, VA 22553 Third floor in the Economic Development conference room
UID:e.9458.3228
SEQUENCE:3
DTSTAMP:20260420T072453Z
URL:http://fabava.memberzone.com/events/details/spotsylvania-county-bi-monthly-meeting-12-06-2021-3228
END:VEVENT

END:VCALENDAR
