BEGIN:VCALENDAR
VERSION:2.0
PRODID:-//ChamberMaster//Event Calendar 2.0//EN
METHOD:PUBLISH
X-PUBLISHED-TTL:P3D
REFRESH-INTERVAL:P3D
CALSCALE:GREGORIAN
BEGIN:VEVENT
DTSTART:20210607T190000Z
DTEND:20210607T200000Z
X-MICROSOFT-CDO-ALLDAYEVENT:FALSE
SUMMARY:Spotsylvania County Bi-Monthly Meeting
DESCRIPTION:Take this opportunity to meet with planning and building officials to ask questions and get updates about issues that could impact the building industry\n\n \nFABA & Spotsylvania County Bi-Monthly Meeting (Zoom)\n\nTime: Jun 7\, 2021 03:00 PM Eastern Time (US and Canada)\n\n        Every 2 months on the First Mon\, until Jun 7\, 2021\, 1 occurrence(s)\n\n        Jun 7\, 2021 03:00 PM\n\nPlease download and import the following iCalendar (.ics) files to your calendar system.\n\nMonthly: https://us02web.zoom.us/meeting/tZEpcu-vqT8tHtKPnYllKKZRDhiQMyV47nRr/ics?icsToken=98tyKuGtqj4sHdORtx2BRpwMBo_4M-3wtilagrd2rBHcDyx4STnEEupLA59mJoyH\n\n \n\nJoin Zoom Meeting\n\nhttps://us02web.zoom.us/j/85456774746?pwd=SFpETHdrSHBKRnZHNHdvWDBTSXRKQT09\n\n \n\nMeeting ID: 854 5677 4746\n\nPasscode: 964337\n\nOne tap mobile\n\n+13017158592\,\,85456774746#\,\,\,\,*964337# US (Washington DC)\n\n+13126266799\,\,85456774746#\,\,\,\,*964337# US (Chicago)\n\n \n\nDial by your location\n\n        +1 301 715 8592 US (Washington DC)\n\n        +1 312 626 6799 US (Chicago)\n\n        +1 646 558 8656 US (New York)\n\n        +1 253 215 8782 US (Tacoma)\n\n        +1 346 248 7799 US (Houston)\n\n        +1 669 900 9128 US (San Jose)\n\nMeeting ID: 854 5677 4746\n\nPasscode: 964337\n\nFind your local number: https://us02web.zoom.us/u/kTqAjGsNk
X-ALT-DESC;FMTTYPE=text/html:Take this opportunity to meet with planning and building officials to ask questions and get updates about issues that could impact the building industry<br />\n&nbsp\;\n<div style="margin: 0px\; padding: 0px\; border: 0px\; font: inherit\; vertical-align: baseline\; color: inherit\;">FABA &amp\; Spotsylvania County Bi-Monthly Meeting (Zoom)</div>\n\n<div style="margin: 0px\; padding: 0px\; border: 0px\; font: inherit\; vertical-align: baseline\; color: inherit\;">Time: Jun 7\, 2021 03:00 PM Eastern Time (US and Canada)</div>\n\n<div style="margin: 0px\; padding: 0px\; border: 0px\; font: inherit\; vertical-align: baseline\; color: inherit\;">&nbsp\; &nbsp\; &nbsp\; &nbsp\; Every 2 months on the First Mon\, until Jun 7\, 2021\, 1 occurrence(s)</div>\n\n<div style="margin: 0px\; padding: 0px\; border: 0px\; font: inherit\; vertical-align: baseline\; color: inherit\;">&nbsp\; &nbsp\; &nbsp\; &nbsp\; Jun 7\, 2021 03:00 PM</div>\n\n<div style="margin: 0px\; padding: 0px\; border: 0px\; font: inherit\; vertical-align: baseline\; color: inherit\;">Please download and import the following iCalendar (.ics) files to your calendar system.</div>\n\n<div style="margin: 0px\; padding: 0px\; border: 0px\; font: inherit\; vertical-align: baseline\; color: inherit\;">Monthly: https://us02web.zoom.us/meeting/tZEpcu-vqT8tHtKPnYllKKZRDhiQMyV47nRr/ics?icsToken=98tyKuGtqj4sHdORtx2BRpwMBo_4M-3wtilagrd2rBHcDyx4STnEEupLA59mJoyH</div>\n\n<div style="margin: 0px\; padding: 0px\; border: 0px\; font: inherit\; vertical-align: baseline\; color: inherit\;">&nbsp\;</div>\n\n<div style="margin: 0px\; padding: 0px\; border: 0px\; font: inherit\; vertical-align: baseline\; color: inherit\;">Join Zoom Meeting</div>\n\n<div style="margin: 0px\; padding: 0px\; border: 0px\; font: inherit\; vertical-align: baseline\; color: inherit\;">https://us02web.zoom.us/j/85456774746?pwd=SFpETHdrSHBKRnZHNHdvWDBTSXRKQT09</div>\n\n<div style="margin: 0px\; padding: 0px\; border: 0px\; font: inherit\; vertical-align: baseline\; color: inherit\;">&nbsp\;</div>\n\n<div style="margin: 0px\; padding: 0px\; border: 0px\; font: inherit\; vertical-align: baseline\; color: inherit\;">Meeting ID: 854 5677 4746</div>\n\n<div style="margin: 0px\; padding: 0px\; border: 0px\; font: inherit\; vertical-align: baseline\; color: inherit\;">Passcode: 964337</div>\n\n<div style="margin: 0px\; padding: 0px\; border: 0px\; font: inherit\; vertical-align: baseline\; color: inherit\;">One tap mobile</div>\n\n<div style="margin: 0px\; padding: 0px\; border: 0px\; font: inherit\; vertical-align: baseline\; color: inherit\;">+13017158592\,\,85456774746#\,\,\,\,*964337# US (Washington DC)</div>\n\n<div style="margin: 0px\; padding: 0px\; border: 0px\; font: inherit\; vertical-align: baseline\; color: inherit\;">+13126266799\,\,85456774746#\,\,\,\,*964337# US (Chicago)</div>\n\n<div style="margin: 0px\; padding: 0px\; border: 0px\; font: inherit\; vertical-align: baseline\; color: inherit\;">&nbsp\;</div>\n\n<div style="margin: 0px\; padding: 0px\; border: 0px\; font: inherit\; vertical-align: baseline\; color: inherit\;">Dial by your location</div>\n\n<div style="margin: 0px\; padding: 0px\; border: 0px\; font: inherit\; vertical-align: baseline\; color: inherit\;">&nbsp\; &nbsp\; &nbsp\; &nbsp\; +1 301 715 8592 US (Washington DC)</div>\n\n<div style="margin: 0px\; padding: 0px\; border: 0px\; font: inherit\; vertical-align: baseline\; color: inherit\;">&nbsp\; &nbsp\; &nbsp\; &nbsp\; +1 312 626 6799 US (Chicago)</div>\n\n<div style="margin: 0px\; padding: 0px\; border: 0px\; font: inherit\; vertical-align: baseline\; color: inherit\;">&nbsp\; &nbsp\; &nbsp\; &nbsp\; +1 646 558 8656 US (New York)</div>\n\n<div style="margin: 0px\; padding: 0px\; border: 0px\; font: inherit\; vertical-align: baseline\; color: inherit\;">&nbsp\; &nbsp\; &nbsp\; &nbsp\; +1 253 215 8782 US (Tacoma)</div>\n\n<div style="margin: 0px\; padding: 0px\; border: 0px\; font: inherit\; vertical-align: baseline\; color: inherit\;">&nbsp\; &nbsp\; &nbsp\; &nbsp\; +1 346 248 7799 US (Houston)</div>\n\n<div style="margin: 0px\; padding: 0px\; border: 0px\; font: inherit\; vertical-align: baseline\; color: inherit\;">&nbsp\; &nbsp\; &nbsp\; &nbsp\; +1 669 900 9128 US (San Jose)</div>\n\n<div style="margin: 0px\; padding: 0px\; border: 0px\; font: inherit\; vertical-align: baseline\; color: inherit\;">Meeting ID: 854 5677 4746</div>\n\n<div style="margin: 0px\; padding: 0px\; border: 0px\; font: inherit\; vertical-align: baseline\; color: inherit\;">Passcode: 964337</div>\n\n<div style="margin: 0px\; padding: 0px\; border: 0px\; font: inherit\; vertical-align: baseline\; color: inherit\;">Find your local number: https://us02web.zoom.us/u/kTqAjGsNk</div>\n\n<div style="margin: 0px\; padding: 0px\; border: 0px\; font: inherit\; vertical-align: baseline\; color: inherit\;">&nbsp\;</div>\n
LOCATION:FABA & Spotsylvania County Bi-Monthly Meeting (Zoom) Time: Jun 7\, 2021 03:00 PM Eastern Time (US and Canada) Every 2 months on the First Mon\, until Jun 7\, 2021\, 1 occurrence(s) Jun 7\, 2021 03:00 PM Please download and import the following iCalendar (.ics) files to your calendar system. Monthly: https://us02web.zoom.us/meeting/tZEpcu-vqT8tHtKPnYllKKZRDhiQMyV47nRr/ics?icsToken=98tyKuGtqj4sHdORtx2BRpwMBo_4M-3wtilagrd2rBHcDyx4STnEEupLA59mJoyH Join Zoom Meeting https://us02web.zoom.us/j/85456774746?pwd=SFpETHdrSHBKRnZHNHdvWDBTSXRKQT09 Meeting ID: 854 5677 4746 Passcode: 964337 One tap mobile +13017158592\,\,85456774746#\,\,\,\,*964337# US (Washington DC) +13126266799\,\,85456774746#\,\,\,\,*964337# US (Chicago) Dial by your location +1 301 715 8592 US (Washington DC) +1 312 626 6799 US (Chicago) +1 646 558 8656 US (New York) +1 253 215 8782 US (Tacoma) +1 346 248 7799 US (Houston) +1 669 900 9128 US (San Jose) Meeting ID: 854 5677 4746 Passcode: 964337 Find your local number: https://us02web.zoom.us/u/kTqAjGsNk
UID:e.9458.3225
SEQUENCE:3
DTSTAMP:20260420T231046Z
URL:http://fabava.memberzone.com/events/details/spotsylvania-county-bi-monthly-meeting-06-07-2021-3225
END:VEVENT

END:VCALENDAR
