BEGIN:VCALENDAR
VERSION:2.0
PRODID:-//ChamberMaster//Event Calendar 2.0//EN
METHOD:PUBLISH
X-PUBLISHED-TTL:P3D
REFRESH-INTERVAL:P3D
CALSCALE:GREGORIAN
BEGIN:VEVENT
DTSTART:20190213T220000Z
DTEND:20190213T230000Z
X-MICROSOFT-CDO-ALLDAYEVENT:FALSE
SUMMARY:Plan Your Estate and Protect your Assets- Estate Planning Education
DESCRIPTION:HOW TO PLAN YOUR ESTATE & PROTECT YOUR ASSETS\n\n \n\nThis presentation will walk you through the estate planning process. You will learn how wills\, powers of attorney\, advanced medical directives\, and trusts are used in basic estate planning\, as well as some insightful considerations for transferring and protecting YOUR business and business assets.\n\n\n\nJeremy L. Pryor\, an attorney with the law firm of Carrell Blanton Ferris & Associates\, PLC will cover different methods you can use to avoid probate and simplify the estate administration process. This will be an engaging presentation so come with your questions!
X-ALT-DESC;FMTTYPE=text/html:<p class="x_MsoNormal" style="margin: 0in 0in 0.0001pt\; font-size: 12pt\; font-family: &quot\;Times New Roman&quot\;\, serif\; color: rgb(33\, 33\, 33)\;"><em><span style="font-family:arial\;"><span lang="EN">HOW TO PLAN YOUR ESTATE &amp\; PROTECT YOUR ASSETS</span></span></em><br />\n&nbsp\;</p>\n\n<p class="x_MsoNormal" style="margin: 0in 0in 0.0001pt\; font-size: 12pt\; font-family: &quot\;Times New Roman&quot\;\, serif\; color: rgb(33\, 33\, 33)\;"><em><span style="font-family:arial\;"><span lang="EN">This presentation will walk you through the estate planning process. You will learn how wills\, powers of attorney\, advanced medical directives\, and trusts are used in basic estate planning\, as well as some insightful considerations for transferring and protecting YOUR&nbsp\;business and business assets.<br />\n<br />\nJeremy L. Pryor\, an attorney with the law firm of Carrell Blanton Ferris &amp\; Associates\, PLC will cover different methods you can use to avoid probate and simplify the estate administration process. This will be an engaging presentation so come with your questions!</span></span></em></p>\n
LOCATION:FABA Boardroom
UID:e.9458.2703
SEQUENCE:3
DTSTAMP:20260423T031217Z
URL:http://fabava.memberzone.com/events/details/plan-your-estate-and-protect-your-assets-estate-planning-education-2703
END:VEVENT

END:VCALENDAR
