BEGIN:VCALENDAR
VERSION:2.0
PRODID:-//ChamberMaster//Event Calendar 2.0//EN
METHOD:PUBLISH
X-PUBLISHED-TTL:P3D
REFRESH-INTERVAL:P3D
CALSCALE:GREGORIAN
BEGIN:VEVENT
DTSTART:20170920T153000Z
DTEND:20170920T043000Z
X-MICROSOFT-CDO-ALLDAYEVENT:FALSE
SUMMARY:Parade of Homes Meeting
DESCRIPTION:Parade of Homes Committee meeting.
X-ALT-DESC;FMTTYPE=text/html:Parade of Homes Committee meeting.
LOCATION:FABA Conference Room
UID:e.9458.559
SEQUENCE:3
DTSTAMP:20260424T155216Z
URL:http://fabava.memberzone.com/events/details/parade-of-homes-meeting-09-20-2017-559
END:VEVENT

END:VCALENDAR
