BEGIN:VCALENDAR
VERSION:2.0
PRODID:-//ChamberMaster//Event Calendar 2.0//EN
METHOD:PUBLISH
X-PUBLISHED-TTL:P3D
REFRESH-INTERVAL:P3D
CALSCALE:GREGORIAN
BEGIN:VEVENT
DTSTART:20200805T190000Z
DTEND:20200805T200000Z
X-MICROSOFT-CDO-ALLDAYEVENT:FALSE
SUMMARY:Parade of Homes Committee Meeting
DESCRIPTION:Parade of Homes Committee Meeting \n\nOpen to FABA members who would like to help with promotion of the 2020 Parade of Homes.
X-ALT-DESC;FMTTYPE=text/html:Parade of Homes Committee Meeting&nbsp\;<br />\nOpen to FABA members who would like to help with promotion of the 2020 Parade of Homes.
LOCATION:Via Zoom: FABA is inviting you to a scheduled Zoom meeting. Topic: Parade of Homes Committee Zoom Meeting Time: Aug 5\, 2020 03:00 PM Eastern Time (US and Canada) Join Zoom Meeting https://us02web.zoom.us/j/85262246936 Meeting ID: 852 6224 6936 One tap mobile +13126266799\,\,85262246936# US (Chicago) +16465588656\,\,85262246936# US (New York) Dial by your location +1 312 626 6799 US (Chicago) +1 646 558 8656 US (New York) +1 301 715 8592 US (Germantown) +1 346 248 7799 US (Houston) +1 669 900 9128 US (San Jose) +1 253 215 8782 US (Tacoma) Meeting ID: 852 6224 6936 Find your local number: https://us02web.zoom.us/u/kbUc26ifEA
UID:e.9458.3134
SEQUENCE:3
DTSTAMP:20260421T143520Z
URL:http://fabava.memberzone.com/events/details/parade-of-homes-committee-meeting-3134
END:VEVENT

END:VCALENDAR
