BEGIN:VCALENDAR
VERSION:2.0
PRODID:-//ChamberMaster//Event Calendar 2.0//EN
METHOD:PUBLISH
X-PUBLISHED-TTL:P3D
REFRESH-INTERVAL:P3D
CALSCALE:GREGORIAN
BEGIN:VEVENT
DTSTART:20200731T150000Z
DTEND:20200731T160000Z
X-MICROSOFT-CDO-ALLDAYEVENT:FALSE
SUMMARY:Parade of Homes Committee Meeting
DESCRIPTION:FABA is inviting you to a scheduled Zoom meeting.\n\n\n\nTopic: Parade of Homes Committee Meeting\n\nTime: Jul 31\, 2020 11:00 AM Eastern Time (US and Canada)\n\n\n\nJoin Zoom Meeting\n\nhttps://us02web.zoom.us/j/82197849878\n\n\n\nMeeting ID: 821 9784 9878\n\nOne tap mobile\n\n+13126266799\,\,82197849878# US (Chicago)\n\n+16465588656\,\,82197849878# US (New York)\n\n\n\nDial by your location\n\n        +1 312 626 6799 US (Chicago)\n\n        +1 646 558 8656 US (New York)\n\n        +1 301 715 8592 US (Germantown)\n\n        +1 346 248 7799 US (Houston)\n\n        +1 669 900 9128 US (San Jose)\n\n        +1 253 215 8782 US (Tacoma)\n\nMeeting ID: 821 9784 9878\n\nFind your local number: https://us02web.zoom.us/u/ksyNE3AUE
X-ALT-DESC;FMTTYPE=text/html:FABA is inviting you to a scheduled Zoom meeting.<br />\n<br />\nTopic: Parade of Homes Committee Meeting<br />\nTime: Jul 31\, 2020 11:00 AM Eastern Time (US and Canada)<br />\n<br />\nJoin Zoom Meeting<br />\nhttps://us02web.zoom.us/j/82197849878<br />\n<br />\nMeeting ID: 821 9784 9878<br />\nOne tap mobile<br />\n+13126266799\,\,82197849878# US (Chicago)<br />\n+16465588656\,\,82197849878# US (New York)<br />\n<br />\nDial by your location<br />\n&nbsp\; &nbsp\; &nbsp\; &nbsp\; +1 312 626 6799 US (Chicago)<br />\n&nbsp\; &nbsp\; &nbsp\; &nbsp\; +1 646 558 8656 US (New York)<br />\n&nbsp\; &nbsp\; &nbsp\; &nbsp\; +1 301 715 8592 US (Germantown)<br />\n&nbsp\; &nbsp\; &nbsp\; &nbsp\; +1 346 248 7799 US (Houston)<br />\n&nbsp\; &nbsp\; &nbsp\; &nbsp\; +1 669 900 9128 US (San Jose)<br />\n&nbsp\; &nbsp\; &nbsp\; &nbsp\; +1 253 215 8782 US (Tacoma)<br />\nMeeting ID: 821 9784 9878<br />\nFind your local number: https://us02web.zoom.us/u/ksyNE3AUE
LOCATION:https://us02web.zoom.us/j/82197849878
UID:e.9458.3131
SEQUENCE:3
DTSTAMP:20260421T161955Z
URL:http://fabava.memberzone.com/events/details/parade-of-homes-committee-meeting-3131
END:VEVENT

END:VCALENDAR
