BEGIN:VCALENDAR
VERSION:2.0
PRODID:-//ChamberMaster//Event Calendar 2.0//EN
METHOD:PUBLISH
X-PUBLISHED-TTL:P3D
REFRESH-INTERVAL:P3D
CALSCALE:GREGORIAN
BEGIN:VEVENT
DTSTART:20190503T180000Z
DTEND:20190503T190000Z
X-MICROSOFT-CDO-ALLDAYEVENT:FALSE
SUMMARY:Orange County Quarterly Meeting 5/3/19
DESCRIPTION:Join us and learn more about Community Development in Orange County - all FABA members are welcome!
X-ALT-DESC;FMTTYPE=text/html:<span style="font-family:calibri\,sans-serif\;"><span style="font-size:11.0pt\;">Join us and learn more about Community Development in Orange County - all FABA members are welcome!</span></span>
LOCATION:Orange County Dept of Community Development 128 W. Main Street Orange\, VA 22960
UID:e.9458.2805
SEQUENCE:3
DTSTAMP:20260422T223949Z
URL:http://fabava.memberzone.com/events/details/orange-county-quarterly-meeting-5-3-19-2805
END:VEVENT

END:VCALENDAR
