BEGIN:VCALENDAR
VERSION:2.0
PRODID:-//ChamberMaster//Event Calendar 2.0//EN
METHOD:PUBLISH
X-PUBLISHED-TTL:P3D
REFRESH-INTERVAL:P3D
CALSCALE:GREGORIAN
BEGIN:VEVENT
DTSTART:20191031T113000Z
DTEND:20191031T140000Z
X-MICROSOFT-CDO-ALLDAYEVENT:FALSE
SUMMARY:New Member Orientation 10/31/19
DESCRIPTION:New Member Orientation\n\nNew to FABA in 2019?  Want to learn more about who we are and how to get the most out of your membership?  Then join us for this informational breakfast meeting where we will go over all the benefits of membership and how to set up your accounts.  Along with learning about how to save money with your membership.
X-ALT-DESC;FMTTYPE=text/html:New Member Orientation<br />\nNew to FABA in 2019?&nbsp\; Want to learn more about who we are and how to get the most out of your membership?&nbsp\; Then join us for this informational breakfast meeting where we will go over all the benefits of membership and how to set up your accounts.&nbsp\; Along with learning about how to save money with your membership.&nbsp\;&nbsp\;<br />\n&nbsp\;
LOCATION:Marriott Downtown Fredericksburg 620 Caroline Street Fredericksburg\, VA 22401
UID:e.9458.2960
SEQUENCE:3
DTSTAMP:20260422T100131Z
URL:http://fabava.memberzone.com/events/details/new-member-orientation-10-31-19-2960
END:VEVENT

END:VCALENDAR
