BEGIN:VCALENDAR
VERSION:2.0
PRODID:-//ChamberMaster//Event Calendar 2.0//EN
METHOD:PUBLISH
X-PUBLISHED-TTL:P3D
REFRESH-INTERVAL:P3D
CALSCALE:GREGORIAN
BEGIN:VEVENT
DTSTART:20190321T200000Z
DTEND:20190321T210000Z
X-MICROSOFT-CDO-ALLDAYEVENT:FALSE
SUMMARY:New FABA Member Orientation 3/21/19
DESCRIPTION:New to FABA? Please join us learn more about how to put your membership to work for you! Learn about ways to become more active in the association\, how you can take advantage of great discounts\, and how builders can earn rebates on the products they already purchase and use in the construction or renovations of home projects.\n\nFABA's New Member Orientation is for NEW FABA members (or new company reps) ONLY.\n\nOur monthly Hard Hat will follow. Please RSVP so we know you are coming and bring all your FABA questions to be answered!\n\n\n\nRSVP requested.
X-ALT-DESC;FMTTYPE=text/html:<div id="u_fetchstream_24_19" style="font-family: Helvetica\, Arial\, sans-serif\; color: rgb(29\, 33\, 41)\; font-size: 12px\; background-color: rgb(233\, 235\, 238)\;">\n<div style="font-family: inherit\;">\n<div class="_4l8o _4-u2  _4-u8" style="border-width: 1px 0px\; border-style: solid\; border-color: transparent\; border-image: initial\; border-radius: 3px\; background-color: rgb(255\, 255\, 255)\; margin-bottom: 8px\; width: 500px\; position: relative\; font-family: inherit\;">\n<div class="_62hs _4-u3" style="border-top: 1px solid rgb(229\, 229\, 229)\; border-bottom-left-radius: 3px\; border-bottom-right-radius: 3px\; font-family: inherit\;">\n<div class="_63es _63et" style="font-family: inherit\;">\n<div class="_63eu" style="box-sizing: border-box\; font-size: 14px\; max-height: 260px\; overflow: hidden\; padding: 12px\; overflow-wrap: break-word\; font-family: inherit\;">\n<div class="_63ew" data-testid="event-permalink-details" style="white-space: pre-wrap\; font-family: inherit\;"><span style="font-family: inherit\;">New to FABA? Please join us learn more about how to put your membership to work for you! Learn about ways to become more active in the association\, how you can take advantage of great discounts\, and how builders can earn rebates on the products they already purchase and use in the construction or renovations of home projects.<br />\nFABA&#39\;s New Member Orientation is for NEW FABA members (or new company reps) ONLY.<br />\nOur monthly Hard Hat will follow. Please RSVP so we know you are coming and bring all your FABA questions to be answered!<br />\n<br />\nRSVP requested.</span></div>\n</div>\n</div>\n</div>\n</div>\n</div>\n</div>\n\n<div id="u_fetchstream_24_1a" style="font-family: Helvetica\, Arial\, sans-serif\; color: rgb(29\, 33\, 41)\; font-size: 12px\; background-color: rgb(233\, 235\, 238)\;">\n<div style="font-family: inherit\;">\n<div class="_4l8o _4-u2  _4-u8" style="border-width: 1px 0px\; border-style: solid\; border-color: transparent\; border-image: initial\; border-radius: 3px\; background-color: rgb(255\, 255\, 255)\; margin-bottom: 8px\; width: 500px\; position: relative\; font-family: inherit\;">&nbsp\;</div>\n</div>\n</div>\n
LOCATION:Splitsville 51 Towne Centre Blvd Fredericksburg\, VA 22407
UID:e.9458.2709
SEQUENCE:3
DTSTAMP:20260423T000657Z
URL:http://fabava.memberzone.com/events/details/new-faba-member-orientation-3-21-19-2709
END:VEVENT

END:VCALENDAR
