BEGIN:VCALENDAR
VERSION:2.0
PRODID:-//ChamberMaster//Event Calendar 2.0//EN
METHOD:PUBLISH
X-PUBLISHED-TTL:P3D
REFRESH-INTERVAL:P3D
CALSCALE:GREGORIAN
BEGIN:VEVENT
DTSTART:20191029T140000Z
DTEND:20191029T160000Z
X-MICROSOFT-CDO-ALLDAYEVENT:FALSE
SUMMARY:Model Home Safety Training with Spotsylvania County Sheriff
DESCRIPTION:Join us for a class on safety precautions you can take and things to be aware of if you are at a model home or if you are a realtor showing homes.  This class will be taught by a Spotsy Sheriff's Deputy
X-ALT-DESC;FMTTYPE=text/html:<span style="font-family:arial\,sans-serif\;"><span style="font-size:10.0pt\;">Join us for a class on safety precautions you can take and things to be aware of if you are at a model home or if you are a realtor showing homes.&nbsp\; This class will be taught by a Spotsy Sheriff&rsquo\;s Deputy</span></span>
LOCATION:Spotsylvania Sheriff's Office 9119 Dean Ridings Lane Spotsylvania\, VA 22553
UID:e.9458.2850
SEQUENCE:3
DTSTAMP:20260422T100407Z
URL:http://fabava.memberzone.com/events/details/model-home-safety-training-with-spotsylvania-county-sheriff-2850
END:VEVENT

END:VCALENDAR
