BEGIN:VCALENDAR
VERSION:2.0
PRODID:-//ChamberMaster//Event Calendar 2.0//EN
METHOD:PUBLISH
X-PUBLISHED-TTL:P3D
REFRESH-INTERVAL:P3D
CALSCALE:GREGORIAN
BEGIN:VEVENT
DTSTART:20211208T153000Z
DTEND:20211208T163000Z
X-MICROSOFT-CDO-ALLDAYEVENT:FALSE
SUMMARY:Membership Committee Meeting
DESCRIPTION:The Membership Committee is responsible for coordinating membership recruitment and developing programs to help maintain existing membership. The committee members mentor new Fredericksburg Area Builders Association's builders and associates members by welcoming them within the first 30 days of joining the association\, encouraging them to come to upcoming events\, and by staying in contact to help with any questions.
X-ALT-DESC;FMTTYPE=text/html:The Membership Committee is responsible for coordinating membership recruitment and developing programs to help maintain existing membership. The committee members mentor new Fredericksburg Area Builders Association&#39\;s builders and associates members by welcoming them within the first 30 days of joining the association\, encouraging them to come to upcoming events\, and by staying in contact to help with any questions.
LOCATION:Fredericksburg Area Builders Association 3006 Lafayette Boulevard Fredericksburg\, VA 22408
UID:e.9458.232
SEQUENCE:3
DTSTAMP:20260420T070138Z
URL:http://fabava.memberzone.com/events/details/membership-committee-meeting-12-08-2021-232
END:VEVENT

END:VCALENDAR
