BEGIN:VCALENDAR
VERSION:2.0
PRODID:-//ChamberMaster//Event Calendar 2.0//EN
METHOD:PUBLISH
X-PUBLISHED-TTL:P3D
REFRESH-INTERVAL:P3D
CALSCALE:GREGORIAN
BEGIN:VEVENT
DTSTART:20200909T143000Z
DTEND:20200909T153000Z
X-MICROSOFT-CDO-ALLDAYEVENT:FALSE
SUMMARY:Membership Committee Meeting
DESCRIPTION:The Membership Committee is responsible for coordinating membership recruitment and developing programs to help maintain existing membership. The committee members mentor new Fredericksburg Area Builders Association's builders and associates members by welcoming them within the first 30 days of joining the association\, encouraging them to come to upcoming events\, and by staying in contact to help with any questions.\n\n \nTopic: FABA Membership Committee\n\nTime: September 9th\, 2020 10:30 AM Eastern Time (US and Canada)\n\n       \n\nJoin Zoom Meeting\n\nhttps://us02web.zoom.us/j/85860734579\n\n \n\nMeeting ID: 858 6073 4579\n\nOne tap mobile\n\n+13126266799\,\,85860734579# US (Chicago)\n\n+16465588656\,\,85860734579# US (New York)\n\n \n\nDial by your location\n\n        +1 312 626 6799 US (Chicago)\n\n        +1 646 558 8656 US (New York)\n\n        +1 301 715 8592 US (Germantown)\n\n        +1 346 248 7799 US (Houston)\n\n        +1 669 900 9128 US (San Jose)\n\n        +1 253 215 8782 US (Tacoma)\n\nMeeting ID: 858 6073 4579\n\nFind your local number: https://us02web.zoom.us/u/kd3JmNYN7L
X-ALT-DESC;FMTTYPE=text/html:The Membership Committee is responsible for coordinating membership recruitment and developing programs to help maintain existing membership. The committee members mentor new Fredericksburg Area Builders Association&#39\;s builders and associates members by welcoming them within the first 30 days of joining the association\, encouraging them to come to upcoming events\, and by staying in contact to help with any questions.<br />\n&nbsp\;\n<p class="x_x_MsoNormal" style="margin: 0in 0in 0.0001pt\; font-size: 11pt\; font-family: Calibri\, sans-serif\; color: rgb(32\, 31\, 30)\;">Topic: FABA&nbsp\;<span class="marks5wk9trn8" data-markjs="true" data-ogab="" data-ogac="" data-ogsb="" data-ogsc="" style="margin: 0px\; padding: 0px\; border: 0px\; font: inherit\; vertical-align: baseline\; color: inherit\;">Membershi</span>p Committee</p>\n\n<p class="x_x_MsoNormal" style="margin: 0in 0in 0.0001pt\; font-size: 11pt\; font-family: Calibri\, sans-serif\; color: rgb(32\, 31\, 30)\;">Time: September 9th\, 2020 10:30 AM Eastern Time (US and Canada)</p>\n\n<p class="x_x_MsoNormal" style="margin: 0in 0in 0.0001pt\; font-size: 11pt\; font-family: Calibri\, sans-serif\; color: rgb(32\, 31\, 30)\;">&nbsp\;&nbsp\;&nbsp\;&nbsp\;&nbsp\;&nbsp\;&nbsp\;</p>\n\n<p class="x_x_MsoNormal" style="margin: 0in 0in 0.0001pt\; font-size: 11pt\; font-family: Calibri\, sans-serif\; color: rgb(32\, 31\, 30)\;">Join Zoom Meeting</p>\n\n<p class="x_x_MsoNormal" style="margin: 0in 0in 0.0001pt\; font-size: 11pt\; font-family: Calibri\, sans-serif\; color: rgb(32\, 31\, 30)\;">https://us02web.zoom.us/j/85860734579</p>\n\n<p class="x_x_MsoNormal" style="margin: 0in 0in 0.0001pt\; font-size: 11pt\; font-family: Calibri\, sans-serif\; color: rgb(32\, 31\, 30)\;">&nbsp\;</p>\n\n<p class="x_x_MsoNormal" style="margin: 0in 0in 0.0001pt\; font-size: 11pt\; font-family: Calibri\, sans-serif\; color: rgb(32\, 31\, 30)\;">Meeting ID: 858 6073 4579</p>\n\n<p class="x_x_MsoNormal" style="margin: 0in 0in 0.0001pt\; font-size: 11pt\; font-family: Calibri\, sans-serif\; color: rgb(32\, 31\, 30)\;">One tap mobile</p>\n\n<p class="x_x_MsoNormal" style="margin: 0in 0in 0.0001pt\; font-size: 11pt\; font-family: Calibri\, sans-serif\; color: rgb(32\, 31\, 30)\;">+13126266799\,\,85860734579# US (Chicago)</p>\n\n<p class="x_x_MsoNormal" style="margin: 0in 0in 0.0001pt\; font-size: 11pt\; font-family: Calibri\, sans-serif\; color: rgb(32\, 31\, 30)\;">+16465588656\,\,85860734579# US (New York)</p>\n\n<p class="x_x_MsoNormal" style="margin: 0in 0in 0.0001pt\; font-size: 11pt\; font-family: Calibri\, sans-serif\; color: rgb(32\, 31\, 30)\;">&nbsp\;</p>\n\n<p class="x_x_MsoNormal" style="margin: 0in 0in 0.0001pt\; font-size: 11pt\; font-family: Calibri\, sans-serif\; color: rgb(32\, 31\, 30)\;">Dial by your location</p>\n\n<p class="x_x_MsoNormal" style="margin: 0in 0in 0.0001pt\; font-size: 11pt\; font-family: Calibri\, sans-serif\; color: rgb(32\, 31\, 30)\;">&nbsp\;&nbsp\;&nbsp\;&nbsp\;&nbsp\;&nbsp\;&nbsp\; +1 312 626 6799 US (Chicago)</p>\n\n<p class="x_x_MsoNormal" style="margin: 0in 0in 0.0001pt\; font-size: 11pt\; font-family: Calibri\, sans-serif\; color: rgb(32\, 31\, 30)\;">&nbsp\;&nbsp\;&nbsp\;&nbsp\;&nbsp\;&nbsp\;&nbsp\; +1 646 558 8656 US (New York)</p>\n\n<p class="x_x_MsoNormal" style="margin: 0in 0in 0.0001pt\; font-size: 11pt\; font-family: Calibri\, sans-serif\; color: rgb(32\, 31\, 30)\;">&nbsp\;&nbsp\;&nbsp\;&nbsp\;&nbsp\;&nbsp\;&nbsp\; +1 301 715 8592 US (Germantown)</p>\n\n<p class="x_x_MsoNormal" style="margin: 0in 0in 0.0001pt\; font-size: 11pt\; font-family: Calibri\, sans-serif\; color: rgb(32\, 31\, 30)\;">&nbsp\;&nbsp\;&nbsp\;&nbsp\;&nbsp\;&nbsp\;&nbsp\; +1 346 248 7799 US (Houston)</p>\n\n<p class="x_x_MsoNormal" style="margin: 0in 0in 0.0001pt\; font-size: 11pt\; font-family: Calibri\, sans-serif\; color: rgb(32\, 31\, 30)\;">&nbsp\;&nbsp\;&nbsp\;&nbsp\;&nbsp\;&nbsp\;&nbsp\; +1 669 900 9128 US (San Jose)</p>\n\n<p class="x_x_MsoNormal" style="margin: 0in 0in 0.0001pt\; font-size: 11pt\; font-family: Calibri\, sans-serif\; color: rgb(32\, 31\, 30)\;">&nbsp\;&nbsp\;&nbsp\;&nbsp\;&nbsp\;&nbsp\;&nbsp\; +1 253 215 8782 US (Tacoma)</p>\n\n<p class="x_x_MsoNormal" style="margin: 0in 0in 0.0001pt\; font-size: 11pt\; font-family: Calibri\, sans-serif\; color: rgb(32\, 31\, 30)\;">Meeting ID: 858 6073 4579</p>\n\n<p class="x_x_MsoNormal" style="margin: 0in 0in 0.0001pt\; font-size: 11pt\; font-family: Calibri\, sans-serif\; color: rgb(32\, 31\, 30)\;">Find your local number: https://us02web.zoom.us/u/kd3JmNYN7L</p>\n
LOCATION:Zoom
UID:e.9458.217
SEQUENCE:3
DTSTAMP:20260421T125829Z
URL:http://fabava.memberzone.com/events/details/membership-committee-meeting-09-09-2020-217
END:VEVENT

END:VCALENDAR
