BEGIN:VCALENDAR
VERSION:2.0
PRODID:-//ChamberMaster//Event Calendar 2.0//EN
METHOD:PUBLISH
X-PUBLISHED-TTL:P3D
REFRESH-INTERVAL:P3D
CALSCALE:GREGORIAN
BEGIN:VEVENT
DTSTART:20200610T143000Z
DTEND:20200610T153000Z
X-MICROSOFT-CDO-ALLDAYEVENT:FALSE
SUMMARY:Membership Committee Meeting
DESCRIPTION:The Membership Committee is responsible for coordinating membership recruitment and developing programs to help maintain existing membership. The committee members mentor new Fredericksburg Area Builders Association's builders and associates members by welcoming them within the first 30 days of joining the association\, encouraging them to come to upcoming events\, and by staying in contact to help with any questions.\n\nZoom log in\nTopic: Membership Meeting FABA\n\nTime: Jun 10\, 2020 10:30 AM Eastern Time (US and Canada)\n\n \n\nJoin Zoom Meeting\n\nhttps://us02web.zoom.us/j/85292591332\n\n \n\nMeeting ID: 852 9259 1332\n\nOne tap mobile\n\n+16465588656\,\,85292591332# US (New York)\n\n+13017158592\,\,85292591332# US (Germantown)\n\n \n\nDial by your location\n\n        +1 646 558 8656 US (New York)\n\n        +1 301 715 8592 US (Germantown)\n\n        +1 312 626 6799 US (Chicago)\n\n        +1 669 900 9128 US (San Jose)\n\n        +1 253 215 8782 US (Tacoma)\n\n        +1 346 248 7799 US (Houston)\n\nMeeting ID: 852 9259 1332\n\nFind your local number: https://us02web.zoom.us/u/kfXWBHEmY
X-ALT-DESC;FMTTYPE=text/html:The Membership Committee is responsible for coordinating membership recruitment and developing programs to help maintain existing membership. The committee members mentor new Fredericksburg Area Builders Association&#39\;s builders and associates members by welcoming them within the first 30 days of joining the association\, encouraging them to come to upcoming events\, and by staying in contact to help with any questions.<br />\nZoom log in\n<p class="x_MsoNormal" style="margin: 0in 0in 0.0001pt\; font-size: 11pt\; font-family: Calibri\, sans-serif\; color: rgb(32\, 31\, 30)\;">Topic: Membership Meeting FABA</p>\n\n<p class="x_MsoNormal" style="margin: 0in 0in 0.0001pt\; font-size: 11pt\; font-family: Calibri\, sans-serif\; color: rgb(32\, 31\, 30)\;">Time: Jun 10\, 2020 10:30 AM Eastern Time (US and Canada)</p>\n\n<p class="x_MsoNormal" style="margin: 0in 0in 0.0001pt\; font-size: 11pt\; font-family: Calibri\, sans-serif\; color: rgb(32\, 31\, 30)\;">&nbsp\;</p>\n\n<p class="x_MsoNormal" style="margin: 0in 0in 0.0001pt\; font-size: 11pt\; font-family: Calibri\, sans-serif\; color: rgb(32\, 31\, 30)\;">Join Zoom Meeting</p>\n\n<p class="x_MsoNormal" style="margin: 0in 0in 0.0001pt\; font-size: 11pt\; font-family: Calibri\, sans-serif\; color: rgb(32\, 31\, 30)\;">https://us02web.zoom.us/j/85292591332</p>\n\n<p class="x_MsoNormal" style="margin: 0in 0in 0.0001pt\; font-size: 11pt\; font-family: Calibri\, sans-serif\; color: rgb(32\, 31\, 30)\;">&nbsp\;</p>\n\n<p class="x_MsoNormal" style="margin: 0in 0in 0.0001pt\; font-size: 11pt\; font-family: Calibri\, sans-serif\; color: rgb(32\, 31\, 30)\;">Meeting ID: 852 9259 1332</p>\n\n<p class="x_MsoNormal" style="margin: 0in 0in 0.0001pt\; font-size: 11pt\; font-family: Calibri\, sans-serif\; color: rgb(32\, 31\, 30)\;">One tap mobile</p>\n\n<p class="x_MsoNormal" style="margin: 0in 0in 0.0001pt\; font-size: 11pt\; font-family: Calibri\, sans-serif\; color: rgb(32\, 31\, 30)\;">+16465588656\,\,85292591332# US (New York)</p>\n\n<p class="x_MsoNormal" style="margin: 0in 0in 0.0001pt\; font-size: 11pt\; font-family: Calibri\, sans-serif\; color: rgb(32\, 31\, 30)\;">+13017158592\,\,85292591332# US (Germantown)</p>\n\n<p class="x_MsoNormal" style="margin: 0in 0in 0.0001pt\; font-size: 11pt\; font-family: Calibri\, sans-serif\; color: rgb(32\, 31\, 30)\;">&nbsp\;</p>\n\n<p class="x_MsoNormal" style="margin: 0in 0in 0.0001pt\; font-size: 11pt\; font-family: Calibri\, sans-serif\; color: rgb(32\, 31\, 30)\;">Dial by your location</p>\n\n<p class="x_MsoNormal" style="margin: 0in 0in 0.0001pt\; font-size: 11pt\; font-family: Calibri\, sans-serif\; color: rgb(32\, 31\, 30)\;">&nbsp\;&nbsp\;&nbsp\;&nbsp\;&nbsp\;&nbsp\;&nbsp\; +1 646 558 8656 US (New York)</p>\n\n<p class="x_MsoNormal" style="margin: 0in 0in 0.0001pt\; font-size: 11pt\; font-family: Calibri\, sans-serif\; color: rgb(32\, 31\, 30)\;">&nbsp\;&nbsp\;&nbsp\;&nbsp\;&nbsp\;&nbsp\;&nbsp\; +1 301 715 8592 US (Germantown)</p>\n\n<p class="x_MsoNormal" style="margin: 0in 0in 0.0001pt\; font-size: 11pt\; font-family: Calibri\, sans-serif\; color: rgb(32\, 31\, 30)\;">&nbsp\;&nbsp\;&nbsp\;&nbsp\;&nbsp\;&nbsp\;&nbsp\; +1 312 626 6799 US (Chicago)</p>\n\n<p class="x_MsoNormal" style="margin: 0in 0in 0.0001pt\; font-size: 11pt\; font-family: Calibri\, sans-serif\; color: rgb(32\, 31\, 30)\;">&nbsp\;&nbsp\;&nbsp\;&nbsp\;&nbsp\;&nbsp\;&nbsp\; +1 669 900 9128 US (San Jose)</p>\n\n<p class="x_MsoNormal" style="margin: 0in 0in 0.0001pt\; font-size: 11pt\; font-family: Calibri\, sans-serif\; color: rgb(32\, 31\, 30)\;">&nbsp\;&nbsp\;&nbsp\;&nbsp\;&nbsp\;&nbsp\;&nbsp\; +1 253 215 8782 US (Tacoma)</p>\n\n<p class="x_MsoNormal" style="margin: 0in 0in 0.0001pt\; font-size: 11pt\; font-family: Calibri\, sans-serif\; color: rgb(32\, 31\, 30)\;">&nbsp\;&nbsp\;&nbsp\;&nbsp\;&nbsp\;&nbsp\;&nbsp\; +1 346 248 7799 US (Houston)</p>\n\n<p class="x_MsoNormal" style="margin: 0in 0in 0.0001pt\; font-size: 11pt\; font-family: Calibri\, sans-serif\; color: rgb(32\, 31\, 30)\;">Meeting ID: 852 9259 1332</p>\n\n<p class="x_MsoNormal" style="margin: 0in 0in 0.0001pt\; font-size: 11pt\; font-family: Calibri\, sans-serif\; color: rgb(32\, 31\, 30)\;">Find your local number: https://us02web.zoom.us/u/kfXWBHEmY</p>\n
LOCATION:
UID:e.9458.214
SEQUENCE:3
DTSTAMP:20260421T195534Z
URL:http://fabava.memberzone.com/events/details/membership-committee-meeting-06-10-2020-214
END:VEVENT

END:VCALENDAR
