BEGIN:VCALENDAR
VERSION:2.0
PRODID:-//ChamberMaster//Event Calendar 2.0//EN
METHOD:PUBLISH
X-PUBLISHED-TTL:P3D
REFRESH-INTERVAL:P3D
CALSCALE:GREGORIAN
BEGIN:VEVENT
DTSTART:20201130T150000Z
DTEND:20201204T200000Z
X-MICROSOFT-CDO-ALLDAYEVENT:FALSE
SUMMARY:Let's Chat: Biz and Bills
DESCRIPTION:Register Today!\n\n\n\nJoin us for our Annual Legislative Roundtable\n\n \n\nThis year\, we will be hosting a local elected official every day at 10:00 AM and 2:00 PM from November 30 until December 4.\n\nWe will host them for an intimate\, 1 hour Q+A with members of the business community.\n\n \n\nBusinesses have a lot to say after the last General Assembly. Help us share how the business community feels.\n\n \n\nCo-hosted by the Fredericksburg Area Association of Realtors and the Fredericksburg Area Builders Association.\n\n \n\nYour elected officials want to hear from you!\n\n \n\nOnly $10 to access every meeting.\n\n \n\nInvited Elected Officials (*Denotes Confirmed Attendance)\n\nSenator Scott Surovell*\n\nSenator Bryce Reeves*\n\nSenator Jill Vogel\n\nSenator Ryan McDougle\n\nDelegate Mark Cole*\n\nDelegate Joshua Cole*\n\nDelegate Margaret Ransone\n\nDelegate Bobby Orrock\n\nDelegate Jennifer Carroll Foy\n\nDelegate Buddy Fowler\n\nDelegate John McGuire\n\n \n\nRegister Today!
X-ALT-DESC;FMTTYPE=text/html:<p align="center" class="x_MsoNormal" style="margin: 0in 0in 0.0001pt\; font-size: 11pt\; font-family: Calibri\, sans-serif\; color: rgb(32\, 31\, 30)\; text-align: center\;"><b style="color: rgb(32\, 31\, 30)\; font-family: Calibri\, sans-serif\; font-size: 14.6667px\; text-align: center\;"><span style="margin: 0px\; padding: 0px\; border: 0px\; font-style: inherit\; font-variant: inherit\; font-weight: inherit\; font-stretch: inherit\; font-size: 14pt\; line-height: inherit\; font-family: inherit\; vertical-align: baseline\; color: inherit\;"><a data-auth="NotApplicable" href="http://members.fredericksburgchamber.org/events/details/let-s-chat-biz-and-bills-11249?range=60" rel="noopener noreferrer" style="color: rgb(149\, 79\, 114)\; margin: 0px\; padding: 0px\; border: 0px\; font: inherit\; vertical-align: baseline\;" target="_blank">Register Today!</a></span></b><br />\n<br />\n<b><span style="margin: 0px\; padding: 0px\; border: 0px\; font-style: inherit\; font-variant: inherit\; font-weight: inherit\; font-stretch: inherit\; font-size: 14pt\; line-height: inherit\; font-family: inherit\; vertical-align: baseline\; color: inherit\;">Join us for our Annual Legislative Roundtable</span></b></p>\n\n<p align="center" class="x_MsoNormal" style="margin: 0in 0in 0.0001pt\; font-size: 11pt\; font-family: Calibri\, sans-serif\; color: rgb(32\, 31\, 30)\; text-align: center\;"><b><span style="margin: 0px\; padding: 0px\; border: 0px\; font-style: inherit\; font-variant: inherit\; font-weight: inherit\; font-stretch: inherit\; font-size: 14pt\; line-height: inherit\; font-family: inherit\; vertical-align: baseline\; color: inherit\;">&nbsp\;</span></b></p>\n\n<p align="center" class="x_MsoNormal" style="margin: 0in 0in 0.0001pt\; font-size: 11pt\; font-family: Calibri\, sans-serif\; color: rgb(32\, 31\, 30)\; text-align: center\;"><b><span style="margin: 0px\; padding: 0px\; border: 0px\; font-style: inherit\; font-variant: inherit\; font-weight: inherit\; font-stretch: inherit\; font-size: 14pt\; line-height: inherit\; font-family: inherit\; vertical-align: baseline\; color: inherit\;">This year\, we will be hosting a local elected official every day at 10:00 AM and 2:00 PM from November 30 until December 4.</span></b></p>\n\n<p align="center" class="x_MsoNormal" style="margin: 0in 0in 0.0001pt\; font-size: 11pt\; font-family: Calibri\, sans-serif\; color: rgb(32\, 31\, 30)\; text-align: center\;"><b><span style="margin: 0px\; padding: 0px\; border: 0px\; font-style: inherit\; font-variant: inherit\; font-weight: inherit\; font-stretch: inherit\; font-size: 14pt\; line-height: inherit\; font-family: inherit\; vertical-align: baseline\; color: inherit\;">We will host them for an intimate\, 1 hour Q+A with members of the business community.</span></b></p>\n\n<p align="center" class="x_MsoNormal" style="margin: 0in 0in 0.0001pt\; font-size: 11pt\; font-family: Calibri\, sans-serif\; color: rgb(32\, 31\, 30)\; text-align: center\;"><b><span style="margin: 0px\; padding: 0px\; border: 0px\; font-style: inherit\; font-variant: inherit\; font-weight: inherit\; font-stretch: inherit\; font-size: 14pt\; line-height: inherit\; font-family: inherit\; vertical-align: baseline\; color: inherit\;">&nbsp\;</span></b></p>\n\n<p align="center" class="x_MsoNormal" style="margin: 0in 0in 0.0001pt\; font-size: 11pt\; font-family: Calibri\, sans-serif\; color: rgb(32\, 31\, 30)\; text-align: center\;"><b><span style="margin: 0px\; padding: 0px\; border: 0px\; font-style: inherit\; font-variant: inherit\; font-weight: inherit\; font-stretch: inherit\; font-size: 14pt\; line-height: inherit\; font-family: inherit\; vertical-align: baseline\; color: inherit\;">Businesses have a lot to say after the last General Assembly. Help us share how the business community feels.</span></b></p>\n\n<p align="center" class="x_MsoNormal" style="margin: 0in 0in 0.0001pt\; font-size: 11pt\; font-family: Calibri\, sans-serif\; color: rgb(32\, 31\, 30)\; text-align: center\;"><b><span style="margin: 0px\; padding: 0px\; border: 0px\; font-style: inherit\; font-variant: inherit\; font-weight: inherit\; font-stretch: inherit\; font-size: 14pt\; line-height: inherit\; font-family: inherit\; vertical-align: baseline\; color: inherit\;">&nbsp\;</span></b></p>\n\n<p align="center" class="x_MsoNormal" style="margin: 0in 0in 0.0001pt\; font-size: 11pt\; font-family: Calibri\, sans-serif\; color: rgb(32\, 31\, 30)\; text-align: center\;"><b><span style="margin: 0px\; padding: 0px\; border: 0px\; font-style: inherit\; font-variant: inherit\; font-weight: inherit\; font-stretch: inherit\; font-size: 14pt\; line-height: inherit\; font-family: inherit\; vertical-align: baseline\; color: inherit\;">Co-hosted by the Fredericksburg Area Association of Realtors and the Fredericksburg Area Builders Association.</span></b></p>\n\n<p align="center" class="x_MsoNormal" style="margin: 0in 0in 0.0001pt\; font-size: 11pt\; font-family: Calibri\, sans-serif\; color: rgb(32\, 31\, 30)\; text-align: center\;"><b><span style="margin: 0px\; padding: 0px\; border: 0px\; font-style: inherit\; font-variant: inherit\; font-weight: inherit\; font-stretch: inherit\; font-size: 14pt\; line-height: inherit\; font-family: inherit\; vertical-align: baseline\; color: inherit\;">&nbsp\;</span></b></p>\n\n<p align="center" class="x_MsoNormal" style="margin: 0in 0in 0.0001pt\; font-size: 11pt\; font-family: Calibri\, sans-serif\; color: rgb(32\, 31\, 30)\; text-align: center\;"><b><span style="margin: 0px\; padding: 0px\; border: 0px\; font-style: inherit\; font-variant: inherit\; font-weight: inherit\; font-stretch: inherit\; font-size: 14pt\; line-height: inherit\; font-family: inherit\; vertical-align: baseline\; color: inherit\;">Your elected officials want to hear from you!</span></b></p>\n\n<p align="center" class="x_MsoNormal" style="margin: 0in 0in 0.0001pt\; font-size: 11pt\; font-family: Calibri\, sans-serif\; color: rgb(32\, 31\, 30)\; text-align: center\;"><b><span style="margin: 0px\; padding: 0px\; border: 0px\; font-style: inherit\; font-variant: inherit\; font-weight: inherit\; font-stretch: inherit\; font-size: 14pt\; line-height: inherit\; font-family: inherit\; vertical-align: baseline\; color: inherit\;">&nbsp\;</span></b></p>\n\n<p align="center" class="x_MsoNormal" style="margin: 0in 0in 0.0001pt\; font-size: 11pt\; font-family: Calibri\, sans-serif\; color: rgb(32\, 31\, 30)\; text-align: center\;"><b><i><span style="margin: 0px\; padding: 0px\; border: 0px\; font-style: inherit\; font-variant: inherit\; font-weight: inherit\; font-stretch: inherit\; font-size: 14pt\; line-height: inherit\; font-family: inherit\; vertical-align: baseline\; color: inherit\;">Only $10 to access every meeting.</span></i></b></p>\n\n<p align="center" class="x_MsoNormal" style="margin: 0in 0in 0.0001pt\; font-size: 11pt\; font-family: Calibri\, sans-serif\; color: rgb(32\, 31\, 30)\; text-align: center\;"><b><span style="margin: 0px\; padding: 0px\; border: 0px\; font-style: inherit\; font-variant: inherit\; font-weight: inherit\; font-stretch: inherit\; font-size: 14pt\; line-height: inherit\; font-family: inherit\; vertical-align: baseline\; color: inherit\;">&nbsp\;</span></b></p>\n\n<p align="center" class="x_MsoNormal" style="margin: 0in 0in 0.0001pt\; font-size: 11pt\; font-family: Calibri\, sans-serif\; color: rgb(32\, 31\, 30)\; text-align: center\;"><b><u><span style="margin: 0px\; padding: 0px\; border: 0px\; font-style: inherit\; font-variant: inherit\; font-weight: inherit\; font-stretch: inherit\; font-size: 14pt\; line-height: inherit\; font-family: inherit\; vertical-align: baseline\; color: inherit\;">Invited Elected Officials (*Denotes Confirmed Attendance)</span></u></b></p>\n\n<p align="center" class="x_MsoNormal" style="margin: 0in 0in 0.0001pt\; font-size: 11pt\; font-family: Calibri\, sans-serif\; color: rgb(32\, 31\, 30)\; text-align: center\;"><b><span style="margin: 0px\; padding: 0px\; border: 0px\; font-style: inherit\; font-variant: inherit\; font-weight: inherit\; font-stretch: inherit\; font-size: 14pt\; line-height: inherit\; font-family: inherit\; vertical-align: baseline\; color: inherit\;">Senator Scott Surovell*</span></b></p>\n\n<p align="center" class="x_MsoNormal" style="margin: 0in 0in 0.0001pt\; font-size: 11pt\; font-family: Calibri\, sans-serif\; color: rgb(32\, 31\, 30)\; text-align: center\;"><b><span style="margin: 0px\; padding: 0px\; border: 0px\; font-style: inherit\; font-variant: inherit\; font-weight: inherit\; font-stretch: inherit\; font-size: 14pt\; line-height: inherit\; font-family: inherit\; vertical-align: baseline\; color: inherit\;">Senator Bryce Reeves*</span></b></p>\n\n<p align="center" class="x_MsoNormal" style="margin: 0in 0in 0.0001pt\; font-size: 11pt\; font-family: Calibri\, sans-serif\; color: rgb(32\, 31\, 30)\; text-align: center\;"><b><span style="margin: 0px\; padding: 0px\; border: 0px\; font-style: inherit\; font-variant: inherit\; font-weight: inherit\; font-stretch: inherit\; font-size: 14pt\; line-height: inherit\; font-family: inherit\; vertical-align: baseline\; color: inherit\;">Senator Jill Vogel</span></b></p>\n\n<p align="center" class="x_MsoNormal" style="margin: 0in 0in 0.0001pt\; font-size: 11pt\; font-family: Calibri\, sans-serif\; color: rgb(32\, 31\, 30)\; text-align: center\;"><b><span style="margin: 0px\; padding: 0px\; border: 0px\; font-style: inherit\; font-variant: inherit\; font-weight: inherit\; font-stretch: inherit\; font-size: 14pt\; line-height: inherit\; font-family: inherit\; vertical-align: baseline\; color: inherit\;">Senator Ryan McDougle</span></b></p>\n\n<p align="center" class="x_MsoNormal" style="margin: 0in 0in 0.0001pt\; font-size: 11pt\; font-family: Calibri\, sans-serif\; color: rgb(32\, 31\, 30)\; text-align: center\;"><b><span style="margin: 0px\; padding: 0px\; border: 0px\; font-style: inherit\; font-variant: inherit\; font-weight: inherit\; font-stretch: inherit\; font-size: 14pt\; line-height: inherit\; font-family: inherit\; vertical-align: baseline\; color: inherit\;">Delegate Mark Cole*</span></b></p>\n\n<p align="center" class="x_MsoNormal" style="margin: 0in 0in 0.0001pt\; font-size: 11pt\; font-family: Calibri\, sans-serif\; color: rgb(32\, 31\, 30)\; text-align: center\;"><b><span style="margin: 0px\; padding: 0px\; border: 0px\; font-style: inherit\; font-variant: inherit\; font-weight: inherit\; font-stretch: inherit\; font-size: 14pt\; line-height: inherit\; font-family: inherit\; vertical-align: baseline\; color: inherit\;">Delegate Joshua Cole*</span></b></p>\n\n<p align="center" class="x_MsoNormal" style="margin: 0in 0in 0.0001pt\; font-size: 11pt\; font-family: Calibri\, sans-serif\; color: rgb(32\, 31\, 30)\; text-align: center\;"><b><span style="margin: 0px\; padding: 0px\; border: 0px\; font-style: inherit\; font-variant: inherit\; font-weight: inherit\; font-stretch: inherit\; font-size: 14pt\; line-height: inherit\; font-family: inherit\; vertical-align: baseline\; color: inherit\;">Delegate Margaret Ransone</span></b></p>\n\n<p align="center" class="x_MsoNormal" style="margin: 0in 0in 0.0001pt\; font-size: 11pt\; font-family: Calibri\, sans-serif\; color: rgb(32\, 31\, 30)\; text-align: center\;"><b><span style="margin: 0px\; padding: 0px\; border: 0px\; font-style: inherit\; font-variant: inherit\; font-weight: inherit\; font-stretch: inherit\; font-size: 14pt\; line-height: inherit\; font-family: inherit\; vertical-align: baseline\; color: inherit\;">Delegate Bobby Orrock</span></b></p>\n\n<p align="center" class="x_MsoNormal" style="margin: 0in 0in 0.0001pt\; font-size: 11pt\; font-family: Calibri\, sans-serif\; color: rgb(32\, 31\, 30)\; text-align: center\;"><b><span style="margin: 0px\; padding: 0px\; border: 0px\; font-style: inherit\; font-variant: inherit\; font-weight: inherit\; font-stretch: inherit\; font-size: 14pt\; line-height: inherit\; font-family: inherit\; vertical-align: baseline\; color: inherit\;">Delegate Jennifer Carroll Foy</span></b></p>\n\n<p align="center" class="x_MsoNormal" style="margin: 0in 0in 0.0001pt\; font-size: 11pt\; font-family: Calibri\, sans-serif\; color: rgb(32\, 31\, 30)\; text-align: center\;"><b><span style="margin: 0px\; padding: 0px\; border: 0px\; font-style: inherit\; font-variant: inherit\; font-weight: inherit\; font-stretch: inherit\; font-size: 14pt\; line-height: inherit\; font-family: inherit\; vertical-align: baseline\; color: inherit\;">Delegate Buddy Fowler</span></b></p>\n\n<p align="center" class="x_MsoNormal" style="margin: 0in 0in 0.0001pt\; font-size: 11pt\; font-family: Calibri\, sans-serif\; color: rgb(32\, 31\, 30)\; text-align: center\;"><b><span style="margin: 0px\; padding: 0px\; border: 0px\; font-style: inherit\; font-variant: inherit\; font-weight: inherit\; font-stretch: inherit\; font-size: 14pt\; line-height: inherit\; font-family: inherit\; vertical-align: baseline\; color: inherit\;">Delegate John McGuire</span></b></p>\n\n<p align="center" class="x_MsoNormal" style="margin: 0in 0in 0.0001pt\; font-size: 11pt\; font-family: Calibri\, sans-serif\; color: rgb(32\, 31\, 30)\; text-align: center\;"><b><span style="margin: 0px\; padding: 0px\; border: 0px\; font-style: inherit\; font-variant: inherit\; font-weight: inherit\; font-stretch: inherit\; font-size: 14pt\; line-height: inherit\; font-family: inherit\; vertical-align: baseline\; color: inherit\;">&nbsp\;</span></b></p>\n\n<p align="center" class="x_MsoNormal" style="margin: 0in 0in 0.0001pt\; font-size: 11pt\; font-family: Calibri\, sans-serif\; color: rgb(32\, 31\, 30)\; text-align: center\;"><b><span style="margin: 0px\; padding: 0px\; border: 0px\; font-style: inherit\; font-variant: inherit\; font-weight: inherit\; font-stretch: inherit\; font-size: 14pt\; line-height: inherit\; font-family: inherit\; vertical-align: baseline\; color: inherit\;"><a data-auth="NotApplicable" href="http://members.fredericksburgchamber.org/events/details/let-s-chat-biz-and-bills-11249?range=60" rel="noopener noreferrer" style="margin: 0px\; padding: 0px\; border: 0px\; font: inherit\; vertical-align: baseline\; color: rgb(149\, 79\, 114)\;" target="_blank">Register Today!</a></span></b></p>\n
LOCATION:Zoom
UID:e.9458.3172
SEQUENCE:3
DTSTAMP:20260421T080359Z
URL:http://fabava.memberzone.com/events/details/let-s-chat-biz-and-bills-3172
END:VEVENT

END:VCALENDAR
