BEGIN:VCALENDAR
VERSION:2.0
PRODID:-//ChamberMaster//Event Calendar 2.0//EN
METHOD:PUBLISH
X-PUBLISHED-TTL:P3D
REFRESH-INTERVAL:P3D
CALSCALE:GREGORIAN
BEGIN:VEVENT
DTSTART:20200131T170000Z
DTEND:20200131T180000Z
X-MICROSOFT-CDO-ALLDAYEVENT:FALSE
SUMMARY:Legislative Update Conference Calls w/HBAV
DESCRIPTION:Make your voice heard!\n\n \n\nJoin us in the FABA Boardroom at NOON on Fridays during the VA General Assembly Session for a weekly conference call with our legislative advocates at HBAV (Home Builders Assoc. of Virginia). Get live updates proposed legislation that affect our Building Industry.\n\n \n\nThis is your chance to have a voice and ask questions.
X-ALT-DESC;FMTTYPE=text/html:<span style="font-size:22.0pt\;">Make your voice heard!</span><br />\n&nbsp\;<br />\n<span style="font-size:14.0pt\;">Join us in the FABA Boardroom at NOON on Fridays during the VA General Assembly Session for a weekly conference call with our legislative advocates at HBAV (Home Builders Assoc. of Virginia). Get live updates proposed legislation that affect our Building Industry.</span><br />\n&nbsp\;<br />\n<span style="font-size:14.0pt\;">This is your chance to have a voice and ask questions.&nbsp\;</span>
LOCATION:FABA Boardroom (contact FABA if you cannot attend but would like to be conferenced into the call)
UID:e.9458.3037
SEQUENCE:3
DTSTAMP:20260422T044732Z
URL:http://fabava.memberzone.com/events/details/legislative-update-conference-calls-w-hbav-01-31-2020-3037
END:VEVENT

END:VCALENDAR
