BEGIN:VCALENDAR
VERSION:2.0
PRODID:-//ChamberMaster//Event Calendar 2.0//EN
METHOD:PUBLISH
X-PUBLISHED-TTL:P3D
REFRESH-INTERVAL:P3D
CALSCALE:GREGORIAN
BEGIN:VEVENT
DTSTART:20220712T153000Z
DTEND:20220712T170000Z
X-MICROSOFT-CDO-ALLDAYEVENT:FALSE
SUMMARY:2022 - Construction Luncheon - Presented by The FABA Young Professionals
DESCRIPTION:Join the FABA Young Professionals for an educational opportunity and lunch. \n\nTickets are just $10.00 each and lunch is provided. The Construction Lunches will take place every other month on the 2nd Tuesday at the FABA office. \n\n\n\nThis month is all about networking! Learn from Randy Comer of Froehling & Robertson and Marty Johnson of J.U.M.P. Hang around after for the FABA 15th birthday party to meet even more of our members!\n\n\n\nThis month we will be learning all about networking! Get your tickets now!
X-ALT-DESC;FMTTYPE=text/html:Join the FABA Young Professionals for an educational opportunity and lunch.&nbsp\;<br />\nTickets are just $10.00 each and lunch is provided. The Construction Lunches will take place every other month on the 2nd Tuesday at the FABA office.&nbsp\;<br />\n<br />\nThis month is all about networking! Learn from&nbsp\;Randy Comer of Froehling &amp\; Robertson and Marty Johnson of J.U.M.P. Hang around after for the FABA 15th birthday party to meet even more of our members!<br />\n<br />\nThis month we will be learning all about networking! Get your tickets now!
LOCATION:The FABA Office 3006 Lafayette Blvd. Fredericksburg\, VA 22408
UID:e.9458.3610
SEQUENCE:3
DTSTAMP:20260419T180342Z
URL:http://fabava.memberzone.com/events/details/learning-lunch-series-presented-by-the-faba-young-professionals-07-12-2022-3610
END:VEVENT

END:VCALENDAR
