BEGIN:VCALENDAR
VERSION:2.0
PRODID:-//ChamberMaster//Event Calendar 2.0//EN
METHOD:PUBLISH
X-PUBLISHED-TTL:P3D
REFRESH-INTERVAL:P3D
CALSCALE:GREGORIAN
BEGIN:VEVENT
DTSTART:20191211T220000Z
DTEND:20191212T010000Z
X-MICROSOFT-CDO-ALLDAYEVENT:FALSE
SUMMARY:Holiday Party & December Hard Hat - 12/11/19
DESCRIPTION:Join us for a jolly good time at our Holiday Party & December Hard Hat at Riverside Center. Let's take this opportunity to celebrate the holiday season together. Attire is casual.\n\n\n\nGet ready for all of our FABAlous and goofy reindeer games\, including:\n\n- Ugly Sweater Contest (male and female)\n\n- Not-So-Ugly Holiday Sweater Contest (for the cute ones)\n\n- Ugly Tie Contest- Sharpest Holiday Tie Contest\n\n(Prizes will be awarded for the most FABAlous attire)\n\n\n\nFluff up your fun\, festive outfits and join us for the best Holiday Party & Hard Hat of the year - Wednesday\, December 11 from 5-8 pm at Riverside Center.\n\nBring your cellphones charged and ready for pictures! We will have a Holiday-themed Photo Booth set-up for your "selfie-games"\n\n\n\nTOYS FOR TOTS - Riverside Center is a drop off location for Toys for Tots   Help us help them make the holidays merry and bright for the kids! Bring a NEW UNWRAPPED TOY to contribute.\n\n\n\nThe FABA Holiday Party/December Hard Hat is sponsored by:\n\nB&F Ceramics\n\n Sanfio Designs\n\n Embrace Home Loans
X-ALT-DESC;FMTTYPE=text/html:<div data-block="true" data-editor="dcvav" data-offset-key="mpin-0-0">\n<div data-offset-key="mpin-0-0">\n<div data-block="true" data-editor="dcvav" data-offset-key="mpin-0-0">\n<p data-offset-key="mpin-0-0">Join us for a jolly good time at our Holiday Party &amp\; December Hard Hat at Riverside Center. Let&#39\;s take this opportunity to celebrate the holiday season together. Attire is casual.<br />\n<br />\nGet ready for all of our FABAlous and goofy reindeer games\, including:<br />\n- Ugly Sweater Contest (male and female)<br />\n- Not-So-Ugly Holiday Sweater Contest (for the cute ones)<br />\n- Ugly Tie Contest- Sharpest Holiday Tie Contest<br />\n(Prizes will be awarded for the most FABAlous attire)<br />\n<br />\nFluff up your fun\, festive outfits and join us for the best Holiday Party &amp\; Hard Hat of the year - Wednesday\, December 11 from 5-8 pm at Riverside Center.<br />\nBring your cellphones charged and ready for pictures! We will have a Holiday-themed Photo Booth set-up for your &quot\;selfie-games&quot\;<br />\n<br />\nTOYS FOR TOTS - Riverside Center is a drop off location for Toys for Tots &ndash\; Help us help them make the holidays merry and bright for the kids! Bring a NEW UNWRAPPED TOY to contribute.<br />\n<br />\nThe FABA Holiday Party/December Hard Hat is sponsored by:<br />\nB&amp\;F Ceramics<br />\n&#8203\;Sanfio Designs<br />\n&#8203\;Embrace Home Loans</p>\n</div>\n</div>\n</div>\n
LOCATION:Riverside Center 95 Riverside Parkway
UID:e.9458.2953
SEQUENCE:3
DTSTAMP:20260422T083831Z
URL:http://fabava.memberzone.com/events/details/holiday-party-december-hard-hat-12-11-19-2953
END:VEVENT

END:VCALENDAR
