BEGIN:VCALENDAR
VERSION:2.0
PRODID:-//ChamberMaster//Event Calendar 2.0//EN
METHOD:PUBLISH
X-PUBLISHED-TTL:P3D
REFRESH-INTERVAL:P3D
CALSCALE:GREGORIAN
BEGIN:VEVENT
DTSTART:20200805T160000Z
DTEND:20200805T220000Z
X-MICROSOFT-CDO-ALLDAYEVENT:FALSE
SUMMARY:HBAV "Stay the Course Golf" Invitational
DESCRIPTION:The HBAV Stay the Course Invitational is a golf tournament to support the mission of the Home Builders Association of Virginia. The tournament will be played at the famous River Course at Kingsmill Resort\, which hosts the LPGA Tour each year. The Stay the Course Invitational is a two person team\, best ball format. There will be a total of 28 two person teams playing in 14 foursomes. HBAV will be following all social distancing guidelines outlined by the CDC\, the VDH\, and Governor Northam. Each foursome will have a builder team and an associate team. Box Lunches and Awards Celebration are included in team registration fees.\n\n\n\nRegister here
X-ALT-DESC;FMTTYPE=text/html:<span style="color: rgb(102\, 102\, 102)\; font-family: &quot\;Open Sans&quot\;\, Helvetica\, Arial\, Lucida\, sans-serif\; font-size: 16px\;">The HBAV Stay the Course Invitational is a golf tournament to support the mission of the Home Builders Association of Virginia. The tournament will be played at the famous River Course at Kingsmill Resort\, which hosts the LPGA Tour each year. The Stay the Course Invitational is a two person team\, best ball format. There will be a total of 28 two person teams playing in 14 foursomes. HBAV will be following all social distancing guidelines outlined by the CDC\, the VDH\, and Governor Northam. Each foursome will have a builder team and an associate team. Box Lunches and Awards Celebration are included in team registration fees.<br />\n<br />\n<span style="font-size:24px\;"><a href="http://members.hbav.com/main-events/Details/stay-the-course-invitational-219156?sourceTypeId=Website">Register here</a></span></span>
LOCATION:
UID:e.9458.3114
SEQUENCE:3
DTSTAMP:20260421T143037Z
URL:http://fabava.memberzone.com/events/details/hbav-stay-the-course-golf-invitational-3114
END:VEVENT

END:VCALENDAR
