BEGIN:VCALENDAR
VERSION:2.0
PRODID:-//ChamberMaster//Event Calendar 2.0//EN
METHOD:PUBLISH
X-PUBLISHED-TTL:P3D
REFRESH-INTERVAL:P3D
CALSCALE:GREGORIAN
BEGIN:VEVENT
DTSTART:20200929T160000Z
DTEND:20200929T180000Z
X-MICROSOFT-CDO-ALLDAYEVENT:FALSE
SUMMARY:HBAV Inaugural Virginia Housing Excellence Awards Celebration
DESCRIPTION:HBAV Housing Excellence Awards Celebration\n\nAwards to recognize and highlight HBAV members who exemplify leadership\, engagement\, and dedication to the success of the HBA\, community\, and the Virginia building industry.\n\n\nAn awards night to recognize and highlight HBAV members who exemplify leadership\, engagement\, and dedication to the success of the HBA\, community\, and the Virginia building industry. \n\n\n\nRegister Here
X-ALT-DESC;FMTTYPE=text/html:<h1 style="box-sizing: border-box\; margin: 0px\; padding: 0px 0px 10px\; border: 0px\; outline: 0px\; background-image: initial\; background-position: 0px 0px\; background-size: initial\; background-repeat: initial\; background-attachment: initial\; background-origin: initial\; background-clip: initial\; font-size: 34px\; vertical-align: baseline\; text-size-adjust: 100%\; color: rgb(4\, 33\, 73)\; font-weight: 700\; line-height: 1.3em\; font-family: &quot\;Open Sans&quot\;\, Helvetica\, Arial\, Lucida\, sans-serif\; text-align: center\;">HBAV Housing Excellence Awards Celebration</h1>\n\n<p style="box-sizing: border-box\; margin: 0px\; padding: 0px\; border: 0px\; outline: 0px\; background-image: initial\; background-position: 0px 0px\; background-size: initial\; background-repeat: initial\; background-attachment: initial\; background-origin: initial\; background-clip: initial\; font-size: 16px\; vertical-align: baseline\; text-size-adjust: 100%\; color: rgb(102\, 102\, 102)\; font-family: &quot\;Open Sans&quot\;\, Helvetica\, Arial\, Lucida\, sans-serif\; text-align: center\;">Awards to recognize and highlight HBAV members who exemplify leadership\, engagement\, and dedication to the success of the HBA\, community\, and the Virginia building industry.</p>\n<br style="color: rgb(29\, 33\, 41)\; font-family: Helvetica\, Arial\, sans-serif\; font-size: 14px\; white-space: pre-wrap\;" />\n<span style="color: rgb(29\, 33\, 41)\; font-family: Helvetica\, Arial\, sans-serif\; font-size: 14px\; white-space: pre-wrap\;">An awards night to recognize and highlight HBAV members who exemplify leadership\, engagement\, and dedication to the success of the HBA\, community\, and the Virginia building industry. </span><br style="color: rgb(29\, 33\, 41)\; font-family: Helvetica\, Arial\, sans-serif\; font-size: 14px\; white-space: pre-wrap\;" />\n<br />\n<span style="font-size:18px\;"><a href="http://members.hbav.com/main-events/Details/virtual-housing-excellence-awards-143281?sourceTypeId=Website">Register Here</a></span>
LOCATION:Zoom
UID:e.9458.3084
SEQUENCE:3
DTSTAMP:20260421T143520Z
URL:http://fabava.memberzone.com/events/details/hbav-inaugural-virginia-housing-excellence-awards-celebration-3084
END:VEVENT

END:VCALENDAR
