BEGIN:VCALENDAR
VERSION:2.0
PRODID:-//ChamberMaster//Event Calendar 2.0//EN
METHOD:PUBLISH
X-PUBLISHED-TTL:P3D
REFRESH-INTERVAL:P3D
CALSCALE:GREGORIAN
BEGIN:VEVENT
DTSTART:20220421T160000Z
DTEND:20220421T170000Z
X-MICROSOFT-CDO-ALLDAYEVENT:FALSE
SUMMARY:HBAV-General Assembly Re-Cap Member Only Webinar
DESCRIPTION:Join HBAV's Vice President of Government Affairs\, Andrew Clark\, for a detailed re-cap of the 2022 General Assembly Session and legislation that will impact your business.
X-ALT-DESC;FMTTYPE=text/html:Join HBAV&#39\;s Vice President of Government Affairs\, Andrew Clark\, for a detailed re-cap of the 2022 General Assembly Session and legislation that will impact your business.&nbsp\;
LOCATION:Zoom-Virtual Webinar
UID:e.9458.3633
SEQUENCE:3
DTSTAMP:20260420T012331Z
URL:http://fabava.memberzone.com/events/details/hbav-general-assembly-re-cap-member-only-webinar-3633
END:VEVENT

END:VCALENDAR
