BEGIN:VCALENDAR
VERSION:2.0
PRODID:-//ChamberMaster//Event Calendar 2.0//EN
METHOD:PUBLISH
X-PUBLISHED-TTL:P3D
REFRESH-INTERVAL:P3D
CALSCALE:GREGORIAN
BEGIN:VEVENT
DTSTART;VALUE=DATE:20190622
DTEND;VALUE=DATE:20190623
TRANSP:TRANSPARENT
X-MICROSOFT-CDO-ALLDAYEVENT:TRUE
SUMMARY:HBAV Conference & Officer Installation (Dan Sandoval)
DESCRIPTION:HBAV Annual Conference and Officer Installtion\n\nFABA Member\, Dan Sandoval\, will be installed at HBAV President
X-ALT-DESC;FMTTYPE=text/html:HBAV Annual Conference and Officer Installtion<br />\nFABA Member\, Dan Sandoval\, will be installed at HBAV President
LOCATION:The Greenbrier Resort
UID:e.9458.2609
SEQUENCE:3
DTSTAMP:20260422T181152Z
URL:http://fabava.memberzone.com/events/details/hbav-conference-officer-installation-dan-sandoval-06-22-2019-2609
END:VEVENT

END:VCALENDAR
