BEGIN:VCALENDAR
VERSION:2.0
PRODID:-//ChamberMaster//Event Calendar 2.0//EN
METHOD:PUBLISH
X-PUBLISHED-TTL:P3D
REFRESH-INTERVAL:P3D
CALSCALE:GREGORIAN
BEGIN:VEVENT
DTSTART:20190919T130000Z
DTEND:20190919T200000Z
X-MICROSOFT-CDO-ALLDAYEVENT:FALSE
SUMMARY:HBAV Builder Summit and Expo
DESCRIPTION:VBS&E 2019\n\nCome and experience the Virginia Builders Summit & Expo\n\nNew Products and Services\n\nWill Feature 8 educational sessions and 50 exhibitors\n\nhttp://www.hbav.com/expo/\n\n\n\nContact 804-643-2797 for more information
X-ALT-DESC;FMTTYPE=text/html:VBS&amp\;E 2019<br />\nCome and experience the Virginia Builders Summit &amp\; Expo<br />\nNew Products and Services<br />\nWill Feature 8 educational sessions and 50 exhibitors<br />\n<a href="http://www.hbav.com/expo/">http://www.hbav.com/expo/</a><br />\n<br />\nContact 804-643-2797 for more information<br />\n&nbsp\;
LOCATION:Richmond Marriott Downtown 500 E Broad Street Richmond\, VA 23219
UID:e.9458.2869
SEQUENCE:3
DTSTAMP:20260422T114218Z
URL:http://fabava.memberzone.com/events/details/hbav-builder-summit-and-expo-2869
END:VEVENT

END:VCALENDAR
