BEGIN:VCALENDAR
VERSION:2.0
PRODID:-//ChamberMaster//Event Calendar 2.0//EN
METHOD:PUBLISH
X-PUBLISHED-TTL:P3D
REFRESH-INTERVAL:P3D
CALSCALE:GREGORIAN
BEGIN:VEVENT
DTSTART:20181018T210000Z
DTEND:20181018T230000Z
X-MICROSOFT-CDO-ALLDAYEVENT:FALSE
SUMMARY:Hard Hat Networking October 2018
DESCRIPTION:Join us for FABA's monthly Hard Hat networking social.\n\nHard Hat Networking is about building strong relationships and helping one another grow our businesses.\n\n\n\nIf you are a member of FABA or interested in becoming a member\, Hard Hat is a great way to get to know the people in your industry circle and build lasting\, loyal business relationships. For more information about FABA\, please feel free to contact us at (540) 898-2730.
X-ALT-DESC;FMTTYPE=text/html:<span style="color: rgb(29\, 33\, 41)\; font-family: Helvetica\, Arial\, sans-serif\; font-size: 14px\;">Join us for FABA&#39\;s monthly Hard Hat networking social.</span><br style="color: rgb(29\, 33\, 41)\; font-family: Helvetica\, Arial\, sans-serif\; font-size: 14px\;" />\n<span style="color: rgb(29\, 33\, 41)\; font-family: Helvetica\, Arial\, sans-serif\; font-size: 14px\;">Hard Hat Networking is about building strong relationships and helping one another grow our businesses.</span><br style="color: rgb(29\, 33\, 41)\; font-family: Helvetica\, Arial\, sans-serif\; font-size: 14px\;" />\n<br style="color: rgb(29\, 33\, 41)\; font-family: Helvetica\, Arial\, sans-serif\; font-size: 14px\;" />\n<span style="color: rgb(29\, 33\, 41)\; font-family: Helvetica\, Arial\, sans-serif\; font-size: 14px\;">If you are a member of FABA or interested in becoming a member\, Hard Hat is a great way to get to know the people in your industry circle and build lasting\, loyal business relationships. For more information about FABA\, please feel free to contact us at (540) 898-2730.</span>
LOCATION:Fredericksburg Country Club
UID:e.9458.2671
SEQUENCE:3
DTSTAMP:20260423T142021Z
URL:http://fabava.memberzone.com/events/details/hard-hat-networking-october-2018-2671
END:VEVENT

END:VCALENDAR
